Workbook

Sheet はじめに
A1: はじめにお読みください！
A3: ＊ | B3: データの入力は， ①【入力用シート】 ②【種目別選手一覧（様式５）】のリレー監督名 ③【参加申込集計表（県用）】の一部 無色部分のセルのみです。
A4: ＊ | B4: 【入力用シート】にデータを入力すると種目別一覧表，選手名簿，参加申込集計表にデータが入力されます。
A6: 入力手順と説明
A7: （１） | B7: 入力用シートの無色のセルにデータを入力してください。 男子の下に女子の入力欄があります。 所属名（学校名、クラブ名）はそのままプログラムに掲載されます。略称で入力してください。 種目の欄には県大会の順位を入力、種目別リレー（Ｒ）の欄には県大会１位チームで東北大会に登録するメンバーに１１～１７（女子は～１６）までの通し番号、同様に２位チームの選手は２１～の通し番号を入力してください。
A8: （２） | B8: 入力用シートへの入力が終わったら、リレー種目の種目別一覧表（様式５）に監督氏名を入力してください。
A9: （３） | B9: 【参加申込集計表（県用）】の所属名の欄に、出場校の所属名を入力してください。各チームの参加人数が自動的に入力されます。 この時、チーム名は【入力用シート】と一致させるようにしてください。
A10: （４） | B10: 【参加申込集計表（県用）】にプログラム冊数と種目別配付数を入力してください。
A11: （５） | B11: （１）～（４）までが終わったならば、様式４～様式７までのシートを印刷し、間違いないか確認してください。
A12: （６） | B12: 確認が済んだら、データファイルを大会事務局に送付してください。
B14: 《大会事務局》 送付先：E-mail：satou.masahiko@fcs.ed.jp 第６３回東北中学校スキー大会事務局 会津若松市立一箕中学校内 第６３回東北中学校スキー大会事務局（担当：佐藤 雅彦） 〒９６５-０００３ 福島県会津若松市一箕町大字八幡堰下７０ ℡０２４２－２２－２１１３ FAX ０２４２－３２－６４０３

Sheet 入力用シート
B1: 令和８年度東北中学校体育大会 第６３回東北中学校スキー大会 データ入力シート
C3: 県 名 | F3: 専門部委員長名
C4: 【 男 子 】
C5: 氏 名 | D5: フリガナ | E5: 所属名 | F5: フリガナ | G5: 学年 | H5: SAJ登録№ | I5: ＣＬ | J5: ＦＲ | K5: ＳＬ | L5: ＧＳ | M5: ＳＪ | N5: ＮＣ
B6: 例 | C6: 会津 一郎 | D6: アイヅ イチロウ | E6: 若松第一 | F6: ワカマツダイイチ | G6: 3 | H6: 01234567 | I6: 1 | J6: 3 | AE6: 青森 | AF6: 1 | AG6: 11 | AH6: 1
B7: 1 | AE7: 秋田 | AF7: 2 | AG7: 12 | AH7: 2
B8: 2 | AE8: 岩手 | AF8: 3 | AG8: 13 | AH8: 3
B9: 3 | AE9: 宮城 | AF9: 4 | AG9: 14
B10: 4 | AE10: 山形 | AF10: 5 | AG10: 15
B11: 5 | AE11: 福島 | AF11: 6 | AG11: 16
B12: 6 | AF12: 7 | AG12: 17
B13: 7 | AF13: 8 | AG13: 21
B14: 8 | AF14: 9 | AG14: 22
B15: 9 | AF15: 10 | AG15: 23
B16: 10 | AF16: 11 | AG16: 24
B17: 11 | AF17: 12 | AG17: 25
B18: 12 | AF18: 13 | AG18: 26
B19: 13 | AF19: 14 | AG19: 27
B20: 14 | AF20: 15 | AG20: 31
B21: 15 | AG21: 32
B22: 16 | AG22: 33
B23: 17 | AG23: 34
B24: 18 | AG24: 35
B25: 19 | AG25: 36
B26: 20 | AG26: 37
B27: 21
B28: 22
B29: 23
B30: 24
B31: 25
B32: 26
B33: 27
B34: 28
B35: 29
B36: 30
B37: 31
B38: 32
... B61: 55
C63: 【 女 子 】
C64: 氏 名 | D64: フリガナ | E64: 所属名 | F64: フリガナ | G64: 学年 | H64: SAJ登録№ | I64: ＣＬ | J64: ＦＲ | K64: ＳＬ | L64: ＧＳ | M64: ＳＪ | N64: ＮＣ | O64: Ｒ
...

Sheet 男・クラ④
U1: （様式４）
B2: 令和８年度東北中学校体育大会 第６３回東北中学校スキー大会
B3: 種 目 別 出 場 選 手 一 覧 表
C5: 県 名 | E5: =入力用シート!D3 -> 0 | I5: 県 | L5: 男子 | N5: ○ | P5: 女子 | T5: 共通
B7: ＣＬ | D7: ○ | J7: ＳＪ | R7: ＳＬ
B8: ＦＲ | J8: ＮＣ | R8: ＧＳ
B10: ランク | D10: フリガナ | I10: フリガナ | N10: 学年 | P10: ＳＡＪ競技者管理 | V10: 備考
D11: 所属名 | I11: 氏 名 | P11: 登録番号(アルペンのみ)
B12: １ | D12: {=IFERROR(INDEX(入力用シート!$C$7:$N$61,MATCH(1,入力用シート!$I$7:$I$61,0),4),"")} | I12: {=IFERROR(INDEX(入力用シート!$C$7:$N$61,MATCH(1,入力用シート!$I$7:$I$61,0),2),"")} | N12: {=IFERROR(INDEX(入力用シート!$C$7:$N$61,MATCH(1,入力用シート!$I$7:$I$61,0),5),"")} | P12: {=IFERROR(INDEX(入力用シート!$C$7:$N$61,MATCH(1,入力用シート!$I$7:$I$61,0),6),"")&""}
D13: {=IFERROR(INDEX(入力用シート!$C$7:$N$61,MATCH(1,入力用シート!$I$7:$I$61,0),3),"")} | I13: {=IFERROR(INDEX(入力用シート!$C$7:$N$61,MATCH(1,入力用シート!$I$7:$I$61,0),1),"")}
B15: ２ | D15: {=IFERROR(INDEX(入力用シート!$C$7:$N$61,MATCH(2,入力用シート!$I$7:$I$61,0),4),"")} | I15: {=IFERROR(INDEX(入力用シート!$C$7:$N$61,MATCH(2,入力用シート!$I$7:$I$61,0),2),"")} | N15: {=IFERROR(INDEX(入力用シート!$C$7:$N$61,MATCH(2,入力用シート!$I$7:$I$61,0),5),"")} | P15: {=IFERROR(INDEX(入力用シート!$C$7:$N$61,MATCH(2,入力用シート!$I$7:$I$61,0),6),"")&""}
D16: {=IFERROR(INDEX(入力用シート!$C$7:$N$61,MATCH(2,入力用シート!$I$7:$I$61,0),3),"")} | I16: {=IFERROR(INDEX(入力用シート!$C$7:$N$61,MATCH(2,入力用シート!$I$7:$I$61,0),1),"")}
B18: ３ | D18: {=IFERROR(INDEX(入力用シート!$C$7:$N$61,MATCH(3,入力用シート!$I$7:$I$61,0),4),"")} | I18: {=IFERROR(INDEX(入力用シート!$C$7:$N$61,MATCH(3,入力用シート!$I$7:$I$61,0),2),"")} | N18: {=IFERROR(INDEX(入力用シート!$C$7:$N$61,MATCH(3,入力用シート!$I$7:$I$61,0),5),"")} | P18: {=IFERROR(INDEX(入力用シート!$C$7:$N$61,MATCH(3,入力用シート!$I$7:$I$61,0),6),"")&""}
D19: {=IFERROR(INDEX(入力用シート!$C$7:$N$61,MATCH(3,入力用シート!$I$7:$I$61,0),3),"")} | I19: {=IFERROR(INDEX(入力用シート!$C$7:$N$61,MATCH(3,入力用シート!$I$7:$I$61,0),1),"")}
B21: ４ | D21: {=IFERROR(INDEX(入力用シート!$C$7:$N$61,MATCH(4,入力用シート!$I$7:$I$61,0),4),"")} | I21: {=IFERROR(INDEX(入力用シート!$C$7:$N$61,MATCH(4,入力用シート!$I$7:$I$61,0),2),"")} | N21: {=IFERROR(INDEX(入力用シート!$C$7:$N$61,MATCH(4,入力用シート!$I$7:$I$61,0),5),"")} | P21: {=IFERROR(INDEX(入力用シート!$C$7:$N$61,MATCH(4,入力用シート!$I$7:$I$61,0),6),"")&""}
D22: {=IFERROR(INDEX(入力用シート!$C$7:$N$61,MATCH(4,入力用シート!$I$7:$I$61,0),3),"")} | I22: {=IFERROR(INDEX(入力用シート!$C$7:$N$61,MATCH(4,入力用シート!$I$7:$I$61,0),1),"")}
B24: ５ | D24: {=IFERROR(INDEX(入力用シート!$C$7:$N$61,MATCH(5,入力用シート!$I$7:$I$61,0),4),"")} | I24: {=IFERROR(INDEX(入力用シート!$C$7:$N$61,MATCH(5,入力用シート!$I$7:$I$61,0),2),"")} | N24: {=IFERROR(INDEX(入力用シート!$C$7:$N$61,MATCH(5,入力用シート!$I$7:$I$61,0),5),"")} | P24: {=IFERROR(INDEX(入力用シート!$C$7:$N$61,MATCH(5,入力用シート!$I$7:$I$61,0),6),"")&""}
D25: {=IFERROR(INDEX(入力用シート!$C$7:$N$61,MATCH(5,入力用シート!$I$7:$I$61,0),3),"")} | I25: {=IFERROR(INDEX(入力用シート!$C$7:$N$61,MATCH(5,入力用シート!$I$7:$I$61,0),1),"")}
B27: ６ | D27: {=IFERROR(INDEX(入力用シート!$C$7:$N$61,MATCH(6,入力用シート!$I$7:$I$61,0),4),"")} | I27: {=IFERROR(INDEX(入力用シート!$C$7:$N$61,MATCH(6,入力用シート!$I$7:$I$61,0),2),"")} | N27: {=IFERROR(INDEX(入力用シート!$C$7:$N$61,MATCH(6,入力用シート!$I$7:$I$61,0),5),"")} | P27: {=IFERROR(INDEX(入力用シート!$C$7:$N$61,MATCH(6,入力用シート!$I$7:$I$61,0),6),"")&""}
D28: {=IFERROR(INDEX(入力用シート!$C$7:$N$61,MATCH(6,入力用シート!$I$7:$I$61,0),3),"")} | I28: {=IFERROR(INDEX(入力用シート!$C$7:$N$61,MATCH(6,入力用シート!$I$7:$I$61,0),1),"")}
B30: ７ | D30: {=IFERROR(INDEX(入力用シート!$C$7:$N$61,MATCH(7,入力用シート!$I$7:$I$61,0),4),"")} | I30: {=IFERROR(INDEX(入力用シート!$C$7:$N$61,MATCH(7,入力用シート!$I$7:$I$61,0),2),"")} | N30: {=IFERROR(INDEX(入力用シート!$C$7:$N$61,MATCH(7,入力用シート!$I$7:$I$61,0),5),"")} | P30: {=IFERROR(INDEX(入力用シート!$C$7:$N$61,MATCH(7,入力用シート!$I$7:$I$61,0),6),"")&""}
D31: {=IFERROR(INDEX(入力用シート!$C$7:$N$61,MATCH(7,入力用シート!$I$7:$I$61,0),3),"")} | I31: {=IFERROR(INDEX(入力用シート!$C$7:$N$61,MATCH(7,入力用シート!$I$7:$I$61,0),1),"")}
B33: ８ | D33: {=IFERROR(INDEX(入力用シート!$C$7:$N$61,MATCH(8,入力用シート!$I$7:$I$61,0),4),"")} | I33: {=IFERROR(INDEX(入力用シート!$C$7:$N$61,MATCH(8,入力用シート!$I$7:$I$61,0),2),"")} | N33: {=IFERROR(INDEX(入力用シート!$C$7:$N$61,MATCH(8,入力用シート!$I$7:$I$61,0),5),"")} | P33: {=IFERROR(INDEX(入力用シート!$C$7:$N$61,MATCH(8,入力用シート!$I$7:$I$61,0),6),"")&""}
D34: {=IFERROR(INDEX(入力用シート!$C$7:$N$61,MATCH(8,入力用シート!$I$7:$I$61,0),3),"")} | I34: {=IFERROR(INDEX(入力用シート!$C$7:$N$61,MATCH(8,入力用シート!$I$7:$I$61,0),1),"")}
B36: ９ | D36: {=IFERROR(INDEX(入力用シート!$C$7:$N$61,MATCH(9,入力用シート!$I$7:$I$61,0),4),"")} | I36: {=IFERROR(INDEX(入力用シート!$C$7:$N$61,MATCH(9,入力用シート!$I$7:$I$61,0),2),"")} | N36: {=IFERROR(INDEX(入力用シート!$C$7:$N$61,MATCH(9,入力用シート!$I$7:$I$61,0),5),"")} | P36: {=IFERROR(INDEX(入力用シート!$C$7:$N$61,MATCH(9,入力用シート!$I$7:$I$61,0),6),"")&""}
D37: {=IFERROR(INDEX(入力用シート!$C$7:$N$61,MATCH(9,入力用シート!$I$7:$I$61,0),3),"")} | I37: {=IFERROR(INDEX(入力用シート!$C$7:$N$61,MATCH(9,入力用シート!$I$7:$I$61,0),1),"")}
B39: １０ | D39: {=IFERROR(INDEX(入力用シート!$C$7:$N$61,MATCH(10,入力用シート!$I$7:$I$61,0),4),"")} | I39: {=IFERROR(INDEX(入力用シート!$C$7:$N$61,MATCH(10,入力用シート!$I$7:$I$61,0),2),"")} | N39: {=IFERROR(INDEX(入力用シート!$C$7:$N$61,MATCH(10,入力用シート!$I$7:$I$61,0),5),"")} | P39: {=IFERROR(INDEX(入力用シート!$C$7:$N$61,MATCH(10,入力用シート!$I$7:$I$61,0),6),"")&""}
D40: {=IFERROR(INDEX(入力用シート!$C$7:$N$61,MATCH(10,入力用シート!$I$7:$I$61,0),3),"")} | I40: {=IFERROR(INDEX(入力用シート!$C$7:$N$61,MATCH(10,入力用シート!$I$7:$I$61,0),1),"")}
B42: １１ | D42: {=IFERROR(INDEX(入力用シート!$C$7:$N$61,MATCH(11,入力用シート!$I$7:$I$61,0),4),"")} | I42: {=IFERROR(INDEX(入力用シート!$C$7:$N$61,MATCH(11,入力用シート!$I$7:$I$61,0),2),"")} | N42: {=IFERROR(INDEX(入力用シート!$C$7:$N$61,MATCH(11,入力用シート!$I$7:$I$61,0),5),"")} | P42: {=IFERROR(INDEX(入力用シート!$C$7:$N$61,MATCH(11,入力用シート!$I$7:$I$61,0),6),"")&""}
D43: {=IFERROR(INDEX(入力用シート!$C$7:$N$61,MATCH(11,入力用シート!$I$7:$I$61,0),3),"")} | I43: {=IFERROR(INDEX(入力用シート!$C$7:$N$61,MATCH(11,入力用シート!$I$7:$I$61,0),1),"")}
B45: １２ | D45: {=IFERROR(INDEX(入力用シート!$C$7:$N$61,MATCH(12,入力用シート!$I$7:$I$61,0),4),"")} | I45: {=IFERROR(INDEX(入力用シート!$C$7:$N$61,MATCH(12,入力用シート!$I$7:$I$61,0),2),"")} | N45: {=IFERROR(INDEX(入力用シート!$C$7:$N$61,MATCH(12,入力用シート!$I$7:$I$61,0),5),"")} | P45: {=IFERROR(INDEX(入力用シート!$C$7:$N$61,MATCH(12,入力用シート!$I$7:$I$61,0),6),"")&""}
D46: {=IFERROR(INDEX(入力用シート!$C$7:$N$61,MATCH(12,入力用シート!$I$7:$I$61,0),3),"")} | I46: {=IFERROR(INDEX(入力用シート!$C$7:$N$61,MATCH(12,入力用シート!$I$7:$I$61,0),1),"")}
B48: １３ | D48: {=IFERROR(INDEX(入力用シート!$C$7:$N$61,MATCH(13,入力用シート!$I$7:$I$61,0),4),"")} | I48: {=IFERROR(INDEX(入力用シート!$C$7:$N$61,MATCH(13,入力用シート!$I$7:$I$61,0),2),"")} | N48: {=IFERROR(INDEX(入力用シート!$C$7:$N$61,MATCH(13,入力用シート!$I$7:$I$61,0),5),"")} | P48: {=IFERROR(INDEX(入力用シート!$C$7:$N$61,MATCH(13,入力用シート!$I$7:$I$61,0),6),"")&""}
D49: {=IFERROR(INDEX(入力用シート!$C$7:$N$61,MATCH(13,入力用シート!$I$7:$I$61,0),3),"")} | I49: {=IFERROR(INDEX(入力用シート!$C$7:$N$61,MATCH(13,入力用シート!$I$7:$I$61,0),1),"")}
B51: １４ | D51: {=IFERROR(INDEX(入力用シート!$C$7:$N$61,MATCH(14,入力用シート!$I$7:$I$61,0),4),"")} | I51: {=IFERROR(INDEX(入力用シート!$C$7:$N$61,MATCH(14,入力用シート!$I$7:$I$61,0),2),"")} | N51: {=IFERROR(INDEX(入力用シート!$C$7:$N$61,MATCH(14,入力用シート!$I$7:$I$61,0),5),"")} | P51: {=IFERROR(INDEX(入力用シート!$C$7:$N$61,MATCH(14,入力用シート!$I$7:$I$61,0),6),"")&""}
D52: {=IFERROR(INDEX(入力用シート!$C$7:$N$61,MATCH(14,入力用シート!$I$7:$I$61,0),3),"")} | I52: {=IFERROR(INDEX(入力用シート!$C$7:$N$61,MATCH(14,入力用シート!$I$7:$I$61,0),1),"")}
B54: １５ | D54: {=IFERROR(INDEX(入力用シート!$C$7:$N$61,MATCH(15,入力用シート!$I$7:$I$61,0),4),"")} | I54: {=IFERROR(INDEX(入力用シート!$C$7:$N$61,MATCH(15,入力用シート!$I$7:$I$61,0),2),"")} | N54: {=IFERROR(INDEX(入力用シート!$C$7:$N$61,MATCH(15,入力用シート!$I$7:$I$61,0),5),"")} | P54: {=IFERROR(INDEX(入力用シート!$C$7:$N$61,MATCH(15,入力用シート!$I$7:$I$61,0),6),"")&""}
D55: {=IFERROR(INDEX(入力用シート!$C$7:$N$61,MATCH(15,入力用シート!$I$7:$I$61,0),3),"")} | I55: {=IFERROR(INDEX(入力用シート!$C$7:$N$61,MATCH(15,入力用シート!$I$7:$I$61,0),1),"")}
B57: ・必ずランク順に記入すること。
B58: ・男女別に記入すること。種目欄に○印を記入すること。
...

Sheet 男・フリー④
U1: （様式４）
B2: =男・クラ④!B2 -> 令和８年度東北中学校体育大会 第６３回東北中学校スキー大会
B3: 種 目 別 出 場 選 手 一 覧 表
C5: 県 名 | E5: =入力用シート!D3 -> 0 | I5: 県 | L5: 男子 | N5: ○ | P5: 女子 | T5: 共通
B7: ＣＬ | J7: ＳＪ | R7: ＳＬ
B8: ＦＲ | D8: ○ | J8: ＮＣ | R8: ＧＳ
B10: ランク | D10: フリガナ | I10: フリガナ | N10: 学年 | P10: ＳＡＪ競技者管理 | V10: 備考
D11: 所属名 | I11: 氏 名 | P11: 登録番号(アルペンのみ)
B12: 1 | D12: {=IFERROR(INDEX(入力用シート!$C$7:$N$61,MATCH(1,入力用シート!$J$7:$J$61,0),4),"")} | I12: {=IFERROR(INDEX(入力用シート!$C$7:$N$61,MATCH(1,入力用シート!$J$7:$J$61,0),2),"")} | N12: {=IFERROR(INDEX(入力用シート!$C$7:$N$61,MATCH(1,入力用シート!$J$7:$J$61,0),5),"")} | P12: {=IFERROR(INDEX(入力用シート!$C$7:$N$61,MATCH(1,入力用シート!$J$7:$J$61,0),6),"")&""}
D13: {=IFERROR(INDEX(入力用シート!$C$7:$N$61,MATCH(1,入力用シート!$J$7:$J$61,0),3),"")} | I13: {=IFERROR(INDEX(入力用シート!$C$7:$N$61,MATCH(1,入力用シート!$J$7:$J$61,0),1),"")}
B15: ２ | D15: {=IFERROR(INDEX(入力用シート!$C$7:$N$61,MATCH(2,入力用シート!$J$7:$J$61,0),4),"")} | I15: {=IFERROR(INDEX(入力用シート!$C$7:$N$61,MATCH(2,入力用シート!$J$7:$J$61,0),2),"")} | N15: {=IFERROR(INDEX(入力用シート!$C$7:$N$61,MATCH(2,入力用シート!$J$7:$J$61,0),5),"")} | P15: {=IFERROR(INDEX(入力用シート!$C$7:$N$61,MATCH(2,入力用シート!$J$7:$J$61,0),6),"")&""}
D16: {=IFERROR(INDEX(入力用シート!$C$7:$N$61,MATCH(2,入力用シート!$J$7:$J$61,0),3),"")} | I16: {=IFERROR(INDEX(入力用シート!$C$7:$N$61,MATCH(2,入力用シート!$J$7:$J$61,0),1),"")}
B18: ３ | D18: {=IFERROR(INDEX(入力用シート!$C$7:$N$61,MATCH(3,入力用シート!$J$7:$J$61,0),4),"")} | I18: {=IFERROR(INDEX(入力用シート!$C$7:$N$61,MATCH(3,入力用シート!$J$7:$J$61,0),2),"")} | N18: {=IFERROR(INDEX(入力用シート!$C$7:$N$61,MATCH(3,入力用シート!$J$7:$J$61,0),5),"")} | P18: {=IFERROR(INDEX(入力用シート!$C$7:$N$61,MATCH(3,入力用シート!$J$7:$J$61,0),6),"")&""}
D19: {=IFERROR(INDEX(入力用シート!$C$7:$N$61,MATCH(3,入力用シート!$J$7:$J$61,0),3),"")} | I19: {=IFERROR(INDEX(入力用シート!$C$7:$N$61,MATCH(3,入力用シート!$J$7:$J$61,0),1),"")}
B21: ４ | D21: {=IFERROR(INDEX(入力用シート!$C$7:$N$61,MATCH(4,入力用シート!$J$7:$J$61,0),4),"")} | I21: {=IFERROR(INDEX(入力用シート!$C$7:$N$61,MATCH(4,入力用シート!$J$7:$J$61,0),2),"")} | N21: {=IFERROR(INDEX(入力用シート!$C$7:$N$61,MATCH(4,入力用シート!$J$7:$J$61,0),5),"")} | P21: {=IFERROR(INDEX(入力用シート!$C$7:$N$61,MATCH(4,入力用シート!$J$7:$J$61,0),6),"")&""}
D22: {=IFERROR(INDEX(入力用シート!$C$7:$N$61,MATCH(4,入力用シート!$J$7:$J$61,0),3),"")} | I22: {=IFERROR(INDEX(入力用シート!$C$7:$N$61,MATCH(4,入力用シート!$J$7:$J$61,0),1),"")}
B24: ５ | D24: {=IFERROR(INDEX(入力用シート!$C$7:$N$61,MATCH(5,入力用シート!$J$7:$J$61,0),4),"")} | I24: {=IFERROR(INDEX(入力用シート!$C$7:$N$61,MATCH(5,入力用シート!$J$7:$J$61,0),2),"")} | N24: {=IFERROR(INDEX(入力用シート!$C$7:$N$61,MATCH(5,入力用シート!$J$7:$J$61,0),5),"")} | P24: {=IFERROR(INDEX(入力用シート!$C$7:$N$61,MATCH(5,入力用シート!$J$7:$J$61,0),6),"")&""}
D25: {=IFERROR(INDEX(入力用シート!$C$7:$N$61,MATCH(5,入力用シート!$J$7:$J$61,0),3),"")} | I25: {=IFERROR(INDEX(入力用シート!$C$7:$N$61,MATCH(5,入力用シート!$J$7:$J$61,0),1),"")}
B27: ６ | D27: {=IFERROR(INDEX(入力用シート!$C$7:$N$61,MATCH(6,入力用シート!$J$7:$J$61,0),4),"")} | I27: {=IFERROR(INDEX(入力用シート!$C$7:$N$61,MATCH(6,入力用シート!$J$7:$J$61,0),2),"")} | N27: {=IFERROR(INDEX(入力用シート!$C$7:$N$61,MATCH(6,入力用シート!$J$7:$J$61,0),5),"")} | P27: {=IFERROR(INDEX(入力用シート!$C$7:$N$61,MATCH(6,入力用シート!$J$7:$J$61,0),6),"")&""}
D28: {=IFERROR(INDEX(入力用シート!$C$7:$N$61,MATCH(6,入力用シート!$J$7:$J$61,0),3),"")} | I28: {=IFERROR(INDEX(入力用シート!$C$7:$N$61,MATCH(6,入力用シート!$J$7:$J$61,0),1),"")}
B30: ７ | D30: {=IFERROR(INDEX(入力用シート!$C$7:$N$61,MATCH(7,入力用シート!$J$7:$J$61,0),4),"")} | I30: {=IFERROR(INDEX(入力用シート!$C$7:$N$61,MATCH(7,入力用シート!$J$7:$J$61,0),2),"")} | N30: {=IFERROR(INDEX(入力用シート!$C$7:$N$61,MATCH(7,入力用シート!$J$7:$J$61,0),5),"")} | P30: {=IFERROR(INDEX(入力用シート!$C$7:$N$61,MATCH(7,入力用シート!$J$7:$J$61,0),6),"")&""}
D31: {=IFERROR(INDEX(入力用シート!$C$7:$N$61,MATCH(7,入力用シート!$J$7:$J$61,0),3),"")} | I31: {=IFERROR(INDEX(入力用シート!$C$7:$N$61,MATCH(7,入力用シート!$J$7:$J$61,0),1),"")}
B33: ８ | D33: {=IFERROR(INDEX(入力用シート!$C$7:$N$61,MATCH(8,入力用シート!$J$7:$J$61,0),4),"")} | I33: {=IFERROR(INDEX(入力用シート!$C$7:$N$61,MATCH(8,入力用シート!$J$7:$J$61,0),2),"")} | N33: {=IFERROR(INDEX(入力用シート!$C$7:$N$61,MATCH(8,入力用シート!$J$7:$J$61,0),5),"")} | P33: {=IFERROR(INDEX(入力用シート!$C$7:$N$61,MATCH(8,入力用シート!$J$7:$J$61,0),6),"")&""}
D34: {=IFERROR(INDEX(入力用シート!$C$7:$N$61,MATCH(8,入力用シート!$J$7:$J$61,0),3),"")} | I34: {=IFERROR(INDEX(入力用シート!$C$7:$N$61,MATCH(8,入力用シート!$J$7:$J$61,0),1),"")}
B36: ９ | D36: {=IFERROR(INDEX(入力用シート!$C$7:$N$61,MATCH(9,入力用シート!$J$7:$J$61,0),4),"")} | I36: {=IFERROR(INDEX(入力用シート!$C$7:$N$61,MATCH(9,入力用シート!$J$7:$J$61,0),2),"")} | N36: {=IFERROR(INDEX(入力用シート!$C$7:$N$61,MATCH(9,入力用シート!$J$7:$J$61,0),5),"")} | P36: {=IFERROR(INDEX(入力用シート!$C$7:$N$61,MATCH(9,入力用シート!$J$7:$J$61,0),6),"")&""}
D37: {=IFERROR(INDEX(入力用シート!$C$7:$N$61,MATCH(9,入力用シート!$J$7:$J$61,0),3),"")} | I37: {=IFERROR(INDEX(入力用シート!$C$7:$N$61,MATCH(9,入力用シート!$J$7:$J$61,0),1),"")}
B39: １０ | D39: {=IFERROR(INDEX(入力用シート!$C$7:$N$61,MATCH(10,入力用シート!$J$7:$J$61,0),4),"")} | I39: {=IFERROR(INDEX(入力用シート!$C$7:$N$61,MATCH(10,入力用シート!$J$7:$J$61,0),2),"")} | N39: {=IFERROR(INDEX(入力用シート!$C$7:$N$61,MATCH(10,入力用シート!$J$7:$J$61,0),5),"")} | P39: {=IFERROR(INDEX(入力用シート!$C$7:$N$61,MATCH(10,入力用シート!$J$7:$J$61,0),6),"")&""}
D40: {=IFERROR(INDEX(入力用シート!$C$7:$N$61,MATCH(10,入力用シート!$J$7:$J$61,0),3),"")} | I40: {=IFERROR(INDEX(入力用シート!$C$7:$N$61,MATCH(10,入力用シート!$J$7:$J$61,0),1),"")}
B42: １１ | D42: {=IFERROR(INDEX(入力用シート!$C$7:$N$61,MATCH(11,入力用シート!$J$7:$J$61,0),4),"")} | I42: {=IFERROR(INDEX(入力用シート!$C$7:$N$61,MATCH(11,入力用シート!$J$7:$J$61,0),2),"")} | N42: {=IFERROR(INDEX(入力用シート!$C$7:$N$61,MATCH(11,入力用シート!$J$7:$J$61,0),5),"")} | P42: {=IFERROR(INDEX(入力用シート!$C$7:$N$61,MATCH(11,入力用シート!$J$7:$J$61,0),6),"")&""}
D43: {=IFERROR(INDEX(入力用シート!$C$7:$N$61,MATCH(11,入力用シート!$J$7:$J$61,0),3),"")} | I43: {=IFERROR(INDEX(入力用シート!$C$7:$N$61,MATCH(11,入力用シート!$J$7:$J$61,0),1),"")}
B45: １２ | D45: {=IFERROR(INDEX(入力用シート!$C$7:$N$61,MATCH(12,入力用シート!$J$7:$J$61,0),4),"")} | I45: {=IFERROR(INDEX(入力用シート!$C$7:$N$61,MATCH(12,入力用シート!$J$7:$J$61,0),2),"")} | N45: {=IFERROR(INDEX(入力用シート!$C$7:$N$61,MATCH(12,入力用シート!$J$7:$J$61,0),5),"")} | P45: {=IFERROR(INDEX(入力用シート!$C$7:$N$61,MATCH(12,入力用シート!$J$7:$J$61,0),6),"")&""}
D46: {=IFERROR(INDEX(入力用シート!$C$7:$N$61,MATCH(12,入力用シート!$J$7:$J$61,0),3),"")} | I46: {=IFERROR(INDEX(入力用シート!$C$7:$N$61,MATCH(12,入力用シート!$J$7:$J$61,0),1),"")}
B48: １３ | D48: {=IFERROR(INDEX(入力用シート!$C$7:$N$61,MATCH(13,入力用シート!$J$7:$J$61,0),4),"")} | I48: {=IFERROR(INDEX(入力用シート!$C$7:$N$61,MATCH(13,入力用シート!$J$7:$J$61,0),2),"")} | N48: {=IFERROR(INDEX(入力用シート!$C$7:$N$61,MATCH(13,入力用シート!$J$7:$J$61,0),5),"")} | P48: {=IFERROR(INDEX(入力用シート!$C$7:$N$61,MATCH(13,入力用シート!$J$7:$J$61,0),6),"")&""}
D49: {=IFERROR(INDEX(入力用シート!$C$7:$N$61,MATCH(13,入力用シート!$J$7:$J$61,0),3),"")} | I49: {=IFERROR(INDEX(入力用シート!$C$7:$N$61,MATCH(13,入力用シート!$J$7:$J$61,0),1),"")}
B51: １４ | D51: {=IFERROR(INDEX(入力用シート!$C$7:$N$61,MATCH(14,入力用シート!$J$7:$J$61,0),4),"")} | I51: {=IFERROR(INDEX(入力用シート!$C$7:$N$61,MATCH(14,入力用シート!$J$7:$J$61,0),2),"")} | N51: {=IFERROR(INDEX(入力用シート!$C$7:$N$61,MATCH(14,入力用シート!$J$7:$J$61,0),5),"")} | P51: {=IFERROR(INDEX(入力用シート!$C$7:$N$61,MATCH(14,入力用シート!$J$7:$J$61,0),6),"")&""}
D52: {=IFERROR(INDEX(入力用シート!$C$7:$N$61,MATCH(14,入力用シート!$J$7:$J$61,0),3),"")} | I52: {=IFERROR(INDEX(入力用シート!$C$7:$N$61,MATCH(14,入力用シート!$J$7:$J$61,0),1),"")}
B54: １５ | D54: {=IFERROR(INDEX(入力用シート!$C$7:$N$61,MATCH(15,入力用シート!$J$7:$J$61,0),4),"")} | I54: {=IFERROR(INDEX(入力用シート!$C$7:$N$61,MATCH(15,入力用シート!$J$7:$J$61,0),2),"")} | N54: {=IFERROR(INDEX(入力用シート!$C$7:$N$61,MATCH(15,入力用シート!$J$7:$J$61,0),5),"")} | P54: {=IFERROR(INDEX(入力用シート!$C$7:$N$61,MATCH(15,入力用シート!$J$7:$J$61,0),6),"")&""}
D55: {=IFERROR(INDEX(入力用シート!$C$7:$N$61,MATCH(15,入力用シート!$J$7:$J$61,0),3),"")} | I55: {=IFERROR(INDEX(入力用シート!$C$7:$N$61,MATCH(15,入力用シート!$J$7:$J$61,0),1),"")}
B57: ・必ずランク順に記入すること。
B58: ・男女別に記入すること。種目欄に○印を記入すること。
...

Sheet 女・クラ④
U1: （様式４）
B2: =男・クラ④!B2 -> 令和８年度東北中学校体育大会 第６３回東北中学校スキー大会
B3: 種 目 別 出 場 選 手 一 覧 表
C5: 県 名 | E5: =入力用シート!D3 -> 0 | I5: 県 | L5: 男子 | P5: 女子 | R5: ○ | T5: 共通
B7: ＣＬ | D7: ○ | J7: ＳＪ | R7: ＳＬ
B8: ＦＲ | J8: ＮＣ | R8: ＧＳ
B10: ランク | D10: フリガナ | I10: フリガナ | N10: 学年 | P10: ＳＡＪ競技者管理 | V10: 備考
D11: 所属名 | I11: 氏 名 | P11: 登録番号(アルペンのみ)
B12: １ | D12: {=IFERROR(INDEX(入力用シート!$C$66:$N$105,MATCH(1,入力用シート!$I$66:$I$105,0),4),"")} | I12: {=IFERROR(INDEX(入力用シート!$C$66:$N$105,MATCH(1,入力用シート!$I$66:$I$105,0),2),"")} | N12: {=IFERROR(INDEX(入力用シート!$C$66:$N$105,MATCH(1,入力用シート!$I$66:$I$105,0),5),"")} | P12: {=IFERROR(INDEX(入力用シート!$C$66:$N$105,MATCH(1,入力用シート!$I$66:$I$105,0),6),"")&""}
D13: {=IFERROR(INDEX(入力用シート!$C$66:$N$105,MATCH(1,入力用シート!$I$66:$I$105,0),3),"")} | I13: {=IFERROR(INDEX(入力用シート!$C$66:$N$105,MATCH(1,入力用シート!$I$66:$I$105,0),1),"")}
B15: ２ | D15: {=IFERROR(INDEX(入力用シート!$C$66:$N$105,MATCH(2,入力用シート!$I$66:$I$105,0),4),"")} | I15: {=IFERROR(INDEX(入力用シート!$C$66:$N$105,MATCH(2,入力用シート!$I$66:$I$105,0),2),"")} | N15: {=IFERROR(INDEX(入力用シート!$C$66:$N$105,MATCH(2,入力用シート!$I$66:$I$105,0),5),"")} | P15: {=IFERROR(INDEX(入力用シート!$C$66:$N$105,MATCH(2,入力用シート!$I$66:$I$105,0),6),"")&""}
D16: {=IFERROR(INDEX(入力用シート!$C$66:$N$105,MATCH(2,入力用シート!$I$66:$I$105,0),3),"")} | I16: {=IFERROR(INDEX(入力用シート!$C$66:$N$105,MATCH(2,入力用シート!$I$66:$I$105,0),1),"")}
B18: ３ | D18: {=IFERROR(INDEX(入力用シート!$C$66:$N$105,MATCH(3,入力用シート!$I$66:$I$105,0),4),"")} | I18: {=IFERROR(INDEX(入力用シート!$C$66:$N$105,MATCH(3,入力用シート!$I$66:$I$105,0),2),"")} | N18: {=IFERROR(INDEX(入力用シート!$C$66:$N$105,MATCH(3,入力用シート!$I$66:$I$105,0),5),"")} | P18: {=IFERROR(INDEX(入力用シート!$C$66:$N$105,MATCH(3,入力用シート!$I$66:$I$105,0),6),"")&""}
D19: {=IFERROR(INDEX(入力用シート!$C$66:$N$105,MATCH(3,入力用シート!$I$66:$I$105,0),3),"")} | I19: {=IFERROR(INDEX(入力用シート!$C$66:$N$105,MATCH(3,入力用シート!$I$66:$I$105,0),1),"")}
B21: ４ | D21: {=IFERROR(INDEX(入力用シート!$C$66:$N$105,MATCH(4,入力用シート!$I$66:$I$105,0),4),"")} | I21: {=IFERROR(INDEX(入力用シート!$C$66:$N$105,MATCH(4,入力用シート!$I$66:$I$105,0),2),"")} | N21: {=IFERROR(INDEX(入力用シート!$C$66:$N$105,MATCH(4,入力用シート!$I$66:$I$105,0),5),"")} | P21: {=IFERROR(INDEX(入力用シート!$C$66:$N$105,MATCH(4,入力用シート!$I$66:$I$105,0),6),"")&""}
D22: {=IFERROR(INDEX(入力用シート!$C$66:$N$105,MATCH(4,入力用シート!$I$66:$I$105,0),3),"")} | I22: {=IFERROR(INDEX(入力用シート!$C$66:$N$105,MATCH(4,入力用シート!$I$66:$I$105,0),1),"")}
B24: ５ | D24: {=IFERROR(INDEX(入力用シート!$C$66:$N$105,MATCH(5,入力用シート!$I$66:$I$105,0),4),"")} | I24: {=IFERROR(INDEX(入力用シート!$C$66:$N$105,MATCH(5,入力用シート!$I$66:$I$105,0),2),"")} | N24: {=IFERROR(INDEX(入力用シート!$C$66:$N$105,MATCH(5,入力用シート!$I$66:$I$105,0),5),"")} | P24: {=IFERROR(INDEX(入力用シート!$C$66:$N$105,MATCH(5,入力用シート!$I$66:$I$105,0),6),"")&""}
D25: {=IFERROR(INDEX(入力用シート!$C$66:$N$105,MATCH(5,入力用シート!$I$66:$I$105,0),3),"")} | I25: {=IFERROR(INDEX(入力用シート!$C$66:$N$105,MATCH(5,入力用シート!$I$66:$I$105,0),1),"")}
B27: ６ | D27: {=IFERROR(INDEX(入力用シート!$C$66:$N$105,MATCH(6,入力用シート!$I$66:$I$105,0),4),"")} | I27: {=IFERROR(INDEX(入力用シート!$C$66:$N$105,MATCH(6,入力用シート!$I$66:$I$105,0),2),"")} | N27: {=IFERROR(INDEX(入力用シート!$C$66:$N$105,MATCH(6,入力用シート!$I$66:$I$105,0),5),"")} | P27: {=IFERROR(INDEX(入力用シート!$C$66:$N$105,MATCH(6,入力用シート!$I$66:$I$105,0),6),"")&""}
D28: {=IFERROR(INDEX(入力用シート!$C$66:$N$105,MATCH(6,入力用シート!$I$66:$I$105,0),3),"")} | I28: {=IFERROR(INDEX(入力用シート!$C$66:$N$105,MATCH(6,入力用シート!$I$66:$I$105,0),1),"")}
B30: ７ | D30: {=IFERROR(INDEX(入力用シート!$C$66:$N$105,MATCH(7,入力用シート!$I$66:$I$105,0),4),"")} | I30: {=IFERROR(INDEX(入力用シート!$C$66:$N$105,MATCH(7,入力用シート!$I$66:$I$105,0),2),"")} | N30: {=IFERROR(INDEX(入力用シート!$C$66:$N$105,MATCH(7,入力用シート!$I$66:$I$105,0),5),"")} | P30: {=IFERROR(INDEX(入力用シート!$C$66:$N$105,MATCH(7,入力用シート!$I$66:$I$105,0),6),"")&""}
D31: {=IFERROR(INDEX(入力用シート!$C$66:$N$105,MATCH(7,入力用シート!$I$66:$I$105,0),3),"")} | I31: {=IFERROR(INDEX(入力用シート!$C$66:$N$105,MATCH(7,入力用シート!$I$66:$I$105,0),1),"")}
B33: ８ | D33: {=IFERROR(INDEX(入力用シート!$C$66:$N$105,MATCH(8,入力用シート!$I$66:$I$105,0),4),"")} | I33: {=IFERROR(INDEX(入力用シート!$C$66:$N$105,MATCH(8,入力用シート!$I$66:$I$105,0),2),"")} | N33: {=IFERROR(INDEX(入力用シート!$C$66:$N$105,MATCH(8,入力用シート!$I$66:$I$105,0),5),"")} | P33: {=IFERROR(INDEX(入力用シート!$C$66:$N$105,MATCH(8,入力用シート!$I$66:$I$105,0),6),"")&""}
D34: {=IFERROR(INDEX(入力用シート!$C$66:$N$105,MATCH(8,入力用シート!$I$66:$I$105,0),3),"")} | I34: {=IFERROR(INDEX(入力用シート!$C$66:$N$105,MATCH(8,入力用シート!$I$66:$I$105,0),1),"")}
B36: ９ | D36: {=IFERROR(INDEX(入力用シート!$C$66:$N$105,MATCH(9,入力用シート!$I$66:$I$105,0),4),"")} | I36: {=IFERROR(INDEX(入力用シート!$C$66:$N$105,MATCH(9,入力用シート!$I$66:$I$105,0),2),"")} | N36: {=IFERROR(INDEX(入力用シート!$C$66:$N$105,MATCH(9,入力用シート!$I$66:$I$105,0),5),"")} | P36: {=IFERROR(INDEX(入力用シート!$C$66:$N$105,MATCH(9,入力用シート!$I$66:$I$105,0),6),"")&""}
D37: {=IFERROR(INDEX(入力用シート!$C$66:$N$105,MATCH(9,入力用シート!$I$66:$I$105,0),3),"")} | I37: {=IFERROR(INDEX(入力用シート!$C$66:$N$105,MATCH(9,入力用シート!$I$66:$I$105,0),1),"")}
B39: １０ | D39: {=IFERROR(INDEX(入力用シート!$C$66:$N$105,MATCH(10,入力用シート!$I$66:$I$105,0),4),"")} | I39: {=IFERROR(INDEX(入力用シート!$C$66:$N$105,MATCH(10,入力用シート!$I$66:$I$105,0),2),"")} | N39: {=IFERROR(INDEX(入力用シート!$C$66:$N$105,MATCH(10,入力用シート!$I$66:$I$105,0),5),"")} | P39: {=IFERROR(INDEX(入力用シート!$C$66:$N$105,MATCH(10,入力用シート!$I$66:$I$105,0),6),"")&""}
D40: {=IFERROR(INDEX(入力用シート!$C$66:$N$105,MATCH(10,入力用シート!$I$66:$I$105,0),3),"")} | I40: {=IFERROR(INDEX(入力用シート!$C$66:$N$105,MATCH(10,入力用シート!$I$66:$I$105,0),1),"")}
B42: １１ | D42: {=IFERROR(INDEX(入力用シート!$C$66:$N$105,MATCH(11,入力用シート!$I$66:$I$105,0),4),"")} | I42: {=IFERROR(INDEX(入力用シート!$C$66:$N$105,MATCH(11,入力用シート!$I$66:$I$105,0),2),"")} | N42: {=IFERROR(INDEX(入力用シート!$C$66:$N$105,MATCH(11,入力用シート!$I$66:$I$105,0),5),"")} | P42: {=IFERROR(INDEX(入力用シート!$C$66:$N$105,MATCH(11,入力用シート!$I$66:$I$105,0),6),"")&""}
D43: {=IFERROR(INDEX(入力用シート!$C$66:$N$105,MATCH(11,入力用シート!$I$66:$I$105,0),3),"")} | I43: {=IFERROR(INDEX(入力用シート!$C$66:$N$105,MATCH(11,入力用シート!$I$66:$I$105,0),1),"")}
B45: １２ | D45: {=IFERROR(INDEX(入力用シート!$C$66:$N$105,MATCH(12,入力用シート!$I$66:$I$105,0),4),"")} | I45: {=IFERROR(INDEX(入力用シート!$C$66:$N$105,MATCH(12,入力用シート!$I$66:$I$105,0),2),"")} | N45: {=IFERROR(INDEX(入力用シート!$C$66:$N$105,MATCH(12,入力用シート!$I$66:$I$105,0),5),"")} | P45: {=IFERROR(INDEX(入力用シート!$C$66:$N$105,MATCH(12,入力用シート!$I$66:$I$105,0),6),"")&""}
D46: {=IFERROR(INDEX(入力用シート!$C$66:$N$105,MATCH(12,入力用シート!$I$66:$I$105,0),3),"")} | I46: {=IFERROR(INDEX(入力用シート!$C$66:$N$105,MATCH(12,入力用シート!$I$66:$I$105,0),1),"")}
B48: １３ | D48: {=IFERROR(INDEX(入力用シート!$C$66:$N$105,MATCH(13,入力用シート!$I$66:$I$105,0),4),"")} | I48: {=IFERROR(INDEX(入力用シート!$C$66:$N$105,MATCH(13,入力用シート!$I$66:$I$105,0),2),"")} | N48: {=IFERROR(INDEX(入力用シート!$C$66:$N$105,MATCH(13,入力用シート!$I$66:$I$105,0),5),"")} | P48: {=IFERROR(INDEX(入力用シート!$C$66:$N$105,MATCH(13,入力用シート!$I$66:$I$105,0),6),"")&""}
D49: {=IFERROR(INDEX(入力用シート!$C$66:$N$105,MATCH(13,入力用シート!$I$66:$I$105,0),3),"")} | I49: {=IFERROR(INDEX(入力用シート!$C$66:$N$105,MATCH(13,入力用シート!$I$66:$I$105,0),1),"")}
B51: １４ | D51: {=IFERROR(INDEX(入力用シート!$C$66:$N$105,MATCH(14,入力用シート!$I$66:$I$105,0),4),"")} | I51: {=IFERROR(INDEX(入力用シート!$C$66:$N$105,MATCH(14,入力用シート!$I$66:$I$105,0),2),"")} | N51: {=IFERROR(INDEX(入力用シート!$C$66:$N$105,MATCH(14,入力用シート!$I$66:$I$105,0),5),"")} | P51: {=IFERROR(INDEX(入力用シート!$C$66:$N$105,MATCH(14,入力用シート!$I$66:$I$105,0),6),"")&""}
D52: {=IFERROR(INDEX(入力用シート!$C$66:$N$105,MATCH(14,入力用シート!$I$66:$I$105,0),3),"")} | I52: {=IFERROR(INDEX(入力用シート!$C$66:$N$105,MATCH(14,入力用シート!$I$66:$I$105,0),1),"")}
B54: １５ | D54: {=IFERROR(INDEX(入力用シート!$C$66:$N$105,MATCH(15,入力用シート!$I$66:$I$105,0),4),"")} | I54: {=IFERROR(INDEX(入力用シート!$C$66:$N$105,MATCH(15,入力用シート!$I$66:$I$105,0),2),"")} | N54: {=IFERROR(INDEX(入力用シート!$C$66:$N$105,MATCH(15,入力用シート!$I$66:$I$105,0),5),"")} | P54: {=IFERROR(INDEX(入力用シート!$C$66:$N$105,MATCH(15,入力用シート!$I$66:$I$105,0),6),"")&""}
D55: {=IFERROR(INDEX(入力用シート!$C$66:$N$105,MATCH(15,入力用シート!$I$66:$I$105,0),3),"")} | I55: {=IFERROR(INDEX(入力用シート!$C$66:$N$105,MATCH(15,入力用シート!$I$66:$I$105,0),1),"")}
B57: ・必ずランク順に記入すること。
B58: ・男女別に記入すること。種目欄に○印を記入すること。
...

Sheet 女・フリー④
U1: （様式４）
B2: =男・クラ④!B2 -> 令和８年度東北中学校体育大会 第６３回東北中学校スキー大会
B3: 種 目 別 出 場 選 手 一 覧 表
C5: 県 名 | E5: =入力用シート!D3 -> 0 | I5: 県 | L5: 男子 | P5: 女子 | R5: ○ | T5: 共通
B7: ＣＬ | J7: ＳＪ | R7: ＳＬ
B8: ＦＲ | D8: ○ | J8: ＮＣ | R8: ＧＳ
B10: ランク | D10: フリガナ | I10: フリガナ | N10: 学年 | P10: ＳＡＪ競技者管理 | V10: 備考
D11: 所属名 | I11: 氏 名 | P11: 登録番号(アルペンのみ)
B12: １ | D12: {=IFERROR(INDEX(入力用シート!$C$66:$N$105,MATCH(1,入力用シート!$J$66:$J$105,0),4),"")} | I12: {=IFERROR(INDEX(入力用シート!$C$66:$N$105,MATCH(1,入力用シート!$J$66:$J$105,0),2),"")} | N12: {=IFERROR(INDEX(入力用シート!$C$66:$N$105,MATCH(1,入力用シート!$J$66:$J$105,0),5),"")} | P12: {=IFERROR(INDEX(入力用シート!$C$66:$N$105,MATCH(1,入力用シート!$J$66:$J$105,0),6),"")&""}
D13: {=IFERROR(INDEX(入力用シート!$C$66:$N$105,MATCH(1,入力用シート!$J$66:$J$105,0),3),"")} | I13: {=IFERROR(INDEX(入力用シート!$C$66:$N$105,MATCH(1,入力用シート!$J$66:$J$105,0),1),"")}
B15: ２ | D15: {=IFERROR(INDEX(入力用シート!$C$66:$N$105,MATCH(2,入力用シート!$J$66:$J$105,0),4),"")} | I15: {=IFERROR(INDEX(入力用シート!$C$66:$N$105,MATCH(2,入力用シート!$J$66:$J$105,0),2),"")} | N15: {=IFERROR(INDEX(入力用シート!$C$66:$N$105,MATCH(2,入力用シート!$J$66:$J$105,0),5),"")} | P15: {=IFERROR(INDEX(入力用シート!$C$66:$N$105,MATCH(2,入力用シート!$J$66:$J$105,0),6),"")&""}
D16: {=IFERROR(INDEX(入力用シート!$C$66:$N$105,MATCH(2,入力用シート!$J$66:$J$105,0),3),"")} | I16: {=IFERROR(INDEX(入力用シート!$C$66:$N$105,MATCH(2,入力用シート!$J$66:$J$105,0),1),"")}
B18: ３ | D18: {=IFERROR(INDEX(入力用シート!$C$66:$N$105,MATCH(3,入力用シート!$J$66:$J$105,0),4),"")} | I18: {=IFERROR(INDEX(入力用シート!$C$66:$N$105,MATCH(3,入力用シート!$J$66:$J$105,0),2),"")} | N18: {=IFERROR(INDEX(入力用シート!$C$66:$N$105,MATCH(3,入力用シート!$J$66:$J$105,0),5),"")} | P18: {=IFERROR(INDEX(入力用シート!$C$66:$N$105,MATCH(3,入力用シート!$J$66:$J$105,0),6),"")&""}
D19: {=IFERROR(INDEX(入力用シート!$C$66:$N$105,MATCH(3,入力用シート!$J$66:$J$105,0),3),"")} | I19: {=IFERROR(INDEX(入力用シート!$C$66:$N$105,MATCH(3,入力用シート!$J$66:$J$105,0),1),"")}
B21: ４ | D21: {=IFERROR(INDEX(入力用シート!$C$66:$N$105,MATCH(4,入力用シート!$J$66:$J$105,0),4),"")} | I21: {=IFERROR(INDEX(入力用シート!$C$66:$N$105,MATCH(4,入力用シート!$J$66:$J$105,0),2),"")} | N21: {=IFERROR(INDEX(入力用シート!$C$66:$N$105,MATCH(4,入力用シート!$J$66:$J$105,0),5),"")} | P21: {=IFERROR(INDEX(入力用シート!$C$66:$N$105,MATCH(4,入力用シート!$J$66:$J$105,0),6),"")&""}
D22: {=IFERROR(INDEX(入力用シート!$C$66:$N$105,MATCH(4,入力用シート!$J$66:$J$105,0),3),"")} | I22: {=IFERROR(INDEX(入力用シート!$C$66:$N$105,MATCH(4,入力用シート!$J$66:$J$105,0),1),"")}
B24: ５ | D24: {=IFERROR(INDEX(入力用シート!$C$66:$N$105,MATCH(5,入力用シート!$J$66:$J$105,0),4),"")} | I24: {=IFERROR(INDEX(入力用シート!$C$66:$N$105,MATCH(5,入力用シート!$J$66:$J$105,0),2),"")} | N24: {=IFERROR(INDEX(入力用シート!$C$66:$N$105,MATCH(5,入力用シート!$J$66:$J$105,0),5),"")} | P24: {=IFERROR(INDEX(入力用シート!$C$66:$N$105,MATCH(5,入力用シート!$J$66:$J$105,0),6),"")&""}
D25: {=IFERROR(INDEX(入力用シート!$C$66:$N$105,MATCH(5,入力用シート!$J$66:$J$105,0),3),"")} | I25: {=IFERROR(INDEX(入力用シート!$C$66:$N$105,MATCH(5,入力用シート!$J$66:$J$105,0),1),"")}
B27: ６ | D27: {=IFERROR(INDEX(入力用シート!$C$66:$N$105,MATCH(6,入力用シート!$J$66:$J$105,0),4),"")} | I27: {=IFERROR(INDEX(入力用シート!$C$66:$N$105,MATCH(6,入力用シート!$J$66:$J$105,0),2),"")} | N27: {=IFERROR(INDEX(入力用シート!$C$66:$N$105,MATCH(6,入力用シート!$J$66:$J$105,0),5),"")} | P27: {=IFERROR(INDEX(入力用シート!$C$66:$N$105,MATCH(6,入力用シート!$J$66:$J$105,0),6),"")&""}
D28: {=IFERROR(INDEX(入力用シート!$C$66:$N$105,MATCH(6,入力用シート!$J$66:$J$105,0),3),"")} | I28: {=IFERROR(INDEX(入力用シート!$C$66:$N$105,MATCH(6,入力用シート!$J$66:$J$105,0),1),"")}
B30: ７ | D30: {=IFERROR(INDEX(入力用シート!$C$66:$N$105,MATCH(7,入力用シート!$J$66:$J$105,0),4),"")} | I30: {=IFERROR(INDEX(入力用シート!$C$66:$N$105,MATCH(7,入力用シート!$J$66:$J$105,0),2),"")} | N30: {=IFERROR(INDEX(入力用シート!$C$66:$N$105,MATCH(7,入力用シート!$J$66:$J$105,0),5),"")} | P30: {=IFERROR(INDEX(入力用シート!$C$66:$N$105,MATCH(7,入力用シート!$J$66:$J$105,0),6),"")&""}
D31: {=IFERROR(INDEX(入力用シート!$C$66:$N$105,MATCH(7,入力用シート!$J$66:$J$105,0),3),"")} | I31: {=IFERROR(INDEX(入力用シート!$C$66:$N$105,MATCH(7,入力用シート!$J$66:$J$105,0),1),"")}
B33: ８ | D33: {=IFERROR(INDEX(入力用シート!$C$66:$N$105,MATCH(8,入力用シート!$J$66:$J$105,0),4),"")} | I33: {=IFERROR(INDEX(入力用シート!$C$66:$N$105,MATCH(8,入力用シート!$J$66:$J$105,0),2),"")} | N33: {=IFERROR(INDEX(入力用シート!$C$66:$N$105,MATCH(8,入力用シート!$J$66:$J$105,0),5),"")} | P33: {=IFERROR(INDEX(入力用シート!$C$66:$N$105,MATCH(8,入力用シート!$J$66:$J$105,0),6),"")&""}
D34: {=IFERROR(INDEX(入力用シート!$C$66:$N$105,MATCH(8,入力用シート!$J$66:$J$105,0),3),"")} | I34: {=IFERROR(INDEX(入力用シート!$C$66:$N$105,MATCH(8,入力用シート!$J$66:$J$105,0),1),"")}
B36: ９ | D36: {=IFERROR(INDEX(入力用シート!$C$66:$N$105,MATCH(9,入力用シート!$J$66:$J$105,0),4),"")} | I36: {=IFERROR(INDEX(入力用シート!$C$66:$N$105,MATCH(9,入力用シート!$J$66:$J$105,0),2),"")} | N36: {=IFERROR(INDEX(入力用シート!$C$66:$N$105,MATCH(9,入力用シート!$J$66:$J$105,0),5),"")} | P36: {=IFERROR(INDEX(入力用シート!$C$66:$N$105,MATCH(9,入力用シート!$J$66:$J$105,0),6),"")&""}
D37: {=IFERROR(INDEX(入力用シート!$C$66:$N$105,MATCH(9,入力用シート!$J$66:$J$105,0),3),"")} | I37: {=IFERROR(INDEX(入力用シート!$C$66:$N$105,MATCH(9,入力用シート!$J$66:$J$105,0),1),"")}
B39: １０ | D39: {=IFERROR(INDEX(入力用シート!$C$66:$N$105,MATCH(10,入力用シート!$J$66:$J$105,0),4),"")} | I39: {=IFERROR(INDEX(入力用シート!$C$66:$N$105,MATCH(10,入力用シート!$J$66:$J$105,0),2),"")} | N39: {=IFERROR(INDEX(入力用シート!$C$66:$N$105,MATCH(10,入力用シート!$J$66:$J$105,0),5),"")} | P39: {=IFERROR(INDEX(入力用シート!$C$66:$N$105,MATCH(10,入力用シート!$J$66:$J$105,0),6),"")&""}
D40: {=IFERROR(INDEX(入力用シート!$C$66:$N$105,MATCH(10,入力用シート!$J$66:$J$105,0),3),"")} | I40: {=IFERROR(INDEX(入力用シート!$C$66:$N$105,MATCH(10,入力用シート!$J$66:$J$105,0),1),"")}
B42: １１ | D42: {=IFERROR(INDEX(入力用シート!$C$66:$N$105,MATCH(11,入力用シート!$J$66:$J$105,0),4),"")} | I42: {=IFERROR(INDEX(入力用シート!$C$66:$N$105,MATCH(11,入力用シート!$J$66:$J$105,0),2),"")} | N42: {=IFERROR(INDEX(入力用シート!$C$66:$N$105,MATCH(11,入力用シート!$J$66:$J$105,0),5),"")} | P42: {=IFERROR(INDEX(入力用シート!$C$66:$N$105,MATCH(11,入力用シート!$J$66:$J$105,0),6),"")&""}
D43: {=IFERROR(INDEX(入力用シート!$C$66:$N$105,MATCH(11,入力用シート!$J$66:$J$105,0),3),"")} | I43: {=IFERROR(INDEX(入力用シート!$C$66:$N$105,MATCH(11,入力用シート!$J$66:$J$105,0),1),"")}
B45: １２ | D45: {=IFERROR(INDEX(入力用シート!$C$66:$N$105,MATCH(12,入力用シート!$J$66:$J$105,0),4),"")} | I45: {=IFERROR(INDEX(入力用シート!$C$66:$N$105,MATCH(12,入力用シート!$J$66:$J$105,0),2),"")} | N45: {=IFERROR(INDEX(入力用シート!$C$66:$N$105,MATCH(12,入力用シート!$J$66:$J$105,0),5),"")} | P45: {=IFERROR(INDEX(入力用シート!$C$66:$N$105,MATCH(12,入力用シート!$J$66:$J$105,0),6),"")&""}
D46: {=IFERROR(INDEX(入力用シート!$C$66:$N$105,MATCH(12,入力用シート!$J$66:$J$105,0),3),"")} | I46: {=IFERROR(INDEX(入力用シート!$C$66:$N$105,MATCH(12,入力用シート!$J$66:$J$105,0),1),"")}
B48: １３ | D48: {=IFERROR(INDEX(入力用シート!$C$66:$N$105,MATCH(13,入力用シート!$J$66:$J$105,0),4),"")} | I48: {=IFERROR(INDEX(入力用シート!$C$66:$N$105,MATCH(13,入力用シート!$J$66:$J$105,0),2),"")} | N48: {=IFERROR(INDEX(入力用シート!$C$66:$N$105,MATCH(13,入力用シート!$J$66:$J$105,0),5),"")} | P48: {=IFERROR(INDEX(入力用シート!$C$66:$N$105,MATCH(13,入力用シート!$J$66:$J$105,0),6),"")&""}
D49: {=IFERROR(INDEX(入力用シート!$C$66:$N$105,MATCH(13,入力用シート!$J$66:$J$105,0),3),"")} | I49: {=IFERROR(INDEX(入力用シート!$C$66:$N$105,MATCH(13,入力用シート!$J$66:$J$105,0),1),"")}
B51: １４ | D51: {=IFERROR(INDEX(入力用シート!$C$66:$N$105,MATCH(14,入力用シート!$J$66:$J$105,0),4),"")} | I51: {=IFERROR(INDEX(入力用シート!$C$66:$N$105,MATCH(14,入力用シート!$J$66:$J$105,0),2),"")} | N51: {=IFERROR(INDEX(入力用シート!$C$66:$N$105,MATCH(14,入力用シート!$J$66:$J$105,0),5),"")} | P51: {=IFERROR(INDEX(入力用シート!$C$66:$N$105,MATCH(14,入力用シート!$J$66:$J$105,0),6),"")&""}
D52: {=IFERROR(INDEX(入力用シート!$C$66:$N$105,MATCH(14,入力用シート!$J$66:$J$105,0),3),"")} | I52: {=IFERROR(INDEX(入力用シート!$C$66:$N$105,MATCH(14,入力用シート!$J$66:$J$105,0),1),"")}
B54: １５ | D54: {=IFERROR(INDEX(入力用シート!$C$66:$N$105,MATCH(15,入力用シート!$J$66:$J$105,0),4),"")} | I54: {=IFERROR(INDEX(入力用シート!$C$66:$N$105,MATCH(15,入力用シート!$J$66:$J$105,0),2),"")} | N54: {=IFERROR(INDEX(入力用シート!$C$66:$N$105,MATCH(15,入力用シート!$J$66:$J$105,0),5),"")} | P54: {=IFERROR(INDEX(入力用シート!$C$66:$N$105,MATCH(15,入力用シート!$J$66:$J$105,0),6),"")&""}
D55: {=IFERROR(INDEX(入力用シート!$C$66:$N$105,MATCH(15,入力用シート!$J$66:$J$105,0),3),"")} | I55: {=IFERROR(INDEX(入力用シート!$C$66:$N$105,MATCH(15,入力用シート!$J$66:$J$105,0),1),"")}
B57: ・必ずランク順に記入すること。
B58: ・男女別に記入すること。種目欄に○印を記入すること。
...

Sheet 男・SL④
U1: （様式４）
B2: =男・クラ④!B2 -> 令和８年度東北中学校体育大会 第６３回東北中学校スキー大会
B3: 種 目 別 出 場 選 手 一 覧 表
C5: 県 名 | E5: =入力用シート!D3 -> 0 | I5: 県 | L5: 男子 | N5: ○ | P5: 女子 | T5: 共通
B7: ＣＬ | J7: ＳＪ | R7: ＳＬ | T7: ○
B8: ＦＲ | J8: ＮＣ | R8: ＧＳ
B10: ランク | D10: フリガナ | I10: フリガナ | N10: 学年 | P10: ＳＡＪ競技者管理 | V10: 備考
D11: 所属名 | I11: 氏 名 | P11: 登録番号(アルペンのみ)
B12: １ | D12: {=IFERROR(INDEX(入力用シート!$C$7:$N$61,MATCH(1,入力用シート!$K$7:$K$61,0),4),"")} | I12: {=IFERROR(INDEX(入力用シート!$C$7:$N$61,MATCH(1,入力用シート!$K$7:$K$61,0),2),"")} | N12: {=IFERROR(INDEX(入力用シート!$C$7:$N$61,MATCH(1,入力用シート!$K$7:$K$61,0),5),"")} | P12: {=IFERROR(INDEX(入力用シート!$C$7:$N$61,MATCH(1,入力用シート!$K$7:$K$61,0),6),"")&""}
D13: {=IFERROR(INDEX(入力用シート!$C$7:$N$61,MATCH(1,入力用シート!$K$7:$K$61,0),3),"")} | I13: {=IFERROR(INDEX(入力用シート!$C$7:$N$61,MATCH(1,入力用シート!$K$7:$K$61,0),1),"")}
B15: ２ | D15: {=IFERROR(INDEX(入力用シート!$C$7:$N$61,MATCH(2,入力用シート!$K$7:$K$61,0),4),"")} | I15: {=IFERROR(INDEX(入力用シート!$C$7:$N$61,MATCH(2,入力用シート!$K$7:$K$61,0),2),"")} | N15: {=IFERROR(INDEX(入力用シート!$C$7:$N$61,MATCH(2,入力用シート!$K$7:$K$61,0),5),"")} | P15: {=IFERROR(INDEX(入力用シート!$C$7:$N$61,MATCH(2,入力用シート!$K$7:$K$61,0),6),"")&""}
D16: {=IFERROR(INDEX(入力用シート!$C$7:$N$61,MATCH(2,入力用シート!$K$7:$K$61,0),3),"")} | I16: {=IFERROR(INDEX(入力用シート!$C$7:$N$61,MATCH(2,入力用シート!$K$7:$K$61,0),1),"")}
B18: ３ | D18: {=IFERROR(INDEX(入力用シート!$C$7:$N$61,MATCH(3,入力用シート!$K$7:$K$61,0),4),"")} | I18: {=IFERROR(INDEX(入力用シート!$C$7:$N$61,MATCH(3,入力用シート!$K$7:$K$61,0),2),"")} | N18: {=IFERROR(INDEX(入力用シート!$C$7:$N$61,MATCH(3,入力用シート!$K$7:$K$61,0),5),"")} | P18: {=IFERROR(INDEX(入力用シート!$C$7:$N$61,MATCH(3,入力用シート!$K$7:$K$61,0),6),"")&""}
D19: {=IFERROR(INDEX(入力用シート!$C$7:$N$61,MATCH(3,入力用シート!$K$7:$K$61,0),3),"")} | I19: {=IFERROR(INDEX(入力用シート!$C$7:$N$61,MATCH(3,入力用シート!$K$7:$K$61,0),1),"")}
B21: ４ | D21: {=IFERROR(INDEX(入力用シート!$C$7:$N$61,MATCH(4,入力用シート!$K$7:$K$61,0),4),"")} | I21: {=IFERROR(INDEX(入力用シート!$C$7:$N$61,MATCH(4,入力用シート!$K$7:$K$61,0),2),"")} | N21: {=IFERROR(INDEX(入力用シート!$C$7:$N$61,MATCH(4,入力用シート!$K$7:$K$61,0),5),"")} | P21: {=IFERROR(INDEX(入力用シート!$C$7:$N$61,MATCH(4,入力用シート!$K$7:$K$61,0),6),"")&""}
D22: {=IFERROR(INDEX(入力用シート!$C$7:$N$61,MATCH(4,入力用シート!$K$7:$K$61,0),3),"")} | I22: {=IFERROR(INDEX(入力用シート!$C$7:$N$61,MATCH(4,入力用シート!$K$7:$K$61,0),1),"")}
B24: ５ | D24: {=IFERROR(INDEX(入力用シート!$C$7:$N$61,MATCH(5,入力用シート!$K$7:$K$61,0),4),"")} | I24: {=IFERROR(INDEX(入力用シート!$C$7:$N$61,MATCH(5,入力用シート!$K$7:$K$61,0),2),"")} | N24: {=IFERROR(INDEX(入力用シート!$C$7:$N$61,MATCH(5,入力用シート!$K$7:$K$61,0),5),"")} | P24: {=IFERROR(INDEX(入力用シート!$C$7:$N$61,MATCH(5,入力用シート!$K$7:$K$61,0),6),"")&""}
D25: {=IFERROR(INDEX(入力用シート!$C$7:$N$61,MATCH(5,入力用シート!$K$7:$K$61,0),3),"")} | I25: {=IFERROR(INDEX(入力用シート!$C$7:$N$61,MATCH(5,入力用シート!$K$7:$K$61,0),1),"")}
B27: ６ | D27: {=IFERROR(INDEX(入力用シート!$C$7:$N$61,MATCH(6,入力用シート!$K$7:$K$61,0),4),"")} | I27: {=IFERROR(INDEX(入力用シート!$C$7:$N$61,MATCH(6,入力用シート!$K$7:$K$61,0),2),"")} | N27: {=IFERROR(INDEX(入力用シート!$C$7:$N$61,MATCH(6,入力用シート!$K$7:$K$61,0),5),"")} | P27: {=IFERROR(INDEX(入力用シート!$C$7:$N$61,MATCH(6,入力用シート!$K$7:$K$61,0),6),"")&""}
D28: {=IFERROR(INDEX(入力用シート!$C$7:$N$61,MATCH(6,入力用シート!$K$7:$K$61,0),3),"")} | I28: {=IFERROR(INDEX(入力用シート!$C$7:$N$61,MATCH(6,入力用シート!$K$7:$K$61,0),1),"")}
B30: ７ | D30: {=IFERROR(INDEX(入力用シート!$C$7:$N$61,MATCH(7,入力用シート!$K$7:$K$61,0),4),"")} | I30: {=IFERROR(INDEX(入力用シート!$C$7:$N$61,MATCH(7,入力用シート!$K$7:$K$61,0),2),"")} | N30: {=IFERROR(INDEX(入力用シート!$C$7:$N$61,MATCH(7,入力用シート!$K$7:$K$61,0),5),"")} | P30: {=IFERROR(INDEX(入力用シート!$C$7:$N$61,MATCH(7,入力用シート!$K$7:$K$61,0),6),"")&""}
D31: {=IFERROR(INDEX(入力用シート!$C$7:$N$61,MATCH(7,入力用シート!$K$7:$K$61,0),3),"")} | I31: {=IFERROR(INDEX(入力用シート!$C$7:$N$61,MATCH(7,入力用シート!$K$7:$K$61,0),1),"")}
B33: ８ | D33: {=IFERROR(INDEX(入力用シート!$C$7:$N$61,MATCH(8,入力用シート!$K$7:$K$61,0),4),"")} | I33: {=IFERROR(INDEX(入力用シート!$C$7:$N$61,MATCH(8,入力用シート!$K$7:$K$61,0),2),"")} | N33: {=IFERROR(INDEX(入力用シート!$C$7:$N$61,MATCH(8,入力用シート!$K$7:$K$61,0),5),"")} | P33: {=IFERROR(INDEX(入力用シート!$C$7:$N$61,MATCH(8,入力用シート!$K$7:$K$61,0),6),"")&""}
D34: {=IFERROR(INDEX(入力用シート!$C$7:$N$61,MATCH(8,入力用シート!$K$7:$K$61,0),3),"")} | I34: {=IFERROR(INDEX(入力用シート!$C$7:$N$61,MATCH(8,入力用シート!$K$7:$K$61,0),1),"")}
B36: ９ | D36: {=IFERROR(INDEX(入力用シート!$C$7:$N$61,MATCH(9,入力用シート!$K$7:$K$61,0),4),"")} | I36: {=IFERROR(INDEX(入力用シート!$C$7:$N$61,MATCH(9,入力用シート!$K$7:$K$61,0),2),"")} | N36: {=IFERROR(INDEX(入力用シート!$C$7:$N$61,MATCH(9,入力用シート!$K$7:$K$61,0),5),"")} | P36: {=IFERROR(INDEX(入力用シート!$C$7:$N$61,MATCH(9,入力用シート!$K$7:$K$61,0),6),"")&""}
D37: {=IFERROR(INDEX(入力用シート!$C$7:$N$61,MATCH(9,入力用シート!$K$7:$K$61,0),3),"")} | I37: {=IFERROR(INDEX(入力用シート!$C$7:$N$61,MATCH(9,入力用シート!$K$7:$K$61,0),1),"")}
B39: １０ | D39: {=IFERROR(INDEX(入力用シート!$C$7:$N$61,MATCH(10,入力用シート!$K$7:$K$61,0),4),"")} | I39: {=IFERROR(INDEX(入力用シート!$C$7:$N$61,MATCH(10,入力用シート!$K$7:$K$61,0),2),"")} | N39: {=IFERROR(INDEX(入力用シート!$C$7:$N$61,MATCH(10,入力用シート!$K$7:$K$61,0),5),"")} | P39: {=IFERROR(INDEX(入力用シート!$C$7:$N$61,MATCH(10,入力用シート!$K$7:$K$61,0),6),"")&""}
D40: {=IFERROR(INDEX(入力用シート!$C$7:$N$61,MATCH(10,入力用シート!$K$7:$K$61,0),3),"")} | I40: {=IFERROR(INDEX(入力用シート!$C$7:$N$61,MATCH(10,入力用シート!$K$7:$K$61,0),1),"")}
B42: １１ | D42: {=IFERROR(INDEX(入力用シート!$C$7:$N$61,MATCH(11,入力用シート!$K$7:$K$61,0),4),"")} | I42: {=IFERROR(INDEX(入力用シート!$C$7:$N$61,MATCH(11,入力用シート!$K$7:$K$61,0),2),"")} | N42: {=IFERROR(INDEX(入力用シート!$C$7:$N$61,MATCH(11,入力用シート!$K$7:$K$61,0),5),"")} | P42: {=IFERROR(INDEX(入力用シート!$C$7:$N$61,MATCH(11,入力用シート!$K$7:$K$61,0),6),"")&""}
D43: {=IFERROR(INDEX(入力用シート!$C$7:$N$61,MATCH(11,入力用シート!$K$7:$K$61,0),3),"")} | I43: {=IFERROR(INDEX(入力用シート!$C$7:$N$61,MATCH(11,入力用シート!$K$7:$K$61,0),1),"")}
B45: １２ | D45: {=IFERROR(INDEX(入力用シート!$C$7:$N$61,MATCH(12,入力用シート!$K$7:$K$61,0),4),"")} | I45: {=IFERROR(INDEX(入力用シート!$C$7:$N$61,MATCH(12,入力用シート!$K$7:$K$61,0),2),"")} | N45: {=IFERROR(INDEX(入力用シート!$C$7:$N$61,MATCH(12,入力用シート!$K$7:$K$61,0),5),"")} | P45: {=IFERROR(INDEX(入力用シート!$C$7:$N$61,MATCH(12,入力用シート!$K$7:$K$61,0),6),"")&""}
D46: {=IFERROR(INDEX(入力用シート!$C$7:$N$61,MATCH(12,入力用シート!$K$7:$K$61,0),3),"")} | I46: {=IFERROR(INDEX(入力用シート!$C$7:$N$61,MATCH(12,入力用シート!$K$7:$K$61,0),1),"")}
B48: １３ | D48: {=IFERROR(INDEX(入力用シート!$C$7:$N$61,MATCH(13,入力用シート!$K$7:$K$61,0),4),"")} | I48: {=IFERROR(INDEX(入力用シート!$C$7:$N$61,MATCH(13,入力用シート!$K$7:$K$61,0),2),"")} | N48: {=IFERROR(INDEX(入力用シート!$C$7:$N$61,MATCH(13,入力用シート!$K$7:$K$61,0),5),"")} | P48: {=IFERROR(INDEX(入力用シート!$C$7:$N$61,MATCH(13,入力用シート!$K$7:$K$61,0),6),"")&""}
D49: {=IFERROR(INDEX(入力用シート!$C$7:$N$61,MATCH(13,入力用シート!$K$7:$K$61,0),3),"")} | I49: {=IFERROR(INDEX(入力用シート!$C$7:$N$61,MATCH(13,入力用シート!$K$7:$K$61,0),1),"")}
B51: １４ | D51: {=IFERROR(INDEX(入力用シート!$C$7:$N$61,MATCH(14,入力用シート!$K$7:$K$61,0),4),"")} | I51: {=IFERROR(INDEX(入力用シート!$C$7:$N$61,MATCH(14,入力用シート!$K$7:$K$61,0),2),"")} | N51: {=IFERROR(INDEX(入力用シート!$C$7:$N$61,MATCH(14,入力用シート!$K$7:$K$61,0),5),"")} | P51: {=IFERROR(INDEX(入力用シート!$C$7:$N$61,MATCH(14,入力用シート!$K$7:$K$61,0),6),"")&""}
D52: {=IFERROR(INDEX(入力用シート!$C$7:$N$61,MATCH(14,入力用シート!$K$7:$K$61,0),3),"")} | I52: {=IFERROR(INDEX(入力用シート!$C$7:$N$61,MATCH(14,入力用シート!$K$7:$K$61,0),1),"")}
B54: １５ | D54: {=IFERROR(INDEX(入力用シート!$C$7:$N$61,MATCH(15,入力用シート!$K$7:$K$61,0),4),"")} | I54: {=IFERROR(INDEX(入力用シート!$C$7:$N$61,MATCH(15,入力用シート!$K$7:$K$61,0),2),"")} | N54: {=IFERROR(INDEX(入力用シート!$C$7:$N$61,MATCH(15,入力用シート!$K$7:$K$61,0),5),"")} | P54: {=IFERROR(INDEX(入力用シート!$C$7:$N$61,MATCH(15,入力用シート!$K$7:$K$61,0),6),"")&""}
D55: {=IFERROR(INDEX(入力用シート!$C$7:$N$61,MATCH(15,入力用シート!$K$7:$K$61,0),3),"")} | I55: {=IFERROR(INDEX(入力用シート!$C$7:$N$61,MATCH(15,入力用シート!$K$7:$K$61,0),1),"")}
B57: ・必ずランク順に記入すること。
B58: ・男女別に記入すること。種目欄に○印を記入すること。
...

Sheet 男・GS④
U1: （様式４）
B2: =男・クラ④!B2 -> 令和８年度東北中学校体育大会 第６３回東北中学校スキー大会
B3: 種 目 別 出 場 選 手 一 覧 表
C5: 県 名 | E5: =入力用シート!D3 -> 0 | I5: 県 | L5: 男子 | N5: ○ | P5: 女子 | T5: 共通
B7: ＣＬ | J7: ＳＪ | R7: ＳＬ
B8: ＦＲ | J8: ＮＣ | R8: ＧＳ | T8: ○
B10: ランク | D10: フリガナ | I10: フリガナ | N10: 学年 | P10: ＳＡＪ競技者管理 | V10: 備考
D11: 所属名 | I11: 氏 名 | P11: 登録番号(アルペンのみ)
B12: １ | D12: {=IFERROR(INDEX(入力用シート!$C$7:$N$61,MATCH(1,入力用シート!$L$7:$L$61,0),4),"")} | I12: {=IFERROR(INDEX(入力用シート!$C$7:$N$61,MATCH(1,入力用シート!$L$7:$L$61,0),2),"")} | N12: {=IFERROR(INDEX(入力用シート!$C$7:$N$61,MATCH(1,入力用シート!$L$7:$L$61,0),5),"")} | P12: {=IFERROR(INDEX(入力用シート!$C$7:$N$61,MATCH(1,入力用シート!$L$7:$L$61,0),6),"")&""}
D13: {=IFERROR(INDEX(入力用シート!$C$7:$N$61,MATCH(1,入力用シート!$L$7:$L$61,0),3),"")} | I13: {=IFERROR(INDEX(入力用シート!$C$7:$N$61,MATCH(1,入力用シート!$L$7:$L$61,0),1),"")}
B15: ２ | D15: {=IFERROR(INDEX(入力用シート!$C$7:$N$61,MATCH(2,入力用シート!$L$7:$L$61,0),4),"")} | I15: {=IFERROR(INDEX(入力用シート!$C$7:$N$61,MATCH(2,入力用シート!$L$7:$L$61,0),2),"")} | N15: {=IFERROR(INDEX(入力用シート!$C$7:$N$61,MATCH(2,入力用シート!$L$7:$L$61,0),5),"")} | P15: {=IFERROR(INDEX(入力用シート!$C$7:$N$61,MATCH(2,入力用シート!$L$7:$L$61,0),6),"")&""}
D16: {=IFERROR(INDEX(入力用シート!$C$7:$N$61,MATCH(2,入力用シート!$L$7:$L$61,0),3),"")} | I16: {=IFERROR(INDEX(入力用シート!$C$7:$N$61,MATCH(2,入力用シート!$L$7:$L$61,0),1),"")}
B18: ３ | D18: {=IFERROR(INDEX(入力用シート!$C$7:$N$61,MATCH(3,入力用シート!$L$7:$L$61,0),4),"")} | I18: {=IFERROR(INDEX(入力用シート!$C$7:$N$61,MATCH(3,入力用シート!$L$7:$L$61,0),2),"")} | N18: {=IFERROR(INDEX(入力用シート!$C$7:$N$61,MATCH(3,入力用シート!$L$7:$L$61,0),5),"")} | P18: {=IFERROR(INDEX(入力用シート!$C$7:$N$61,MATCH(3,入力用シート!$L$7:$L$61,0),6),"")&""}
D19: {=IFERROR(INDEX(入力用シート!$C$7:$N$61,MATCH(3,入力用シート!$L$7:$L$61,0),3),"")} | I19: {=IFERROR(INDEX(入力用シート!$C$7:$N$61,MATCH(3,入力用シート!$L$7:$L$61,0),1),"")}
B21: ４ | D21: {=IFERROR(INDEX(入力用シート!$C$7:$N$61,MATCH(4,入力用シート!$L$7:$L$61,0),4),"")} | I21: {=IFERROR(INDEX(入力用シート!$C$7:$N$61,MATCH(4,入力用シート!$L$7:$L$61,0),2),"")} | N21: {=IFERROR(INDEX(入力用シート!$C$7:$N$61,MATCH(4,入力用シート!$L$7:$L$61,0),5),"")} | P21: {=IFERROR(INDEX(入力用シート!$C$7:$N$61,MATCH(4,入力用シート!$L$7:$L$61,0),6),"")&""}
D22: {=IFERROR(INDEX(入力用シート!$C$7:$N$61,MATCH(4,入力用シート!$L$7:$L$61,0),3),"")} | I22: {=IFERROR(INDEX(入力用シート!$C$7:$N$61,MATCH(4,入力用シート!$L$7:$L$61,0),1),"")}
B24: ５ | D24: {=IFERROR(INDEX(入力用シート!$C$7:$N$61,MATCH(5,入力用シート!$L$7:$L$61,0),4),"")} | I24: {=IFERROR(INDEX(入力用シート!$C$7:$N$61,MATCH(5,入力用シート!$L$7:$L$61,0),2),"")} | N24: {=IFERROR(INDEX(入力用シート!$C$7:$N$61,MATCH(5,入力用シート!$L$7:$L$61,0),5),"")} | P24: {=IFERROR(INDEX(入力用シート!$C$7:$N$61,MATCH(5,入力用シート!$L$7:$L$61,0),6),"")&""}
D25: {=IFERROR(INDEX(入力用シート!$C$7:$N$61,MATCH(5,入力用シート!$L$7:$L$61,0),3),"")} | I25: {=IFERROR(INDEX(入力用シート!$C$7:$N$61,MATCH(5,入力用シート!$L$7:$L$61,0),1),"")}
B27: ６ | D27: {=IFERROR(INDEX(入力用シート!$C$7:$N$61,MATCH(6,入力用シート!$L$7:$L$61,0),4),"")} | I27: {=IFERROR(INDEX(入力用シート!$C$7:$N$61,MATCH(6,入力用シート!$L$7:$L$61,0),2),"")} | N27: {=IFERROR(INDEX(入力用シート!$C$7:$N$61,MATCH(6,入力用シート!$L$7:$L$61,0),5),"")} | P27: {=IFERROR(INDEX(入力用シート!$C$7:$N$61,MATCH(6,入力用シート!$L$7:$L$61,0),6),"")&""}
D28: {=IFERROR(INDEX(入力用シート!$C$7:$N$61,MATCH(6,入力用シート!$L$7:$L$61,0),3),"")} | I28: {=IFERROR(INDEX(入力用シート!$C$7:$N$61,MATCH(6,入力用シート!$L$7:$L$61,0),1),"")}
B30: ７ | D30: {=IFERROR(INDEX(入力用シート!$C$7:$N$61,MATCH(7,入力用シート!$L$7:$L$61,0),4),"")} | I30: {=IFERROR(INDEX(入力用シート!$C$7:$N$61,MATCH(7,入力用シート!$L$7:$L$61,0),2),"")} | N30: {=IFERROR(INDEX(入力用シート!$C$7:$N$61,MATCH(7,入力用シート!$L$7:$L$61,0),5),"")} | P30: {=IFERROR(INDEX(入力用シート!$C$7:$N$61,MATCH(7,入力用シート!$L$7:$L$61,0),6),"")&""}
D31: {=IFERROR(INDEX(入力用シート!$C$7:$N$61,MATCH(7,入力用シート!$L$7:$L$61,0),3),"")} | I31: {=IFERROR(INDEX(入力用シート!$C$7:$N$61,MATCH(7,入力用シート!$L$7:$L$61,0),1),"")}
B33: ８ | D33: {=IFERROR(INDEX(入力用シート!$C$7:$N$61,MATCH(8,入力用シート!$L$7:$L$61,0),4),"")} | I33: {=IFERROR(INDEX(入力用シート!$C$7:$N$61,MATCH(8,入力用シート!$L$7:$L$61,0),2),"")} | N33: {=IFERROR(INDEX(入力用シート!$C$7:$N$61,MATCH(8,入力用シート!$L$7:$L$61,0),5),"")} | P33: {=IFERROR(INDEX(入力用シート!$C$7:$N$61,MATCH(8,入力用シート!$L$7:$L$61,0),6),"")&""}
D34: {=IFERROR(INDEX(入力用シート!$C$7:$N$61,MATCH(8,入力用シート!$L$7:$L$61,0),3),"")} | I34: {=IFERROR(INDEX(入力用シート!$C$7:$N$61,MATCH(8,入力用シート!$L$7:$L$61,0),1),"")}
B36: ９ | D36: {=IFERROR(INDEX(入力用シート!$C$7:$N$61,MATCH(9,入力用シート!$L$7:$L$61,0),4),"")} | I36: {=IFERROR(INDEX(入力用シート!$C$7:$N$61,MATCH(9,入力用シート!$L$7:$L$61,0),2),"")} | N36: {=IFERROR(INDEX(入力用シート!$C$7:$N$61,MATCH(9,入力用シート!$L$7:$L$61,0),5),"")} | P36: {=IFERROR(INDEX(入力用シート!$C$7:$N$61,MATCH(9,入力用シート!$L$7:$L$61,0),6),"")&""}
D37: {=IFERROR(INDEX(入力用シート!$C$7:$N$61,MATCH(9,入力用シート!$L$7:$L$61,0),3),"")} | I37: {=IFERROR(INDEX(入力用シート!$C$7:$N$61,MATCH(9,入力用シート!$L$7:$L$61,0),1),"")}
B39: １０ | D39: {=IFERROR(INDEX(入力用シート!$C$7:$N$61,MATCH(10,入力用シート!$L$7:$L$61,0),4),"")} | I39: {=IFERROR(INDEX(入力用シート!$C$7:$N$61,MATCH(10,入力用シート!$L$7:$L$61,0),2),"")} | N39: {=IFERROR(INDEX(入力用シート!$C$7:$N$61,MATCH(10,入力用シート!$L$7:$L$61,0),5),"")} | P39: {=IFERROR(INDEX(入力用シート!$C$7:$N$61,MATCH(10,入力用シート!$L$7:$L$61,0),6),"")&""}
D40: {=IFERROR(INDEX(入力用シート!$C$7:$N$61,MATCH(10,入力用シート!$L$7:$L$61,0),3),"")} | I40: {=IFERROR(INDEX(入力用シート!$C$7:$N$61,MATCH(10,入力用シート!$L$7:$L$61,0),1),"")}
B42: １１ | D42: {=IFERROR(INDEX(入力用シート!$C$7:$N$61,MATCH(11,入力用シート!$L$7:$L$61,0),4),"")} | I42: {=IFERROR(INDEX(入力用シート!$C$7:$N$61,MATCH(11,入力用シート!$L$7:$L$61,0),2),"")} | N42: {=IFERROR(INDEX(入力用シート!$C$7:$N$61,MATCH(11,入力用シート!$L$7:$L$61,0),5),"")} | P42: {=IFERROR(INDEX(入力用シート!$C$7:$N$61,MATCH(11,入力用シート!$L$7:$L$61,0),6),"")&""}
D43: {=IFERROR(INDEX(入力用シート!$C$7:$N$61,MATCH(11,入力用シート!$L$7:$L$61,0),3),"")} | I43: {=IFERROR(INDEX(入力用シート!$C$7:$N$61,MATCH(11,入力用シート!$L$7:$L$61,0),1),"")}
B45: １２ | D45: {=IFERROR(INDEX(入力用シート!$C$7:$N$61,MATCH(12,入力用シート!$L$7:$L$61,0),4),"")} | I45: {=IFERROR(INDEX(入力用シート!$C$7:$N$61,MATCH(12,入力用シート!$L$7:$L$61,0),2),"")} | N45: {=IFERROR(INDEX(入力用シート!$C$7:$N$61,MATCH(12,入力用シート!$L$7:$L$61,0),5),"")} | P45: {=IFERROR(INDEX(入力用シート!$C$7:$N$61,MATCH(12,入力用シート!$L$7:$L$61,0),6),"")&""}
D46: {=IFERROR(INDEX(入力用シート!$C$7:$N$61,MATCH(12,入力用シート!$L$7:$L$61,0),3),"")} | I46: {=IFERROR(INDEX(入力用シート!$C$7:$N$61,MATCH(12,入力用シート!$L$7:$L$61,0),1),"")}
B48: １３ | D48: {=IFERROR(INDEX(入力用シート!$C$7:$N$61,MATCH(13,入力用シート!$L$7:$L$61,0),4),"")} | I48: {=IFERROR(INDEX(入力用シート!$C$7:$N$61,MATCH(13,入力用シート!$L$7:$L$61,0),2),"")} | N48: {=IFERROR(INDEX(入力用シート!$C$7:$N$61,MATCH(13,入力用シート!$L$7:$L$61,0),5),"")} | P48: {=IFERROR(INDEX(入力用シート!$C$7:$N$61,MATCH(13,入力用シート!$L$7:$L$61,0),6),"")&""}
D49: {=IFERROR(INDEX(入力用シート!$C$7:$N$61,MATCH(13,入力用シート!$L$7:$L$61,0),3),"")} | I49: {=IFERROR(INDEX(入力用シート!$C$7:$N$61,MATCH(13,入力用シート!$L$7:$L$61,0),1),"")}
B51: １４ | D51: {=IFERROR(INDEX(入力用シート!$C$7:$N$61,MATCH(14,入力用シート!$L$7:$L$61,0),4),"")} | I51: {=IFERROR(INDEX(入力用シート!$C$7:$N$61,MATCH(14,入力用シート!$L$7:$L$61,0),2),"")} | N51: {=IFERROR(INDEX(入力用シート!$C$7:$N$61,MATCH(14,入力用シート!$L$7:$L$61,0),5),"")} | P51: {=IFERROR(INDEX(入力用シート!$C$7:$N$61,MATCH(14,入力用シート!$L$7:$L$61,0),6),"")&""}
D52: {=IFERROR(INDEX(入力用シート!$C$7:$N$61,MATCH(14,入力用シート!$L$7:$L$61,0),3),"")} | I52: {=IFERROR(INDEX(入力用シート!$C$7:$N$61,MATCH(14,入力用シート!$L$7:$L$61,0),1),"")}
B54: １５ | D54: {=IFERROR(INDEX(入力用シート!$C$7:$N$61,MATCH(15,入力用シート!$L$7:$L$61,0),4),"")} | I54: {=IFERROR(INDEX(入力用シート!$C$7:$N$61,MATCH(15,入力用シート!$L$7:$L$61,0),2),"")} | N54: {=IFERROR(INDEX(入力用シート!$C$7:$N$61,MATCH(15,入力用シート!$L$7:$L$61,0),5),"")} | P54: {=IFERROR(INDEX(入力用シート!$C$7:$N$61,MATCH(15,入力用シート!$L$7:$L$61,0),6),"")&""}
D55: {=IFERROR(INDEX(入力用シート!$C$7:$N$61,MATCH(15,入力用シート!$L$7:$L$61,0),3),"")} | I55: {=IFERROR(INDEX(入力用シート!$C$7:$N$61,MATCH(15,入力用シート!$L$7:$L$61,0),1),"")}
B57: ・必ずランク順に記入すること。
B58: ・男女別に記入すること。種目欄に○印を記入すること。
...

Sheet 女・SL④
U1: （様式４）
B2: =男・クラ④!B2 -> 令和８年度東北中学校体育大会 第６３回東北中学校スキー大会
B3: 種 目 別 出 場 選 手 一 覧 表
C5: 県 名 | E5: =入力用シート!D3 -> 0 | I5: 県 | L5: 男子 | P5: 女子 | R5: ○ | T5: 共通
B7: ＣＬ | J7: ＳＪ | R7: ＳＬ | T7: ○
B8: ＦＲ | J8: ＮＣ | R8: ＧＳ
B10: ランク | D10: フリガナ | I10: フリガナ | N10: 学年 | P10: ＳＡＪ競技者管理 | V10: 備考
D11: 所属名 | I11: 氏 名 | P11: 登録番号(アルペンのみ)
B12: １ | D12: {=IFERROR(INDEX(入力用シート!$C$66:$N$105,MATCH(1,入力用シート!$K$66:$K$105,0),4),"")} | I12: {=IFERROR(INDEX(入力用シート!$C$66:$N$105,MATCH(1,入力用シート!$K$66:$K$105,0),2),"")} | N12: {=IFERROR(INDEX(入力用シート!$C$66:$N$105,MATCH(1,入力用シート!$K$66:$K$105,0),5),"")} | P12: {=IFERROR(INDEX(入力用シート!$C$66:$N$105,MATCH(1,入力用シート!$K$66:$K$105,0),6),"")&""}
D13: {=IFERROR(INDEX(入力用シート!$C$66:$N$105,MATCH(1,入力用シート!$K$66:$K$105,0),3),"")} | I13: {=IFERROR(INDEX(入力用シート!$C$66:$N$105,MATCH(1,入力用シート!$K$66:$K$105,0),1),"")}
B15: ２ | D15: {=IFERROR(INDEX(入力用シート!$C$66:$N$105,MATCH(2,入力用シート!$K$66:$K$105,0),4),"")} | I15: {=IFERROR(INDEX(入力用シート!$C$66:$N$105,MATCH(2,入力用シート!$K$66:$K$105,0),2),"")} | N15: {=IFERROR(INDEX(入力用シート!$C$66:$N$105,MATCH(2,入力用シート!$K$66:$K$105,0),5),"")} | P15: {=IFERROR(INDEX(入力用シート!$C$66:$N$105,MATCH(2,入力用シート!$K$66:$K$105,0),6),"")&""}
D16: {=IFERROR(INDEX(入力用シート!$C$66:$N$105,MATCH(2,入力用シート!$K$66:$K$105,0),3),"")} | I16: {=IFERROR(INDEX(入力用シート!$C$66:$N$105,MATCH(2,入力用シート!$K$66:$K$105,0),1),"")}
B18: ３ | D18: {=IFERROR(INDEX(入力用シート!$C$66:$N$105,MATCH(3,入力用シート!$K$66:$K$105,0),4),"")} | I18: {=IFERROR(INDEX(入力用シート!$C$66:$N$105,MATCH(3,入力用シート!$K$66:$K$105,0),2),"")} | N18: {=IFERROR(INDEX(入力用シート!$C$66:$N$105,MATCH(3,入力用シート!$K$66:$K$105,0),5),"")} | P18: {=IFERROR(INDEX(入力用シート!$C$66:$N$105,MATCH(3,入力用シート!$K$66:$K$105,0),6),"")&""}
D19: {=IFERROR(INDEX(入力用シート!$C$66:$N$105,MATCH(3,入力用シート!$K$66:$K$105,0),3),"")} | I19: {=IFERROR(INDEX(入力用シート!$C$66:$N$105,MATCH(3,入力用シート!$K$66:$K$105,0),1),"")}
B21: ４ | D21: {=IFERROR(INDEX(入力用シート!$C$66:$N$105,MATCH(4,入力用シート!$K$66:$K$105,0),4),"")} | I21: {=IFERROR(INDEX(入力用シート!$C$66:$N$105,MATCH(4,入力用シート!$K$66:$K$105,0),2),"")} | N21: {=IFERROR(INDEX(入力用シート!$C$66:$N$105,MATCH(4,入力用シート!$K$66:$K$105,0),5),"")} | P21: {=IFERROR(INDEX(入力用シート!$C$66:$N$105,MATCH(4,入力用シート!$K$66:$K$105,0),6),"")&""}
D22: {=IFERROR(INDEX(入力用シート!$C$66:$N$105,MATCH(4,入力用シート!$K$66:$K$105,0),3),"")} | I22: {=IFERROR(INDEX(入力用シート!$C$66:$N$105,MATCH(4,入力用シート!$K$66:$K$105,0),1),"")}
B24: ５ | D24: {=IFERROR(INDEX(入力用シート!$C$66:$N$105,MATCH(5,入力用シート!$K$66:$K$105,0),4),"")} | I24: {=IFERROR(INDEX(入力用シート!$C$66:$N$105,MATCH(5,入力用シート!$K$66:$K$105,0),2),"")} | N24: {=IFERROR(INDEX(入力用シート!$C$66:$N$105,MATCH(5,入力用シート!$K$66:$K$105,0),5),"")} | P24: {=IFERROR(INDEX(入力用シート!$C$66:$N$105,MATCH(5,入力用シート!$K$66:$K$105,0),6),"")&""}
D25: {=IFERROR(INDEX(入力用シート!$C$66:$N$105,MATCH(5,入力用シート!$K$66:$K$105,0),3),"")} | I25: {=IFERROR(INDEX(入力用シート!$C$66:$N$105,MATCH(5,入力用シート!$K$66:$K$105,0),1),"")}
B27: ６ | D27: {=IFERROR(INDEX(入力用シート!$C$66:$N$105,MATCH(6,入力用シート!$K$66:$K$105,0),4),"")} | I27: {=IFERROR(INDEX(入力用シート!$C$66:$N$105,MATCH(6,入力用シート!$K$66:$K$105,0),2),"")} | N27: {=IFERROR(INDEX(入力用シート!$C$66:$N$105,MATCH(6,入力用シート!$K$66:$K$105,0),5),"")} | P27: {=IFERROR(INDEX(入力用シート!$C$66:$N$105,MATCH(6,入力用シート!$K$66:$K$105,0),6),"")&""}
D28: {=IFERROR(INDEX(入力用シート!$C$66:$N$105,MATCH(6,入力用シート!$K$66:$K$105,0),3),"")} | I28: {=IFERROR(INDEX(入力用シート!$C$66:$N$105,MATCH(6,入力用シート!$K$66:$K$105,0),1),"")}
B30: ７ | D30: {=IFERROR(INDEX(入力用シート!$C$66:$N$105,MATCH(7,入力用シート!$K$66:$K$105,0),4),"")} | I30: {=IFERROR(INDEX(入力用シート!$C$66:$N$105,MATCH(7,入力用シート!$K$66:$K$105,0),2),"")} | N30: {=IFERROR(INDEX(入力用シート!$C$66:$N$105,MATCH(7,入力用シート!$K$66:$K$105,0),5),"")} | P30: {=IFERROR(INDEX(入力用シート!$C$66:$N$105,MATCH(7,入力用シート!$K$66:$K$105,0),6),"")&""}
D31: {=IFERROR(INDEX(入力用シート!$C$66:$N$105,MATCH(7,入力用シート!$K$66:$K$105,0),3),"")} | I31: {=IFERROR(INDEX(入力用シート!$C$66:$N$105,MATCH(7,入力用シート!$K$66:$K$105,0),1),"")}
B33: ８ | D33: {=IFERROR(INDEX(入力用シート!$C$66:$N$105,MATCH(8,入力用シート!$K$66:$K$105,0),4),"")} | I33: {=IFERROR(INDEX(入力用シート!$C$66:$N$105,MATCH(8,入力用シート!$K$66:$K$105,0),2),"")} | N33: {=IFERROR(INDEX(入力用シート!$C$66:$N$105,MATCH(8,入力用シート!$K$66:$K$105,0),5),"")} | P33: {=IFERROR(INDEX(入力用シート!$C$66:$N$105,MATCH(8,入力用シート!$K$66:$K$105,0),6),"")&""}
D34: {=IFERROR(INDEX(入力用シート!$C$66:$N$105,MATCH(8,入力用シート!$K$66:$K$105,0),3),"")} | I34: {=IFERROR(INDEX(入力用シート!$C$66:$N$105,MATCH(8,入力用シート!$K$66:$K$105,0),1),"")}
B36: ９ | D36: {=IFERROR(INDEX(入力用シート!$C$66:$N$105,MATCH(9,入力用シート!$K$66:$K$105,0),4),"")} | I36: {=IFERROR(INDEX(入力用シート!$C$66:$N$105,MATCH(9,入力用シート!$K$66:$K$105,0),2),"")} | N36: {=IFERROR(INDEX(入力用シート!$C$66:$N$105,MATCH(9,入力用シート!$K$66:$K$105,0),5),"")} | P36: {=IFERROR(INDEX(入力用シート!$C$66:$N$105,MATCH(9,入力用シート!$K$66:$K$105,0),6),"")&""}
D37: {=IFERROR(INDEX(入力用シート!$C$66:$N$105,MATCH(9,入力用シート!$K$66:$K$105,0),3),"")} | I37: {=IFERROR(INDEX(入力用シート!$C$66:$N$105,MATCH(9,入力用シート!$K$66:$K$105,0),1),"")}
B39: １０ | D39: {=IFERROR(INDEX(入力用シート!$C$66:$N$105,MATCH(10,入力用シート!$K$66:$K$105,0),4),"")} | I39: {=IFERROR(INDEX(入力用シート!$C$66:$N$105,MATCH(10,入力用シート!$K$66:$K$105,0),2),"")} | N39: {=IFERROR(INDEX(入力用シート!$C$66:$N$105,MATCH(10,入力用シート!$K$66:$K$105,0),5),"")} | P39: {=IFERROR(INDEX(入力用シート!$C$66:$N$105,MATCH(10,入力用シート!$K$66:$K$105,0),6),"")&""}
D40: {=IFERROR(INDEX(入力用シート!$C$66:$N$105,MATCH(10,入力用シート!$K$66:$K$105,0),3),"")} | I40: {=IFERROR(INDEX(入力用シート!$C$66:$N$105,MATCH(10,入力用シート!$K$66:$K$105,0),1),"")}
B42: １１ | D42: {=IFERROR(INDEX(入力用シート!$C$66:$N$105,MATCH(11,入力用シート!$K$66:$K$105,0),4),"")} | I42: {=IFERROR(INDEX(入力用シート!$C$66:$N$105,MATCH(11,入力用シート!$K$66:$K$105,0),2),"")} | N42: {=IFERROR(INDEX(入力用シート!$C$66:$N$105,MATCH(11,入力用シート!$K$66:$K$105,0),5),"")} | P42: {=IFERROR(INDEX(入力用シート!$C$66:$N$105,MATCH(11,入力用シート!$K$66:$K$105,0),6),"")&""}
D43: {=IFERROR(INDEX(入力用シート!$C$66:$N$105,MATCH(11,入力用シート!$K$66:$K$105,0),3),"")} | I43: {=IFERROR(INDEX(入力用シート!$C$66:$N$105,MATCH(11,入力用シート!$K$66:$K$105,0),1),"")}
B45: １２ | D45: {=IFERROR(INDEX(入力用シート!$C$66:$N$105,MATCH(12,入力用シート!$K$66:$K$105,0),4),"")} | I45: {=IFERROR(INDEX(入力用シート!$C$66:$N$105,MATCH(12,入力用シート!$K$66:$K$105,0),2),"")} | N45: {=IFERROR(INDEX(入力用シート!$C$66:$N$105,MATCH(12,入力用シート!$K$66:$K$105,0),5),"")} | P45: {=IFERROR(INDEX(入力用シート!$C$66:$N$105,MATCH(12,入力用シート!$K$66:$K$105,0),6),"")&""}
D46: {=IFERROR(INDEX(入力用シート!$C$66:$N$105,MATCH(12,入力用シート!$K$66:$K$105,0),3),"")} | I46: {=IFERROR(INDEX(入力用シート!$C$66:$N$105,MATCH(12,入力用シート!$K$66:$K$105,0),1),"")}
B48: １３ | D48: {=IFERROR(INDEX(入力用シート!$C$66:$N$105,MATCH(13,入力用シート!$K$66:$K$105,0),4),"")} | I48: {=IFERROR(INDEX(入力用シート!$C$66:$N$105,MATCH(13,入力用シート!$K$66:$K$105,0),2),"")} | N48: {=IFERROR(INDEX(入力用シート!$C$66:$N$105,MATCH(13,入力用シート!$K$66:$K$105,0),5),"")} | P48: {=IFERROR(INDEX(入力用シート!$C$66:$N$105,MATCH(13,入力用シート!$K$66:$K$105,0),6),"")&""}
D49: {=IFERROR(INDEX(入力用シート!$C$66:$N$105,MATCH(13,入力用シート!$K$66:$K$105,0),3),"")} | I49: {=IFERROR(INDEX(入力用シート!$C$66:$N$105,MATCH(13,入力用シート!$K$66:$K$105,0),1),"")}
B51: １４ | D51: {=IFERROR(INDEX(入力用シート!$C$66:$N$105,MATCH(14,入力用シート!$K$66:$K$105,0),4),"")} | I51: {=IFERROR(INDEX(入力用シート!$C$66:$N$105,MATCH(14,入力用シート!$K$66:$K$105,0),2),"")} | N51: {=IFERROR(INDEX(入力用シート!$C$66:$N$105,MATCH(14,入力用シート!$K$66:$K$105,0),5),"")} | P51: {=IFERROR(INDEX(入力用シート!$C$66:$N$105,MATCH(14,入力用シート!$K$66:$K$105,0),6),"")&""}
D52: {=IFERROR(INDEX(入力用シート!$C$66:$N$105,MATCH(14,入力用シート!$K$66:$K$105,0),3),"")} | I52: {=IFERROR(INDEX(入力用シート!$C$66:$N$105,MATCH(14,入力用シート!$K$66:$K$105,0),1),"")}
B54: １５ | D54: {=IFERROR(INDEX(入力用シート!$C$66:$N$105,MATCH(15,入力用シート!$K$66:$K$105,0),4),"")} | I54: {=IFERROR(INDEX(入力用シート!$C$66:$N$105,MATCH(15,入力用シート!$K$66:$K$105,0),2),"")} | N54: {=IFERROR(INDEX(入力用シート!$C$66:$N$105,MATCH(15,入力用シート!$K$66:$K$105,0),5),"")} | P54: {=IFERROR(INDEX(入力用シート!$C$66:$N$105,MATCH(15,入力用シート!$K$66:$K$105,0),6),"")&""}
D55: {=IFERROR(INDEX(入力用シート!$C$66:$N$105,MATCH(15,入力用シート!$K$66:$K$105,0),3),"")} | I55: {=IFERROR(INDEX(入力用シート!$C$66:$N$105,MATCH(15,入力用シート!$K$66:$K$105,0),1),"")}
B57: ・必ずランク順に記入すること。
B58: ・男女別に記入すること。種目欄に○印を記入すること。
...

Sheet 女・GS④
U1: （様式４）
B2: =男・クラ④!B2 -> 令和８年度東北中学校体育大会 第６３回東北中学校スキー大会
B3: 種 目 別 出 場 選 手 一 覧 表
C5: 県 名 | E5: =入力用シート!D3 -> 0 | I5: 県 | L5: 男子 | P5: 女子 | R5: ○ | T5: 共通
B7: ＣＬ | J7: ＳＪ | R7: ＳＬ
B8: ＦＲ | J8: ＮＣ | R8: ＧＳ | T8: ○
B10: ランク | D10: フリガナ | I10: フリガナ | N10: 学年 | P10: ＳＡＪ競技者管理 | V10: 備考
D11: 所属名 | I11: 氏 名 | P11: 登録番号(アルペンのみ)
B12: １ | D12: {=IFERROR(INDEX(入力用シート!$C$66:$N$105,MATCH(1,入力用シート!$L$66:$L$105,0),4),"")} | I12: {=IFERROR(INDEX(入力用シート!$C$66:$N$105,MATCH(1,入力用シート!$L$66:$L$105,0),2),"")} | N12: {=IFERROR(INDEX(入力用シート!$C$66:$N$105,MATCH(1,入力用シート!$L$66:$L$105,0),5),"")} | P12: {=IFERROR(INDEX(入力用シート!$C$66:$N$105,MATCH(1,入力用シート!$L$66:$L$105,0),6),"")&""}
D13: {=IFERROR(INDEX(入力用シート!$C$66:$N$105,MATCH(1,入力用シート!$L$66:$L$105,0),3),"")} | I13: {=IFERROR(INDEX(入力用シート!$C$66:$N$105,MATCH(1,入力用シート!$L$66:$L$105,0),1),"")}
B15: ２ | D15: {=IFERROR(INDEX(入力用シート!$C$66:$N$105,MATCH(2,入力用シート!$L$66:$L$105,0),4),"")} | I15: {=IFERROR(INDEX(入力用シート!$C$66:$N$105,MATCH(2,入力用シート!$L$66:$L$105,0),2),"")} | N15: {=IFERROR(INDEX(入力用シート!$C$66:$N$105,MATCH(2,入力用シート!$L$66:$L$105,0),5),"")} | P15: {=IFERROR(INDEX(入力用シート!$C$66:$N$105,MATCH(2,入力用シート!$L$66:$L$105,0),6),"")&""}
D16: {=IFERROR(INDEX(入力用シート!$C$66:$N$105,MATCH(2,入力用シート!$L$66:$L$105,0),3),"")} | I16: {=IFERROR(INDEX(入力用シート!$C$66:$N$105,MATCH(2,入力用シート!$L$66:$L$105,0),1),"")}
B18: ３ | D18: {=IFERROR(INDEX(入力用シート!$C$66:$N$105,MATCH(3,入力用シート!$L$66:$L$105,0),4),"")} | I18: {=IFERROR(INDEX(入力用シート!$C$66:$N$105,MATCH(3,入力用シート!$L$66:$L$105,0),2),"")} | N18: {=IFERROR(INDEX(入力用シート!$C$66:$N$105,MATCH(3,入力用シート!$L$66:$L$105,0),5),"")} | P18: {=IFERROR(INDEX(入力用シート!$C$66:$N$105,MATCH(3,入力用シート!$L$66:$L$105,0),6),"")&""}
D19: {=IFERROR(INDEX(入力用シート!$C$66:$N$105,MATCH(3,入力用シート!$L$66:$L$105,0),3),"")} | I19: {=IFERROR(INDEX(入力用シート!$C$66:$N$105,MATCH(3,入力用シート!$L$66:$L$105,0),1),"")}
B21: ４ | D21: {=IFERROR(INDEX(入力用シート!$C$66:$N$105,MATCH(4,入力用シート!$L$66:$L$105,0),4),"")} | I21: {=IFERROR(INDEX(入力用シート!$C$66:$N$105,MATCH(4,入力用シート!$L$66:$L$105,0),2),"")} | N21: {=IFERROR(INDEX(入力用シート!$C$66:$N$105,MATCH(4,入力用シート!$L$66:$L$105,0),5),"")} | P21: {=IFERROR(INDEX(入力用シート!$C$66:$N$105,MATCH(4,入力用シート!$L$66:$L$105,0),6),"")&""}
D22: {=IFERROR(INDEX(入力用シート!$C$66:$N$105,MATCH(4,入力用シート!$L$66:$L$105,0),3),"")} | I22: {=IFERROR(INDEX(入力用シート!$C$66:$N$105,MATCH(4,入力用シート!$L$66:$L$105,0),1),"")}
B24: ５ | D24: {=IFERROR(INDEX(入力用シート!$C$66:$N$105,MATCH(5,入力用シート!$L$66:$L$105,0),4),"")} | I24: {=IFERROR(INDEX(入力用シート!$C$66:$N$105,MATCH(5,入力用シート!$L$66:$L$105,0),2),"")} | N24: {=IFERROR(INDEX(入力用シート!$C$66:$N$105,MATCH(5,入力用シート!$L$66:$L$105,0),5),"")} | P24: {=IFERROR(INDEX(入力用シート!$C$66:$N$105,MATCH(5,入力用シート!$L$66:$L$105,0),6),"")&""}
D25: {=IFERROR(INDEX(入力用シート!$C$66:$N$105,MATCH(5,入力用シート!$L$66:$L$105,0),3),"")} | I25: {=IFERROR(INDEX(入力用シート!$C$66:$N$105,MATCH(5,入力用シート!$L$66:$L$105,0),1),"")}
B27: ６ | D27: {=IFERROR(INDEX(入力用シート!$C$66:$N$105,MATCH(6,入力用シート!$L$66:$L$105,0),4),"")} | I27: {=IFERROR(INDEX(入力用シート!$C$66:$N$105,MATCH(6,入力用シート!$L$66:$L$105,0),2),"")} | N27: {=IFERROR(INDEX(入力用シート!$C$66:$N$105,MATCH(6,入力用シート!$L$66:$L$105,0),5),"")} | P27: {=IFERROR(INDEX(入力用シート!$C$66:$N$105,MATCH(6,入力用シート!$L$66:$L$105,0),6),"")&""}
D28: {=IFERROR(INDEX(入力用シート!$C$66:$N$105,MATCH(6,入力用シート!$L$66:$L$105,0),3),"")} | I28: {=IFERROR(INDEX(入力用シート!$C$66:$N$105,MATCH(6,入力用シート!$L$66:$L$105,0),1),"")}
B30: ７ | D30: {=IFERROR(INDEX(入力用シート!$C$66:$N$105,MATCH(7,入力用シート!$L$66:$L$105,0),4),"")} | I30: {=IFERROR(INDEX(入力用シート!$C$66:$N$105,MATCH(7,入力用シート!$L$66:$L$105,0),2),"")} | N30: {=IFERROR(INDEX(入力用シート!$C$66:$N$105,MATCH(7,入力用シート!$L$66:$L$105,0),5),"")} | P30: {=IFERROR(INDEX(入力用シート!$C$66:$N$105,MATCH(7,入力用シート!$L$66:$L$105,0),6),"")&""}
