Workbook

Sheet はじめに
A1: はじめにお読みください！
A3: ＊ | B3: データの入力は， ①【入力用シート】 ②【種目別選手一覧（様式５）】のリレー監督名 ③【参加申込集計表（県用）】の一部 無色部分のセルのみです。
A4: ＊ | B4: 【入力用シート】にデータを入力すると種目別一覧表，選手名簿，参加申込集計表にデータが入力されます。
A6: 入力手順と説明
A7: （１） | B7: 入力用シートの無色のセルにデータを入力してください。 男子の下に女子の入力欄があります。 所属名（学校名、クラブ名）はそのままプログラムに掲載されます。略称で入力してください。 種目の欄には県大会の順位を入力、種目別リレー（Ｒ）の欄には県大会１位チームで東北大会に登録するメンバーに１１～１７（女子は～１６）までの通し番号、同様に２位チームの選手は２１～の通し番号を入力してください。
A8: （２） | B8: 入力用シートへの入力が終わったら、リレー種目の種目別一覧表（様式５）に監督氏名を入力してください。
A9: （３） | B9: 【参加申込集計表（県用）】の所属名の欄に、出場校の所属名を入力してください。各チームの参加人数が自動的に入力されます。 この時、チーム名は【入力用シート】と一致させるようにしてください。
A10: （４） | B10: 【参加申込集計表（県用）】にプログラム冊数と種目別配付数を入力してください。
A11: （５） | B11: （１）～（４）までが終わったならば、様式４～様式７までのシートを印刷し、間違いないか確認してください。
A12: （６） | B12: 確認が済んだら、データファイルを大会事務局に送付してください。
B14: 《大会事務局》 送付先：E-mail：satou.masahiko@fcs.ed.jp 第６３回東北中学校スキー大会事務局 会津若松市立一箕中学校内 第６３回東北中学校スキー大会事務局（担当：佐藤 雅彦） 〒９６５-０００３ 福島県会津若松市一箕町大字八幡堰下７０ ℡０２４２－２２－２１１３ FAX ０２４２－３２－６４０３

Sheet 入力用シート
B1: 令和８年度東北中学校体育大会 第６３回東北中学校スキー大会 データ入力シート
C3: 県 名 | F3: 専門部委員長名
C4: 【 男 子 】
C5: 氏 名 | D5: フリガナ | E5: 所属名 | F5: フリガナ | G5: 学年 | H5: SAJ登録№ | I5: ＣＬ | J5: ＦＲ | K5: ＳＬ | L5: ＧＳ | M5: ＳＪ | N5: ＮＣ
B6: 例 | C6: 会津 一郎 | D6: アイヅ イチロウ | E6: 若松第一 | F6: ワカマツダイイチ | G6: 3 | H6: 01234567 | I6: 1 | J6: 3 | AE6: 青森 | AF6: 1 | AG6: 11 | AH6: 1
B7: 1 | AE7: 秋田 | AF7: 2 | AG7: 12 | AH7: 2
B8: 2 | AE8: 岩手 | AF8: 3 | AG8: 13 | AH8: 3
B9: 3 | AE9: 宮城 | AF9: 4 | AG9: 14
B10: 4 | AE10: 山形 | AF10: 5 | AG10: 15
B11: 5 | AE11: 福島 | AF11: 6 | AG11: 16
B12: 6 | AF12: 7 | AG12: 17
B13: 7 | AF13: 8 | AG13: 21
B14: 8 | AF14: 9 | AG14: 22
B15: 9 | AF15: 10 | AG15: 23
B16: 10 | AF16: 11 | AG16: 24
B17: 11 | AF17: 12 | AG17: 25
B18: 12 | AF18: 13 | AG18: 26
B19: 13 | AF19: 14 | AG19: 27
B20: 14 | AF20: 15 | AG20: 31
B21: 15 | AG21: 32
B22: 16 | AG22: 33
B23: 17 | AG23: 34
B24: 18 | AG24: 35
B25: 19 | AG25: 36
B26: 20 | AG26: 37
B27: 21
B28: 22
B29: 23
B30: 24
B31: 25
B32: 26
B33: 27
B34: 28
B35: 29
B36: 30
B37: 31
B38: 32
... B61: 55
C63: 【 女 子 】
C64: 氏 名 | D64: フリガナ | E64: 所属名 | F64: フリガナ | G64: 学年 | H64: SAJ登録№ | I64: ＣＬ | J64: ＦＲ | K64: ＳＬ | L64: ＧＳ | M64: ＳＪ | N64: ＮＣ | O64: Ｒ
B65: 例 | C65: 若松 花子 | D65: ワカマツ ハナコ | E65: 西信 | F65: セイシン | G65: 2 | H65: 01234567 | K65: 1 | L65: 3
B66: 1
B67: 2
B68: 3
B69: 4
B70: 5
B71: 6
B72: 7
B73: 8
B74: 9
B75: 10
B76: 11
B77: 12
... B105: 40

Sheet 男・クラ④
U1: （様式４）
B2: 令和８年度東北中学校体育大会 第６３回東北中学校スキー大会
B3: 種 目 別 出 場 選 手 一 覧 表
C5: 県 名 | E5: =入力用シート!D3 -> 0 | I5: 県 | L5: 男子 | N5: ○ | P5: 女子 | T5: 共通
B7: ＣＬ | D7: ○ | J7: ＳＪ | R7: ＳＬ
B8: ＦＲ | J8: ＮＣ | R8: ＧＳ
B10: ランク | D10: フリガナ | I10: フリガナ | N10: 学年 | P10: ＳＡＪ競技者管理 | V10: 備考
D11: 所属名 | I11: 氏 名 | P11: 登録番号(アルペンのみ)
B12: １ | D12: {=IFERROR(INDEX(入力用シート!$C$7:$N$61,MATCH(1,入力用シート!$I$7:$I$61,0),4),"")} | I12: {=IFERROR(INDEX(入力用シート!$C$7:$N$61,MATCH(1,入力用シート!$I$7:$I$61,0),2),"")} | N12: {=IFERROR(INDEX(入力用シート!$C$7:$N$61,MATCH(1,入力用シート!$I$7:$I$61,0),5),"")} | P12: {=IFERROR(INDEX(入力用シート!$C$7:$N$61,MATCH(1,入力用シート!$I$7:$I$61,0),6),"")&""}
D13: {=IFERROR(INDEX(入力用シート!$C$7:$N$61,MATCH(1,入力用シート!$I$7:$I$61,0),3),"")} | I13: {=IFERROR(INDEX(入力用シート!$C$7:$N$61,MATCH(1,入力用シート!$I$7:$I$61,0),1),"")}
B15: ２ | D15: {=IFERROR(INDEX(入力用シート!$C$7:$N$61,MATCH(2,入力用シート!$I$7:$I$61,0),4),"")} | I15: {=IFERROR(INDEX(入力用シート!$C$7:$N$61,MATCH(2,入力用シート!$I$7:$I$61,0),2),"")} | N15: {=IFERROR(INDEX(入力用シート!$C$7:$N$61,MATCH(2,入力用シート!$I$7:$I$61,0),5),"")} | P15: {=IFERROR(INDEX(入力用シート!$C$7:$N$61,MATCH(2,入力用シート!$I$7:$I$61,0),6),"")&""}
D16: {=IFERROR(INDEX(入力用シート!$C$7:$N$61,MATCH(2,入力用シート!$I$7:$I$61,0),3),"")} | I16: {=IFERROR(INDEX(入力用シート!$C$7:$N$61,MATCH(2,入力用シート!$I$7:$I$61,0),1),"")}
B18: ３ | D18: {=IFERROR(INDEX(入力用シート!$C$7:$N$61,MATCH(3,入力用シート!$I$7:$I$61,0),4),"")} | I18: {=IFERROR(INDEX(入力用シート!$C$7:$N$61,MATCH(3,入力用シート!$I$7:$I$61,0),2),"")} | N18: {=IFERROR(INDEX(入力用シート!$C$7:$N$61,MATCH(3,入力用シート!$I$7:$I$61,0),5),"")} | P18: {=IFERROR(INDEX(入力用シート!$C$7:$N$61,MATCH(3,入力用シート!$I$7:$I$61,0),6),"")&""}
D19: {=IFERROR(INDEX(入力用シート!$C$7:$N$61,MATCH(3,入力用シート!$I$7:$I$61,0),3),"")} | I19: {=IFERROR(INDEX(入力用シート!$C$7:$N$61,MATCH(3,入力用シート!$I$7:$I$61,0),1),"")}
B21: ４ | D21: {=IFERROR(INDEX(入力用シート!$C$7:$N$61,MATCH(4,入力用シート!$I$7:$I$61,0),4),"")} | I21: {=IFERROR(INDEX(入力用シート!$C$7:$N$61,MATCH(4,入力用シート!$I$7:$I$61,0),2),"")} | N21: {=IFERROR(INDEX(入力用シート!$C$7:$N$61,MATCH(4,入力用シート!$I$7:$I$61,0),5),"")} | P21: {=IFERROR(INDEX(入力用シート!$C$7:$N$61,MATCH(4,入力用シート!$I$7:$I$61,0),6),"")&""}
D22: {=IFERROR(INDEX(入力用シート!$C$7:$N$61,MATCH(4,入力用シート!$I$7:$I$61,0),3),"")} | I22: {=IFERROR(INDEX(入力用シート!$C$7:$N$61,MATCH(4,入力用シート!$I$7:$I$61,0),1),"")}
B24: ５ | D24: {=IFERROR(INDEX(入力用シート!$C$7:$N$61,MATCH(5,入力用シート!$I$7:$I$61,0),4),"")} | I24: {=IFERROR(INDEX(入力用シート!$C$7:$N$61,MATCH(5,入力用シート!$I$7:$I$61,0),2),"")} | N24: {=IFERROR(INDEX(入力用シート!$C$7:$N$61,MATCH(5,入力用シート!$I$7:$I$61,0),5),"")} | P24: {=IFERROR(INDEX(入力用シート!$C$7:$N$61,MATCH(5,入力用シート!$I$7:$I$61,0),6),"")&""}
D25: {=IFERROR(INDEX(入力用シート!$C$7:$N$61,MATCH(5,入力用シート!$I$7:$I$61,0),3),"")} | I25: {=IFERROR(INDEX(入力用シート!$C$7:$N$61,MATCH(5,入力用シート!$I$7:$I$61,0),1),"")}
B27: ６ | D27: {=IFERROR(INDEX(入力用シート!$C$7:$N$61,MATCH(6,入力用シート!$I$7:$I$61,0),4),"")} | I27: {=IFERROR(INDEX(入力用シート!$C$7:$N$61,MATCH(6,入力用シート!$I$7:$I$61,0),2),"")} | N27: {=IFERROR(INDEX(入力用シート!$C$7:$N$61,MATCH(6,入力用シート!$I$7:$I$61,0),5),"")} | P27: {=IFERROR(INDEX(入力用シート!$C$7:$N$61,MATCH(6,入力用シート!$I$7:$I$61,0),6),"")&""}
D28: {=IFERROR(INDEX(入力用シート!$C$7:$N$61,MATCH(6,入力用シート!$I$7:$I$61,0),3),"")} | I28: {=IFERROR(INDEX(入力用シート!$C$7:$N$61,MATCH(6,入力用シート!$I$7:$I$61,0),1),"")}
B30: ７ | D30: {=IFERROR(INDEX(入力用シート!$C$7:$N$61,MATCH(7,入力用シート!$I$7:$I$61,0),4),"")} | I30: {=IFERROR(INDEX(入力用シート!$C$7:$N$61,MATCH(7,入力用シート!$I$7:$I$61,0),2),"")} | N30: {=IFERROR(INDEX(入力用シート!$C$7:$N$61,MATCH(7,入力用シート!$I$7:$I$61,0),5),"")} | P30: {=IFERROR(INDEX(入力用シート!$C$7:$N$61,MATCH(7,入力用シート!$I$7:$I$61,0),6),"")&""}
D31: {=IFERROR(INDEX(入力用シート!$C$7:$N$61,MATCH(7,入力用シート!$I$7:$I$61,0),3),"")} | I31: {=IFERROR(INDEX(入力用シート!$C$7:$N$61,MATCH(7,入力用シート!$I$7:$I$61,0),1),"")}
B33: ８ | D33: {=IFERROR(INDEX(入力用シート!$C$7:$N$61,MATCH(8,入力用シート!$I$7:$I$61,0),4),"")} | I33: {=IFERROR(INDEX(入力用シート!$C$7:$N$61,MATCH(8,入力用シート!$I$7:$I$61,0),2),"")} | N33: {=IFERROR(INDEX(入力用シート!$C$7:$N$61,MATCH(8,入力用シート!$I$7:$I$61,0),5),"")} | P33: {=IFERROR(INDEX(入力用シート!$C$7:$N$61,MATCH(8,入力用シート!$I$7:$I$61,0),6),"")&""}
D34: {=IFERROR(INDEX(入力用シート!$C$7:$N$61,MATCH(8,入力用シート!$I$7:$I$61,0),3),"")} | I34: {=IFERROR(INDEX(入力用シート!$C$7:$N$61,MATCH(8,入力用シート!$I$7:$I$61,0),1),"")}
B36: ９ | D36: {=IFERROR(INDEX(入力用シート!$C$7:$N$61,MATCH(9,入力用シート!$I$7:$I$61,0),4),"")} | I36: {=IFERROR(INDEX(入力用シート!$C$7:$N$61,MATCH(9,入力用シート!$I$7:$I$61,0),2),"")} | N36: {=IFERROR(INDEX(入力用シート!$C$7:$N$61,MATCH(9,入力用シート!$I$7:$I$61,0),5),"")} | P36: {=IFERROR(INDEX(入力用シート!$C$7:$N$61,MATCH(9,入力用シート!$I$7:$I$61,0),6),"")&""}
D37: {=IFERROR(INDEX(入力用シート!$C$7:$N$61,MATCH(9,入力用シート!$I$7:$I$61,0),3),"")} | I37: {=IFERROR(INDEX(入力用シート!$C$7:$N$61,MATCH(9,入力用シート!$I$7:$I$61,0),1),"")}
B39: １０ | D39: {=IFERROR(INDEX(入力用シート!$C$7:$N$61,MATCH(10,入力用シート!$I$7:$I$61,0),4),"")} | I39: {=IFERROR(INDEX(入力用シート!$C$7:$N$61,MATCH(10,入力用シート!$I$7:$I$61,0),2),"")} | N39: {=IFERROR(INDEX(入力用シート!$C$7:$N$61,MATCH(10,入力用シート!$I$7:$I$61,0),5),"")} | P39: {=IFERROR(INDEX(入力用シート!$C$7:$N$61,MATCH(10,入力用シート!$I$7:$I$61,0),6),"")&""}
D40: {=IFERROR(INDEX(入力用シート!$C$7:$N$61,MATCH(10,入力用シート!$I$7:$I$61,0),3),"")} | I40: {=IFERROR(INDEX(入力用シート!$C$7:$N$61,MATCH(10,入力用シート!$I$7:$I$61,0),1),"")}
B42: １１ | D42: {=IFERROR(INDEX(入力用シート!$C$7:$N$61,MATCH(11,入力用シート!$I$7:$I$61,0),4),"")} | I42: {=IFERROR(INDEX(入力用シート!$C$7:$N$61,MATCH(11,入力用シート!$I$7:$I$61,0),2),"")} | N42: {=IFERROR(INDEX(入力用シート!$C$7:$N$61,MATCH(11,入力用シート!$I$7:$I$61,0),5),"")} | P42: {=IFERROR(INDEX(入力用シート!$C$7:$N$61,MATCH(11,入力用シート!$I$7:$I$61,0),6),"")&""}
D43: {=IFERROR(INDEX(入力用シート!$C$7:$N$61,MATCH(11,入力用シート!$I$7:$I$61,0),3),"")} | I43: {=IFERROR(INDEX(入力用シート!$C$7:$N$61,MATCH(11,入力用シート!$I$7:$I$61,0),1),"")}
B45: １２ | D45: {=IFERROR(INDEX(入力用シート!$C$7:$N$61,MATCH(12,入力用シート!$I$7:$I$61,0),4),"")} | I45: {=IFERROR(INDEX(入力用シート!$C$7:$N$61,MATCH(12,入力用シート!$I$7:$I$61,0),2),"")} | N45: {=IFERROR(INDEX(入力用シート!$C$7:$N$61,MATCH(12,入力用シート!$I$7:$I$61,0),5),"")} | P45: {=IFERROR(INDEX(入力用シート!$C$7:$N$61,MATCH(12,入力用シート!$I$7:$I$61,0),6),"")&""}
D46: {=IFERROR(INDEX(入力用シート!$C$7:$N$61,MATCH(12,入力用シート!$I$7:$I$61,0),3),"")} | I46: {=IFERROR(INDEX(入力用シート!$C$7:$N$61,MATCH(12,入力用シート!$I$7:$I$61,0),1),"")}
B48: １３ | D48: {=IFERROR(INDEX(入力用シート!$C$7:$N$61,MATCH(13,入力用シート!$I$7:$I$61,0),4),"")} | I48: {=IFERROR(INDEX(入力用シート!$C$7:$N$61,MATCH(13,入力用シート!$I$7:$I$61,0),2),"")} | N48: {=IFERROR(INDEX(入力用シート!$C$7:$N$61,MATCH(13,入力用シート!$I$7:$I$61,0),5),"")} | P48: {=IFERROR(INDEX(入力用シート!$C$7:$N$61,MATCH(13,入力用シート!$I$7:$I$61,0),6),"")&""}
D49: {=IFERROR(INDEX(入力用シート!$C$7:$N$61,MATCH(13,入力用シート!$I$7:$I$61,0),3),"")} | I49: {=IFERROR(INDEX(入力用シート!$C$7:$N$61,MATCH(13,入力用シート!$I$7:$I$61,0),1),"")}
B51: １４ | D51: {=IFERROR(INDEX(入力用シート!$C$7:$N$61,MATCH(14,入力用シート!$I$7:$I$61,0),4),"")} | I51: {=IFERROR(INDEX(入力用シート!$C$7:$N$61,MATCH(14,入力用シート!$I$7:$I$61,0),2),"")} | N51: {=IFERROR(INDEX(入力用シート!$C$7:$N$61,MATCH(14,入力用シート!$I$7:$I$61,0),5),"")} | P51: {=IFERROR(INDEX(入力用シート!$C$7:$N$61,MATCH(14,入力用シート!$I$7:$I$61,0),6),"")&""}
D52: {=IFERROR(INDEX(入力用シート!$C$7:$N$61,MATCH(14,入力用シート!$I$7:$I$61,0),3),"")} | I52: {=IFERROR(INDEX(入力用シート!$C$7:$N$61,MATCH(14,入力用シート!$I$7:$I$61,0),1),"")}
B54: １５ | D54: {=IFERROR(INDEX(入力用シート!$C$7:$N$61,MATCH(15,入力用シート!$I$7:$I$61,0),4),"")} | I54: {=IFERROR(INDEX(入力用シート!$C$7:$N$61,MATCH(15,入力用シート!$I$7:$I$61,0),2),"")} | N54: {=IFERROR(INDEX(入力用シート!$C$7:$N$61,MATCH(15,入力用シート!$I$7:$I$61,0),5),"")} | P54: {=IFERROR(INDEX(入力用シート!$C$7:$N$61,MATCH(15,入力用シート!$I$7:$I$61,0),6),"")&""}
D55: {=IFERROR(INDEX(入力用シート!$C$7:$N$61,MATCH(15,入力用シート!$I$7:$I$61,0),3),"")} | I55: {=IFERROR(INDEX(入力用シート!$C$7:$N$61,MATCH(15,入力用シート!$I$7:$I$61,0),1),"")}
B57: ・必ずランク順に記入すること。
B58: ・男女別に記入すること。種目欄に○印を記入すること。
B59: ・アルペン競技出場選手でＳＡＪ競技者管理登録をしている選手は、競技者管理登録番号 （例03004894）を記入すること。

Sheet 男・フリー④
U1: （様式４）
B2: =男・クラ④!B2 -> 令和８年度東北中学校体育大会 第６３回東北中学校スキー大会
B3: 種 目 別 出 場 選 手 一 覧 表
C5: 県 名 | E5: =入力用シート!D3 -> 0 | I5: 県 | L5: 男子 | N5: ○ | P5: 女子 | T5: 共通
B7: ＣＬ | J7: ＳＪ | R7: ＳＬ
B8: ＦＲ | D8: ○ | J8: ＮＣ | R8: ＧＳ
B10: ランク | D10: フリガナ | I10: フリガナ | N10: 学年 | P10: ＳＡＪ競技者管理 | V10: 備考
D11: 所属名 | I11: 氏 名 | P11: 登録番号(アルペンのみ)
B12: 1 | D12: {=IFERROR(INDEX(入力用シート!$C$7:$N$61,MATCH(1,入力用シート!$J$7:$J$61,0),4),"")} | I12: {=IFERROR(INDEX(入力用シート!$C$7:$N$61,MATCH(1,入力用シート!$J$7:$J$61,0),2),"")} | N12: {=IFERROR(INDEX(入力用シート!$C$7:$N$61,MATCH(1,入力用シート!$J$7:$J$61,0),5),"")} | P12: {=IFERROR(INDEX(入力用シート!$C$7:$N$61,MATCH(1,入力用シート!$J$7:$J$61,0),6),"")&""}
D13: {=IFERROR(INDEX(入力用シート!$C$7:$N$61,MATCH(1,入力用シート!$J$7:$J$61,0),3),"")} | I13: {=IFERROR(INDEX(入力用シート!$C$7:$N$61,MATCH(1,入力用シート!$J$7:$J$61,0),1),"")}
B15: ２ | D15: {=IFERROR(INDEX(入力用シート!$C$7:$N$61,MATCH(2,入力用シート!$J$7:$J$61,0),4),"")} | I15: {=IFERROR(INDEX(入力用シート!$C$7:$N$61,MATCH(2,入力用シート!$J$7:$J$61,0),2),"")} | N15: {=IFERROR(INDEX(入力用シート!$C$7:$N$61,MATCH(2,入力用シート!$J$7:$J$61,0),5),"")} | P15: {=IFERROR(INDEX(入力用シート!$C$7:$N$61,MATCH(2,入力用シート!$J$7:$J$61,0),6),"")&""}
D16: {=IFERROR(INDEX(入力用シート!$C$7:$N$61,MATCH(2,入力用シート!$J$7:$J$61,0),3),"")} | I16: {=IFERROR(INDEX(入力用シート!$C$7:$N$61,MATCH(2,入力用シート!$J$7:$J$61,0),1),"")}
B18: ３ | D18: {=IFERROR(INDEX(入力用シート!$C$7:$N$61,MATCH(3,入力用シート!$J$7:$J$61,0),4),"")} | I18: {=IFERROR(INDEX(入力用シート!$C$7:$N$61,MATCH(3,入力用シート!$J$7:$J$61,0),2),"")} | N18: {=IFERROR(INDEX(入力用シート!$C$7:$N$61,MATCH(3,入力用シート!$J$7:$J$61,0),5),"")} | P18: {=IFERROR(INDEX(入力用シート!$C$7:$N$61,MATCH(3,入力用シート!$J$7:$J$61,0),6),"")&""}
D19: {=IFERROR(INDEX(入力用シート!$C$7:$N$61,MATCH(3,入力用シート!$J$7:$J$61,0),3),"")} | I19: {=IFERROR(INDEX(入力用シート!$C$7:$N$61,MATCH(3,入力用シート!$J$7:$J$61,0),1),"")}
B21: ４ | D21: {=IFERROR(INDEX(入力用シート!$C$7:$N$61,MATCH(4,入力用シート!$J$7:$J$61,0),4),"")} | I21: {=IFERROR(INDEX(入力用シート!$C$7:$N$61,MATCH(4,入力用シート!$J$7:$J$61,0),2),"")} | N21: {=IFERROR(INDEX(入力用シート!$C$7:$N$61,MATCH(4,入力用シート!$J$7:$J$61,0),5),"")} | P21: {=IFERROR(INDEX(入力用シート!$C$7:$N$61,MATCH(4,入力用シート!$J$7:$J$61,0),6),"")&""}
D22: {=IFERROR(INDEX(入力用シート!$C$7:$N$61,MATCH(4,入力用シート!$J$7:$J$61,0),3),"")} | I22: {=IFERROR(INDEX(入力用シート!$C$7:$N$61,MATCH(4,入力用シート!$J$7:$J$61,0),1),"")}
B24: ５ | D24: {=IFERROR(INDEX(入力用シート!$C$7:$N$61,MATCH(5,入力用シート!$J$7:$J$61,0),4),"")} | I24: {=IFERROR(INDEX(入力用シート!$C$7:$N$61,MATCH(5,入力用シート!$J$7:$J$61,0),2),"")} | N24: {=IFERROR(INDEX(入力用シート!$C$7:$N$61,MATCH(5,入力用シート!$J$7:$J$61,0),5),"")} | P24: {=IFERROR(INDEX(入力用シート!$C$7:$N$61,MATCH(5,入力用シート!$J$7:$J$61,0),6),"")&""}
D25: {=IFERROR(INDEX(入力用シート!$C$7:$N$61,MATCH(5,入力用シート!$J$7:$J$61,0),3),"")} | I25: {=IFERROR(INDEX(入力用シート!$C$7:$N$61,MATCH(5,入力用シート!$J$7:$J$61,0),1),"")}
B27: ６ | D27: {=IFERROR(INDEX(入力用シート!$C$7:$N$61,MATCH(6,入力用シート!$J$7:$J$61,0),4),"")} | I27: {=IFERROR(INDEX(入力用シート!$C$7:$N$61,MATCH(6,入力用シート!$J$7:$J$61,0),2),"")} | N27: {=IFERROR(INDEX(入力用シート!$C$7:$N$61,MATCH(6,入力用シート!$J$7:$J$61,0),5),"")} | P27: {=IFERROR(INDEX(入力用シート!$C$7:$N$61,MATCH(6,入力用シート!$J$7:$J$61,0),6),"")&""}
D28: {=IFERROR(INDEX(入力用シート!$C$7:$N$61,MATCH(6,入力用シート!$J$7:$J$61,0),3),"")} | I28: {=IFERROR(INDEX(入力用シート!$C$7:$N$61,MATCH(6,入力用シート!$J$7:$J$61,0),1),"")}
B30: ７ | D30: {=IFERROR(INDEX(入力用シート!$C$7:$N$61,MATCH(7,入力用シート!$J$7:$J$61,0),4),"")} | I30: {=IFERROR(INDEX(入力用シート!$C$7:$N$61,MATCH(7,入力用シート!$J$7:$J$61,0),2),"")} | N30: {=IFERROR(INDEX(入力用シート!$C$7:$N$61,MATCH(7,入力用シート!$J$7:$J$61,0),5),"")} | P30: {=IFERROR(INDEX(入力用シート!$C$7:$N$61,MATCH(7,入力用シート!$J$7:$J$61,0),6),"")&""}
D31: {=IFERROR(INDEX(入力用シート!$C$7:$N$61,MATCH(7,入力用シート!$J$7:$J$61,0),3),"")} | I31: {=IFERROR(INDEX(入力用シート!$C$7:$N$61,MATCH(7,入力用シート!$J$7:$J$61,0),1),"")}
B33: ８ | D33: {=IFERROR(INDEX(入力用シート!$C$7:$N$61,MATCH(8,入力用シート!$J$7:$J$61,0),4),"")} | I33: {=IFERROR(INDEX(入力用シート!$C$7:$N$61,MATCH(8,入力用シート!$J$7:$J$61,0),2),"")} | N33: {=IFERROR(INDEX(入力用シート!$C$7:$N$61,MATCH(8,入力用シート!$J$7:$J$61,0),5),"")} | P33: {=IFERROR(INDEX(入力用シート!$C$7:$N$61,MATCH(8,入力用シート!$J$7:$J$61,0),6),"")&""}
D34: {=IFERROR(INDEX(入力用シート!$C$7:$N$61,MATCH(8,入力用シート!$J$7:$J$61,0),3),"")} | I34: {=IFERROR(INDEX(入力用シート!$C$7:$N$61,MATCH(8,入力用シート!$J$7:$J$61,0),1),"")}
B36: ９ | D36: {=IFERROR(INDEX(入力用シート!$C$7:$N$61,MATCH(9,入力用シート!$J$7:$J$61,0),4),"")} | I36: {=IFERROR(INDEX(入力用シート!$C$7:$N$61,MATCH(9,入力用シート!$J$7:$J$61,0),2),"")} | N36: {=IFERROR(INDEX(入力用シート!$C$7:$N$61,MATCH(9,入力用シート!$J$7:$J$61,0),5),"")} | P36: {=IFERROR(INDEX(入力用シート!$C$7:$N$61,MATCH(9,入力用シート!$J$7:$J$61,0),6),"")&""}
D37: {=IFERROR(INDEX(入力用シート!$C$7:$N$61,MATCH(9,入力用シート!$J$7:$J$61,0),3),"")} | I37: {=IFERROR(INDEX(入力用シート!$C$7:$N$61,MATCH(9,入力用シート!$J$7:$J$61,0),1),"")}
B39: １０ | D39: {=IFERROR(INDEX(入力用シート!$C$7:$N$61,MATCH(10,入力用シート!$J$7:$J$61,0),4),"")} | I39: {=IFERROR(INDEX(入力用シート!$C$7:$N$61,MATCH(10,入力用シート!$J$7:$J$61,0),2),"")} | N39: {=IFERROR(INDEX(入力用シート!$C$7:$N$61,MATCH(10,入力用シート!$J$7:$J$61,0),5),"")} | P39: {=IFERROR(INDEX(入力用シート!$C$7:$N$61,MATCH(10,入力用シート!$J$7:$J$61,0),6),"")&""}
D40: {=IFERROR(INDEX(入力用シート!$C$7:$N$61,MATCH(10,入力用シート!$J$7:$J$61,0),3),"")} | I40: {=IFERROR(INDEX(入力用シート!$C$7:$N$61,MATCH(10,入力用シート!$J$7:$J$61,0),1),"")}
B42: １１ | D42: {=IFERROR(INDEX(入力用シート!$C$7:$N$61,MATCH(11,入力用シート!$J$7:$J$61,0),4),"")} | I42: {=IFERROR(INDEX(入力用シート!$C$7:$N$61,MATCH(11,入力用シート!$J$7:$J$61,0),2),"")} | N42: {=IFERROR(INDEX(入力用シート!$C$7:$N$61,MATCH(11,入力用シート!$J$7:$J$61,0),5),"")} | P42: {=IFERROR(INDEX(入力用シート!$C$7:$N$61,MATCH(11,入力用シート!$J$7:$J$61,0),6),"")&""}
D43: {=IFERROR(INDEX(入力用シート!$C$7:$N$61,MATCH(11,入力用シート!$J$7:$J$61,0),3),"")} | I43: {=IFERROR(INDEX(入力用シート!$C$7:$N$61,MATCH(11,入力用シート!$J$7:$J$61,0),1),"")}
B45: １２ | D45: {=IFERROR(INDEX(入力用シート!$C$7:$N$61,MATCH(12,入力用シート!$J$7:$J$61,0),4),"")} | I45: {=IFERROR(INDEX(入力用シート!$C$7:$N$61,MATCH(12,入力用シート!$J$7:$J$61,0),2),"")} | N45: {=IFERROR(INDEX(入力用シート!$C$7:$N$61,MATCH(12,入力用シート!$J$7:$J$61,0),5),"")} | P45: {=IFERROR(INDEX(入力用シート!$C$7:$N$61,MATCH(12,入力用シート!$J$7:$J$61,0),6),"")&""}
D46: {=IFERROR(INDEX(入力用シート!$C$7:$N$61,MATCH(12,入力用シート!$J$7:$J$61,0),3),"")} | I46: {=IFERROR(INDEX(入力用シート!$C$7:$N$61,MATCH(12,入力用シート!$J$7:$J$61,0),1),"")}
B48: １３ | D48: {=IFERROR(INDEX(入力用シート!$C$7:$N$61,MATCH(13,入力用シート!$J$7:$J$61,0),4),"")} | I48: {=IFERROR(INDEX(入力用シート!$C$7:$N$61,MATCH(13,入力用シート!$J$7:$J$61,0),2),"")} | N48: {=IFERROR(INDEX(入力用シート!$C$7:$N$61,MATCH(13,入力用シート!$J$7:$J$61,0),5),"")} | P48: {=IFERROR(INDEX(入力用シート!$C$7:$N$61,MATCH(13,入力用シート!$J$7:$J$61,0),6),"")&""}
D49: {=IFERROR(INDEX(入力用シート!$C$7:$N$61,MATCH(13,入力用シート!$J$7:$J$61,0),3),"")} | I49: {=IFERROR(INDEX(入力用シート!$C$7:$N$61,MATCH(13,入力用シート!$J$7:$J$61,0),1),"")}
B51: １４ | D51: {=IFERROR(INDEX(入力用シート!$C$7:$N$61,MATCH(14,入力用シート!$J$7:$J$61,0),4),"")} | I51: {=IFERROR(INDEX(入力用シート!$C$7:$N$61,MATCH(14,入力用シート!$J$7:$J$61,0),2),"")} | N51: {=IFERROR(INDEX(入力用シート!$C$7:$N$61,MATCH(14,入力用シート!$J$7:$J$61,0),5),"")} | P51: {=IFERROR(INDEX(入力用シート!$C$7:$N$61,MATCH(14,入力用シート!$J$7:$J$61,0),6),"")&""}
D52: {=IFERROR(INDEX(入力用シート!$C$7:$N$61,MATCH(14,入力用シート!$J$7:$J$61,0),3),"")} | I52: {=IFERROR(INDEX(入力用シート!$C$7:$N$61,MATCH(14,入力用シート!$J$7:$J$61,0),1),"")}
B54: １５ | D54: {=IFERROR(INDEX(入力用シート!$C$7:$N$61,MATCH(15,入力用シート!$J$7:$J$61,0),4),"")} | I54: {=IFERROR(INDEX(入力用シート!$C$7:$N$61,MATCH(15,入力用シート!$J$7:$J$61,0),2),"")} | N54: {=IFERROR(INDEX(入力用シート!$C$7:$N$61,MATCH(15,入力用シート!$J$7:$J$61,0),5),"")} | P54: {=IFERROR(INDEX(入力用シート!$C$7:$N$61,MATCH(15,入力用シート!$J$7:$J$61,0),6),"")&""}
D55: {=IFERROR(INDEX(入力用シート!$C$7:$N$61,MATCH(15,入力用シート!$J$7:$J$61,0),3),"")} | I55: {=IFERROR(INDEX(入力用シート!$C$7:$N$61,MATCH(15,入力用シート!$J$7:$J$61,0),1),"")}
B57: ・必ずランク順に記入すること。
B58: ・男女別に記入すること。種目欄に○印を記入すること。
B59: ・アルペン競技出場選手でＳＡＪ競技者管理登録をしている選手は、競技者管理登録番号 （例03004894）を記入すること。

Sheet 女・クラ④
U1: （様式４）
B2: =男・クラ④!B2 -> 令和８年度東北中学校体育大会 第６３回東北中学校スキー大会
B3: 種 目 別 出 場 選 手 一 覧 表
C5: 県 名 | E5: =入力用シート!D3 -> 0 | I5: 県 | L5: 男子 | P5: 女子 | R5: ○ | T5: 共通
B7: ＣＬ | D7: ○ | J7: ＳＪ | R7: ＳＬ
B8: ＦＲ | J8: ＮＣ | R8: ＧＳ
B10: ランク | D10: フリガナ | I10: フリガナ | N10: 学年 | P10: ＳＡＪ競技者管理 | V10: 備考
D11: 所属名 | I11: 氏 名 | P11: 登録番号(アルペンのみ)
B12: １ | D12: {=IFERROR(INDEX(入力用シート!$C$66:$N$105,MATCH(1,入力用シート!$I$66:$I$105,0),4),"")} | I12: {=IFERROR(INDEX(入力用シート!$C$66:$N$105,MATCH(1,入力用シート!$I$66:$I$105,0),2),"")} | N12: {=IFERROR(INDEX(入力用シート!$C$66:$N$105,MATCH(1,入力用シート!$I$66:$I$105,0),5),"")} | P12: {=IFERROR(INDEX(入力用シート!$C$66:$N$105,MATCH(1,入力用シート!$I$66:$I$105,0),6),"")&""}
D13: {=IFERROR(INDEX(入力用シート!$C$66:$N$105,MATCH(1,入力用シート!$I$66:$I$105,0),3),"")} | I13: {=IFERROR(INDEX(入力用シート!$C$66:$N$105,MATCH(1,入力用シート!$I$66:$I$105,0),1),"")}
B15: ２ | D15: {=IFERROR(INDEX(入力用シート!$C$66:$N$105,MATCH(2,入力用シート!$I$66:$I$105,0),4),"")} | I15: {=IFERROR(INDEX(入力用シート!$C$66:$N$105,MATCH(2,入力用シート!$I$66:$I$105,0),2),"")} | N15: {=IFERROR(INDEX(入力用シート!$C$66:$N$105,MATCH(2,入力用シート!$I$66:$I$105,0),5),"")} | P15: {=IFERROR(INDEX(入力用シート!$C$66:$N$105,MATCH(2,入力用シート!$I$66:$I$105,0),6),"")&""}
D16: {=IFERROR(INDEX(入力用シート!$C$66:$N$105,MATCH(2,入力用シート!$I$66:$I$105,0),3),"")} | I16: {=IFERROR(INDEX(入力用シート!$C$66:$N$105,MATCH(2,入力用シート!$I$66:$I$105,0),1),"")}
B18: ３ | D18: {=IFERROR(INDEX(入力用シート!$C$66:$N$105,MATCH(3,入力用シート!$I$66:$I$105,0),4),"")} | I18: {=IFERROR(INDEX(入力用シート!$C$66:$N$105,MATCH(3,入力用シート!$I$66:$I$105,0),2),"")} | N18: {=IFERROR(INDEX(入力用シート!$C$66:$N$105,MATCH(3,入力用シート!$I$66:$I$105,0),5),"")} | P18: {=IFERROR(INDEX(入力用シート!$C$66:$N$105,MATCH(3,入力用シート!$I$66:$I$105,0),6),"")&""}
D19: {=IFERROR(INDEX(入力用シート!$C$66:$N$105,MATCH(3,入力用シート!$I$66:$I$105,0),3),"")} | I19: {=IFERROR(INDEX(入力用シート!$C$66:$N$105,MATCH(3,入力用シート!$I$66:$I$105,0),1),"")}
B21: ４ | D21: {=IFERROR(INDEX(入力用シート!$C$66:$N$105,MATCH(4,入力用シート!$I$66:$I$105,0),4),"")} | I21: {=IFERROR(INDEX(入力用シート!$C$66:$N$105,MATCH(4,入力用シート!$I$66:$I$105,0),2),"")} | N21: {=IFERROR(INDEX(入力用シート!$C$66:$N$105,MATCH(4,入力用シート!$I$66:$I$105,0),5),"")} | P21: {=IFERROR(INDEX(入力用シート!$C$66:$N$105,MATCH(4,入力用シート!$I$66:$I$105,0),6),"")&""}
D22: {=IFERROR(INDEX(入力用シート!$C$66:$N$105,MATCH(4,入力用シート!$I$66:$I$105,0),3),"")} | I22: {=IFERROR(INDEX(入力用シート!$C$66:$N$105,MATCH(4,入力用シート!$I$66:$I$105,0),1),"")}
B24: ５ | D24: {=IFERROR(INDEX(入力用シート!$C$66:$N$105,MATCH(5,入力用シート!$I$66:$I$105,0),4),"")} | I24: {=IFERROR(INDEX(入力用シート!$C$66:$N$105,MATCH(5,入力用シート!$I$66:$I$105,0),2),"")} | N24: {=IFERROR(INDEX(入力用シート!$C$66:$N$105,MATCH(5,入力用シート!$I$66:$I$105,0),5),"")} | P24: {=IFERROR(INDEX(入力用シート!$C$66:$N$105,MATCH(5,入力用シート!$I$66:$I$105,0),6),"")&""}
D25: {=IFERROR(INDEX(入力用シート!$C$66:$N$105,MATCH(5,入力用シート!$I$66:$I$105,0),3),"")} | I25: {=IFERROR(INDEX(入力用シート!$C$66:$N$105,MATCH(5,入力用シート!$I$66:$I$105,0),1),"")}
B27: ６ | D27: {=IFERROR(INDEX(入力用シート!$C$66:$N$105,MATCH(6,入力用シート!$I$66:$I$105,0),4),"")} | I27: {=IFERROR(INDEX(入力用シート!$C$66:$N$105,MATCH(6,入力用シート!$I$66:$I$105,0),2),"")} | N27: {=IFERROR(INDEX(入力用シート!$C$66:$N$105,MATCH(6,入力用シート!$I$66:$I$105,0),5),"")} | P27: {=IFERROR(INDEX(入力用シート!$C$66:$N$105,MATCH(6,入力用シート!$I$66:$I$105,0),6),"")&""}
D28: {=IFERROR(INDEX(入力用シート!$C$66:$N$105,MATCH(6,入力用シート!$I$66:$I$105,0),3),"")} | I28: {=IFERROR(INDEX(入力用シート!$C$66:$N$105,MATCH(6,入力用シート!$I$66:$I$105,0),1),"")}
B30: ７ | D30: {=IFERROR(INDEX(入力用シート!$C$66:$N$105,MATCH(7,入力用シート!$I$66:$I$105,0),4),"")} | I30: {=IFERROR(INDEX(入力用シート!$C$66:$N$105,MATCH(7,入力用シート!$I$66:$I$105,0),2),"")} | N30: {=IFERROR(INDEX(入力用シート!$C$66:$N$105,MATCH(7,入力用シート!$I$66:$I$105,0),5),"")} | P30: {=IFERROR(INDEX(入力用シート!$C$66:$N$105,MATCH(7,入力用シート!$I$66:$I$105,0),6),"")&""}
D31: {=IFERROR(INDEX(入力用シート!$C$66:$N$105,MATCH(7,入力用シート!$I$66:$I$105,0),3),"")} | I31: {=IFERROR(INDEX(入力用シート!$C$66:$N$105,MATCH(7,入力用シート!$I$66:$I$105,0),1),"")}
B33: ８ | D33: {=IFERROR(INDEX(入力用シート!$C$66:$N$105,MATCH(8,入力用シート!$I$66:$I$105,0),4),"")} | I33: {=IFERROR(INDEX(入力用シート!$C$66:$N$105,MATCH(8,入力用シート!$I$66:$I$105,0),2),"")} | N33: {=IFERROR(INDEX(入力用シート!$C$66:$N$105,MATCH(8,入力用シート!$I$66:$I$105,0),5),"")} | P33: {=IFERROR(INDEX(入力用シート!$C$66:$N$105,MATCH(8,入力用シート!$I$66:$I$105,0),6),"")&""}
D34: {=IFERROR(INDEX(入力用シート!$C$66:$N$105,MATCH(8,入力用シート!$I$66:$I$105,0),3),"")} | I34: {=IFERROR(INDEX(入力用シート!$C$66:$N$105,MATCH(8,入力用シート!$I$66:$I$105,0),1),"")}
B36: ９ | D36: {=IFERROR(INDEX(入力用シート!$C$66:$N$105,MATCH(9,入力用シート!$I$66:$I$105,0),4),"")} | I36: {=IFERROR(INDEX(入力用シート!$C$66:$N$105,MATCH(9,入力用シート!$I$66:$I$105,0),2),"")} | N36: {=IFERROR(INDEX(入力用シート!$C$66:$N$105,MATCH(9,入力用シート!$I$66:$I$105,0),5),"")} | P36: {=IFERROR(INDEX(入力用シート!$C$66:$N$105,MATCH(9,入力用シート!$I$66:$I$105,0),6),"")&""}
D37: {=IFERROR(INDEX(入力用シート!$C$66:$N$105,MATCH(9,入力用シート!$I$66:$I$105,0),3),"")} | I37: {=IFERROR(INDEX(入力用シート!$C$66:$N$105,MATCH(9,入力用シート!$I$66:$I$105,0),1),"")}
B39: １０ | D39: {=IFERROR(INDEX(入力用シート!$C$66:$N$105,MATCH(10,入力用シート!$I$66:$I$105,0),4),"")} | I39: {=IFERROR(INDEX(入力用シート!$C$66:$N$105,MATCH(10,入力用シート!$I$66:$I$105,0),2),"")} | N39: {=IFERROR(INDEX(入力用シート!$C$66:$N$105,MATCH(10,入力用シート!$I$66:$I$105,0),5),"")} | P39: {=IFERROR(INDEX(入力用シート!$C$66:$N$105,MATCH(10,入力用シート!$I$66:$I$105,0),6),"")&""}
D40: {=IFERROR(INDEX(入力用シート!$C$66:$N$105,MATCH(10,入力用シート!$I$66:$I$105,0),3),"")} | I40: {=IFERROR(INDEX(入力用シート!$C$66:$N$105,MATCH(10,入力用シート!$I$66:$I$105,0),1),"")}
B42: １１ | D42: {=IFERROR(INDEX(入力用シート!$C$66:$N$105,MATCH(11,入力用シート!$I$66:$I$105,0),4),"")} | I42: {=IFERROR(INDEX(入力用シート!$C$66:$N$105,MATCH(11,入力用シート!$I$66:$I$105,0),2),"")} | N42: {=IFERROR(INDEX(入力用シート!$C$66:$N$105,MATCH(11,入力用シート!$I$66:$I$105,0),5),"")} | P42: {=IFERROR(INDEX(入力用シート!$C$66:$N$105,MATCH(11,入力用シート!$I$66:$I$105,0),6),"")&""}
D43: {=IFERROR(INDEX(入力用シート!$C$66:$N$105,MATCH(11,入力用シート!$I$66:$I$105,0),3),"")} | I43: {=IFERROR(INDEX(入力用シート!$C$66:$N$105,MATCH(11,入力用シート!$I$66:$I$105,0),1),"")}
B45: １２ | D45: {=IFERROR(INDEX(入力用シート!$C$66:$N$105,MATCH(12,入力用シート!$I$66:$I$105,0),4),"")} | I45: {=IFERROR(INDEX(入力用シート!$C$66:$N$105,MATCH(12,入力用シート!$I$66:$I$105,0),2),"")} | N45: {=IFERROR(INDEX(入力用シート!$C$66:$N$105,MATCH(12,入力用シート!$I$66:$I$105,0),5),"")} | P45: {=IFERROR(INDEX(入力用シート!$C$66:$N$105,MATCH(12,入力用シート!$I$66:$I$105,0),6),"")&""}
D46: {=IFERROR(INDEX(入力用シート!$C$66:$N$105,MATCH(12,入力用シート!$I$66:$I$105,0),3),"")} | I46: {=IFERROR(INDEX(入力用シート!$C$66:$N$105,MATCH(12,入力用シート!$I$66:$I$105,0),1),"")}
B48: １３ | D48: {=IFERROR(INDEX(入力用シート!$C$66:$N$105,MATCH(13,入力用シート!$I$66:$I$105,0),4),"")} | I48: {=IFERROR(INDEX(入力用シート!$C$66:$N$105,MATCH(13,入力用シート!$I$66:$I$105,0),2),"")} | N48: {=IFERROR(INDEX(入力用シート!$C$66:$N$105,MATCH(13,入力用シート!$I$66:$I$105,0),5),"")} | P48: {=IFERROR(INDEX(入力用シート!$C$66:$N$105,MATCH(13,入力用シート!$I$66:$I$105,0),6),"")&""}
D49: {=IFERROR(INDEX(入力用シート!$C$66:$N$105,MATCH(13,入力用シート!$I$66:$I$105,0),3),"")} | I49: {=IFERROR(INDEX(入力用シート!$C$66:$N$105,MATCH(13,入力用シート!$I$66:$I$105,0),1),"")}
B51: １４ | D51: {=IFERROR(INDEX(入力用シート!$C$66:$N$105,MATCH(14,入力用シート!$I$66:$I$105,0),4),"")} | I51: {=IFERROR(INDEX(入力用シート!$C$66:$N$105,MATCH(14,入力用シート!$I$66:$I$105,0),2),"")} | N51: {=IFERROR(INDEX(入力用シート!$C$66:$N$105,MATCH(14,入力用シート!$I$66:$I$105,0),5),"")} | P51: {=IFERROR(INDEX(入力用シート!$C$66:$N$105,MATCH(14,入力用シート!$I$66:$I$105,0),6),"")&""}
D52: {=IFERROR(INDEX(入力用シート!$C$66:$N$105,MATCH(14,入力用シート!$I$66:$I$105,0),3),"")} | I52: {=IFERROR(INDEX(入力用シート!$C$66:$N$105,MATCH(14,入力用シート!$I$66:$I$105,0),1),"")}
B54: １５ | D54: {=IFERROR(INDEX(入力用シート!$C$66:$N$105,MATCH(15,入力用シート!$I$66:$I$105,0),4),"")} | I54: {=IFERROR(INDEX(入力用シート!$C$66:$N$105,MATCH(15,入力用シート!$I$66:$I$105,0),2),"")} | N54: {=IFERROR(INDEX(入力用シート!$C$66:$N$105,MATCH(15,入力用シート!$I$66:$I$105,0),5),"")} | P54: {=IFERROR(INDEX(入力用シート!$C$66:$N$105,MATCH(15,入力用シート!$I$66:$I$105,0),6),"")&""}
D55: {=IFERROR(INDEX(入力用シート!$C$66:$N$105,MATCH(15,入力用シート!$I$66:$I$105,0),3),"")} | I55: {=IFERROR(INDEX(入力用シート!$C$66:$N$105,MATCH(15,入力用シート!$I$66:$I$105,0),1),"")}
B57: ・必ずランク順に記入すること。
B58: ・男女別に記入すること。種目欄に○印を記入すること。
B59: ・アルペン競技出場選手でＳＡＪ競技者管理登録をしている選手は、競技者管理登録番号 （例03004894）を記入すること。

Sheet 女・フリー④
U1: （様式４）
B2: =男・クラ④!B2 -> 令和８年度東北中学校体育大会 第６３回東北中学校スキー大会
B3: 種 目 別 出 場 選 手 一 覧 表
C5: 県 名 | E5: =入力用シート!D3 -> 0 | I5: 県 | L5: 男子 | P5: 女子 | R5: ○ | T5: 共通
B7: ＣＬ | J7: ＳＪ | R7: ＳＬ
B8: ＦＲ | D8: ○ | J8: ＮＣ | R8: ＧＳ
B10: ランク | D10: フリガナ | I10: フリガナ | N10: 学年 | P10: ＳＡＪ競技者管理 | V10: 備考
D11: 所属名 | I11: 氏 名 | P11: 登録番号(アルペンのみ)
B12: １ | D12: {=IFERROR(INDEX(入力用シート!$C$66:$N$105,MATCH(1,入力用シート!$J$66:$J$105,0),4),"")} | I12: {=IFERROR(INDEX(入力用シート!$C$66:$N$105,MATCH(1,入力用シート!$J$66:$J$105,0),2),"")} | N12: {=IFERROR(INDEX(入力用シート!$C$66:$N$105,MATCH(1,入力用シート!$J$66:$J$105,0),5),"")} | P12: {=IFERROR(INDEX(入力用シート!$C$66:$N$105,MATCH(1,入力用シート!$J$66:$J$105,0),6),"")&""}
D13: {=IFERROR(INDEX(入力用シート!$C$66:$N$105,MATCH(1,入力用シート!$J$66:$J$105,0),3),"")} | I13: {=IFERROR(INDEX(入力用シート!$C$66:$N$105,MATCH(1,入力用シート!$J$66:$J$105,0),1),"")}
B15: ２ | D15: {=IFERROR(INDEX(入力用シート!$C$66:$N$105,MATCH(2,入力用シート!$J$66:$J$105,0),4),"")} | I15: {=IFERROR(INDEX(入力用シート!$C$66:$N$105,MATCH(2,入力用シート!$J$66:$J$105,0),2),"")} | N15: {=IFERROR(INDEX(入力用シート!$C$66:$N$105,MATCH(2,入力用シート!$J$66:$J$105,0),5),"")} | P15: {=IFERROR(INDEX(入力用シート!$C$66:$N$105,MATCH(2,入力用シート!$J$66:$J$105,0),6),"")&""}
D16: {=IFERROR(INDEX(入力用シート!$C$66:$N$105,MATCH(2,入力用シート!$J$66:$J$105,0),3),"")} | I16: {=IFERROR(INDEX(入力用シート!$C$66:$N$105,MATCH(2,入力用シート!$J$66:$J$105,0),1),"")}
B18: ３ | D18: {=IFERROR(INDEX(入力用シート!$C$66:$N$105,MATCH(3,入力用シート!$J$66:$J$105,0),4),"")} | I18: {=IFERROR(INDEX(入力用シート!$C$66:$N$105,MATCH(3,入力用シート!$J$66:$J$105,0),2),"")} | N18: {=IFERROR(INDEX(入力用シート!$C$66:$N$105,MATCH(3,入力用シート!$J$66:$J$105,0),5),"")} | P18: {=IFERROR(INDEX(入力用シート!$C$66:$N$105,MATCH(3,入力用シート!$J$66:$J$105,0),6),"")&""}
D19: {=IFERROR(INDEX(入力用シート!$C$66:$N$105,MATCH(3,入力用シート!$J$66:$J$105,0),3),"")} | I19: {=IFERROR(INDEX(入力用シート!$C$66:$N$105,MATCH(3,入力用シート!$J$66:$J$105,0),1),"")}
B21: ４ | D21: {=IFERROR(INDEX(入力用シート!$C$66:$N$105,MATCH(4,入力用シート!$J$66:$J$105,0),4),"")} | I21: {=IFERROR(INDEX(入力用シート!$C$66:$N$105,MATCH(4,入力用シート!$J$66:$J$105,0),2),"")} | N21: {=IFERROR(INDEX(入力用シート!$C$66:$N$105,MATCH(4,入力用シート!$J$66:$J$105,0),5),"")} | P21: {=IFERROR(INDEX(入力用シート!$C$66:$N$105,MATCH(4,入力用シート!$J$66:$J$105,0),6),"")&""}
D22: {=IFERROR(INDEX(入力用シート!$C$66:$N$105,MATCH(4,入力用シート!$J$66:$J$105,0),3),"")} | I22: {=IFERROR(INDEX(入力用シート!$C$66:$N$105,MATCH(4,入力用シート!$J$66:$J$105,0),1),"")}
B24: ５ | D24: {=IFERROR(INDEX(入力用シート!$C$66:$N$105,MATCH(5,入力用シート!$J$66:$J$105,0),4),"")} | I24: {=IFERROR(INDEX(入力用シート!$C$66:$N$105,MATCH(5,入力用シート!$J$66:$J$105,0),2),"")} | N24: {=IFERROR(INDEX(入力用シート!$C$66:$N$105,MATCH(5,入力用シート!$J$66:$J$105,0),5),"")} | P24: {=IFERROR(INDEX(入力用シート!$C$66:$N$105,MATCH(5,入力用シート!$J$66:$J$105,0),6),"")&""}
D25: {=IFERROR(INDEX(入力用シート!$C$66:$N$105,MATCH(5,入力用シート!$J$66:$J$105,0),3),"")} | I25: {=IFERROR(INDEX(入力用シート!$C$66:$N$105,MATCH(5,入力用シート!$J$66:$J$105,0),1),"")}
B27: ６ | D27: {=IFERROR(INDEX(入力用シート!$C$66:$N$105,MATCH(6,入力用シート!$J$66:$J$105,0),4),"")} | I27: {=IFERROR(INDEX(入力用シート!$C$66:$N$105,MATCH(6,入力用シート!$J$66:$J$105,0),2),"")} | N27: {=IFERROR(INDEX(入力用シート!$C$66:$N$105,MATCH(6,入力用シート!$J$66:$J$105,0),5),"")} | P27: {=IFERROR(INDEX(入力用シート!$C$66:$N$105,MATCH(6,入力用シート!$J$66:$J$105,0),6),"")&""}
D28: {=IFERROR(INDEX(入力用シート!$C$66:$N$105,MATCH(6,入力用シート!$J$66:$J$105,0),3),"")} | I28: {=IFERROR(INDEX(入力用シート!$C$66:$N$105,MATCH(6,入力用シート!$J$66:$J$105,0),1),"")}
B30: ７ | D30: {=IFERROR(INDEX(入力用シート!$C$66:$N$105,MATCH(7,入力用シート!$J$66:$J$105,0),4),"")} | I30: {=IFERROR(INDEX(入力用シート!$C$66:$N$105,MATCH(7,入力用シート!$J$66:$J$105,0),2),"")} | N30: {=IFERROR(INDEX(入力用シート!$C$66:$N$105,MATCH(7,入力用シート!$J$66:$J$105,0),5),"")} | P30: {=IFERROR(INDEX(入力用シート!$C$66:$N$105,MATCH(7,入力用シート!$J$66:$J$105,0),6),"")&""}
D31: {=IFERROR(INDEX(入力用シート!$C$66:$N$105,MATCH(7,入力用シート!$J$66:$J$105,0),3),"")} | I31: {=IFERROR(INDEX(入力用シート!$C$66:$N$105,MATCH(7,入力用シート!$J$66:$J$105,0),1),"")}
B33: ８ | D33: {=IFERROR(INDEX(入力用シート!$C$66:$N$105,MATCH(8,入力用シート!$J$66:$J$105,0),4),"")} | I33: {=IFERROR(INDEX(入力用シート!$C$66:$N$105,MATCH(8,入力用シート!$J$66:$J$105,0),2),"")} | N33: {=IFERROR(INDEX(入力用シート!$C$66:$N$105,MATCH(8,入力用シート!$J$66:$J$105,0),5),"")} | P33: {=IFERROR(INDEX(入力用シート!$C$66:$N$105,MATCH(8,入力用シート!$J$66:$J$105,0),6),"")&""}
D34: {=IFERROR(INDEX(入力用シート!$C$66:$N$105,MATCH(8,入力用シート!$J$66:$J$105,0),3),"")} | I34: {=IFERROR(INDEX(入力用シート!$C$66:$N$105,MATCH(8,入力用シート!$J$66:$J$105,0),1),"")}
B36: ９ | D36: {=IFERROR(INDEX(入力用シート!$C$66:$N$105,MATCH(9,入力用シート!$J$66:$J$105,0),4),"")} | I36: {=IFERROR(INDEX(入力用シート!$C$66:$N$105,MATCH(9,入力用シート!$J$66:$J$105,0),2),"")} | N36: {=IFERROR(INDEX(入力用シート!$C$66:$N$105,MATCH(9,入力用シート!$J$66:$J$105,0),5),"")} | P36: {=IFERROR(INDEX(入力用シート!$C$66:$N$105,MATCH(9,入力用シート!$J$66:$J$105,0),6),"")&""}
D37: {=IFERROR(INDEX(入力用シート!$C$66:$N$105,MATCH(9,入力用シート!$J$66:$J$105,0),3),"")} | I37: {=IFERROR(INDEX(入力用シート!$C$66:$N$105,MATCH(9,入力用シート!$J$66:$J$105,0),1),"")}
B39: １０ | D39: {=IFERROR(INDEX(入力用シート!$C$66:$N$105,MATCH(10,入力用シート!$J$66:$J$105,0),4),"")} | I39: {=IFERROR(INDEX(入力用シート!$C$66:$N$105,MATCH(10,入力用シート!$J$66:$J$105,0),2),"")} | N39: {=IFERROR(INDEX(入力用シート!$C$66:$N$105,MATCH(10,入力用シート!$J$66:$J$105,0),5),"")} | P39: {=IFERROR(INDEX(入力用シート!$C$66:$N$105,MATCH(10,入力用シート!$J$66:$J$105,0),6),"")&""}
D40: {=IFERROR(INDEX(入力用シート!$C$66:$N$105,MATCH(10,入力用シート!$J$66:$J$105,0),3),"")} | I40: {=IFERROR(INDEX(入力用シート!$C$66:$N$105,MATCH(10,入力用シート!$J$66:$J$105,0),1),"")}
B42: １１ | D42: {=IFERROR(INDEX(入力用シート!$C$66:$N$105,MATCH(11,入力用シート!$J$66:$J$105,0),4),"")} | I42: {=IFERROR(INDEX(入力用シート!$C$66:$N$105,MATCH(11,入力用シート!$J$66:$J$105,0),2),"")} | N42: {=IFERROR(INDEX(入力用シート!$C$66:$N$105,MATCH(11,入力用シート!$J$66:$J$105,0),5),"")} | P42: {=IFERROR(INDEX(入力用シート!$C$66:$N$105,MATCH(11,入力用シート!$J$66:$J$105,0),6),"")&""}
D43: {=IFERROR(INDEX(入力用シート!$C$66:$N$105,MATCH(11,入力用シート!$J$66:$J$105,0),3),"")} | I43: {=IFERROR(INDEX(入力用シート!$C$66:$N$105,MATCH(11,入力用シート!$J$66:$J$105,0),1),"")}
B45: １２ | D45: {=IFERROR(INDEX(入力用シート!$C$66:$N$105,MATCH(12,入力用シート!$J$66:$J$105,0),4),"")} | I45: {=IFERROR(INDEX(入力用シート!$C$66:$N$105,MATCH(12,入力用シート!$J$66:$J$105,0),2),"")} | N45: {=IFERROR(INDEX(入力用シート!$C$66:$N$105,MATCH(12,入力用シート!$J$66:$J$105,0),5),"")} | P45: {=IFERROR(INDEX(入力用シート!$C$66:$N$105,MATCH(12,入力用シート!$J$66:$J$105,0),6),"")&""}
D46: {=IFERROR(INDEX(入力用シート!$C$66:$N$105,MATCH(12,入力用シート!$J$66:$J$105,0),3),"")} | I46: {=IFERROR(INDEX(入力用シート!$C$66:$N$105,MATCH(12,入力用シート!$J$66:$J$105,0),1),"")}
B48: １３ | D48: {=IFERROR(INDEX(入力用シート!$C$66:$N$105,MATCH(13,入力用シート!$J$66:$J$105,0),4),"")} | I48: {=IFERROR(INDEX(入力用シート!$C$66:$N$105,MATCH(13,入力用シート!$J$66:$J$105,0),2),"")} | N48: {=IFERROR(INDEX(入力用シート!$C$66:$N$105,MATCH(13,入力用シート!$J$66:$J$105,0),5),"")} | P48: {=IFERROR(INDEX(入力用シート!$C$66:$N$105,MATCH(13,入力用シート!$J$66:$J$105,0),6),"")&""}
D49: {=IFERROR(INDEX(入力用シート!$C$66:$N$105,MATCH(13,入力用シート!$J$66:$J$105,0),3),"")} | I49: {=IFERROR(INDEX(入力用シート!$C$66:$N$105,MATCH(13,入力用シート!$J$66:$J$105,0),1),"")}
B51: １４ | D51: {=IFERROR(INDEX(入力用シート!$C$66:$N$105,MATCH(14,入力用シート!$J$66:$J$105,0),4),"")} | I51: {=IFERROR(INDEX(入力用シート!$C$66:$N$105,MATCH(14,入力用シート!$J$66:$J$105,0),2),"")} | N51: {=IFERROR(INDEX(入力用シート!$C$66:$N$105,MATCH(14,入力用シート!$J$66:$J$105,0),5),"")} | P51: {=IFERROR(INDEX(入力用シート!$C$66:$N$105,MATCH(14,入力用シート!$J$66:$J$105,0),6),"")&""}
D52: {=IFERROR(INDEX(入力用シート!$C$66:$N$105,MATCH(14,入力用シート!$J$66:$J$105,0),3),"")} | I52: {=IFERROR(INDEX(入力用シート!$C$66:$N$105,MATCH(14,入力用シート!$J$66:$J$105,0),1),"")}
B54: １５ | D54: {=IFERROR(INDEX(入力用シート!$C$66:$N$105,MATCH(15,入力用シート!$J$66:$J$105,0),4),"")} | I54: {=IFERROR(INDEX(入力用シート!$C$66:$N$105,MATCH(15,入力用シート!$J$66:$J$105,0),2),"")} | N54: {=IFERROR(INDEX(入力用シート!$C$66:$N$105,MATCH(15,入力用シート!$J$66:$J$105,0),5),"")} | P54: {=IFERROR(INDEX(入力用シート!$C$66:$N$105,MATCH(15,入力用シート!$J$66:$J$105,0),6),"")&""}
D55: {=IFERROR(INDEX(入力用シート!$C$66:$N$105,MATCH(15,入力用シート!$J$66:$J$105,0),3),"")} | I55: {=IFERROR(INDEX(入力用シート!$C$66:$N$105,MATCH(15,入力用シート!$J$66:$J$105,0),1),"")}
B57: ・必ずランク順に記入すること。
B58: ・男女別に記入すること。種目欄に○印を記入すること。
B59: ・アルペン競技出場選手でＳＡＪ競技者管理登録をしている選手は、競技者管理登録番号 （例03004894）を記入すること。

Sheet 男・SL④
U1: （様式４）
B2: =男・クラ④!B2 -> 令和８年度東北中学校体育大会 第６３回東北中学校スキー大会
B3: 種 目 別 出 場 選 手 一 覧 表
C5: 県 名 | E5: =入力用シート!D3 -> 0 | I5: 県 | L5: 男子 | N5: ○ | P5: 女子 | T5: 共通
B7: ＣＬ | J7: ＳＪ | R7: ＳＬ | T7: ○
B8: ＦＲ | J8: ＮＣ | R8: ＧＳ
B10: ランク | D10: フリガナ | I10: フリガナ | N10: 学年 | P10: ＳＡＪ競技者管理 | V10: 備考
D11: 所属名 | I11: 氏 名 | P11: 登録番号(アルペンのみ)
B12: １ | D12: {=IFERROR(INDEX(入力用シート!$C$7:$N$61,MATCH(1,入力用シート!$K$7:$K$61,0),4),"")} | I12: {=IFERROR(INDEX(入力用シート!$C$7:$N$61,MATCH(1,入力用シート!$K$7:$K$61,0),2),"")} | N12: {=IFERROR(INDEX(入力用シート!$C$7:$N$61,MATCH(1,入力用シート!$K$7:$K$61,0),5),"")} | P12: {=IFERROR(INDEX(入力用シート!$C$7:$N$61,MATCH(1,入力用シート!$K$7:$K$61,0),6),"")&""}
D13: {=IFERROR(INDEX(入力用シート!$C$7:$N$61,MATCH(1,入力用シート!$K$7:$K$61,0),3),"")} | I13: {=IFERROR(INDEX(入力用シート!$C$7:$N$61,MATCH(1,入力用シート!$K$7:$K$61,0),1),"")}
B15: ２ | D15: {=IFERROR(INDEX(入力用シート!$C$7:$N$61,MATCH(2,入力用シート!$K$7:$K$61,0),4),"")} | I15: {=IFERROR(INDEX(入力用シート!$C$7:$N$61,MATCH(2,入力用シート!$K$7:$K$61,0),2),"")} | N15: {=IFERROR(INDEX(入力用シート!$C$7:$N$61,MATCH(2,入力用シート!$K$7:$K$61,0),5),"")} | P15: {=IFERROR(INDEX(入力用シート!$C$7:$N$61,MATCH(2,入力用シート!$K$7:$K$61,0),6),"")&""}
D16: {=IFERROR(INDEX(入力用シート!$C$7:$N$61,MATCH(2,入力用シート!$K$7:$K$61,0),3),"")} | I16: {=IFERROR(INDEX(入力用シート!$C$7:$N$61,MATCH(2,入力用シート!$K$7:$K$61,0),1),"")}
B18: ３ | D18: {=IFERROR(INDEX(入力用シート!$C$7:$N$61,MATCH(3,入力用シート!$K$7:$K$61,0),4),"")} | I18: {=IFERROR(INDEX(入力用シート!$C$7:$N$61,MATCH(3,入力用シート!$K$7:$K$61,0),2),"")} | N18: {=IFERROR(INDEX(入力用シート!$C$7:$N$61,MATCH(3,入力用シート!$K$7:$K$61,0),5),"")} | P18: {=IFERROR(INDEX(入力用シート!$C$7:$N$61,MATCH(3,入力用シート!$K$7:$K$61,0),6),"")&""}
D19: {=IFERROR(INDEX(入力用シート!$C$7:$N$61,MATCH(3,入力用シート!$K$7:$K$61,0),3),"")} | I19: {=IFERROR(INDEX(入力用シート!$C$7:$N$61,MATCH(3,入力用シート!$K$7:$K$61,0),1),"")}
B21: ４ | D21: {=IFERROR(INDEX(入力用シート!$C$7:$N$61,MATCH(4,入力用シート!$K$7:$K$61,0),4),"")} | I21: {=IFERROR(INDEX(入力用シート!$C$7:$N$61,MATCH(4,入力用シート!$K$7:$K$61,0),2),"")} | N21: {=IFERROR(INDEX(入力用シート!$C$7:$N$61,MATCH(4,入力用シート!$K$7:$K$61,0),5),"")} | P21: {=IFERROR(INDEX(入力用シート!$C$7:$N$61,MATCH(4,入力用シート!$K$7:$K$61,0),6),"")&""}
D22: {=IFERROR(INDEX(入力用シート!$C$7:$N$61,MATCH(4,入力用シート!$K$7:$K$61,0),3),"")} | I22: {=IFERROR(INDEX(入力用シート!$C$7:$N$61,MATCH(4,入力用シート!$K$7:$K$61,0),1),"")}
B24: ５ | D24: {=IFERROR(INDEX(入力用シート!$C$7:$N$61,MATCH(5,入力用シート!$K$7:$K$61,0),4),"")} | I24: {=IFERROR(INDEX(入力用シート!$C$7:$N$61,MATCH(5,入力用シート!$K$7:$K$61,0),2),"")} | N24: {=IFERROR(INDEX(入力用シート!$C$7:$N$61,MATCH(5,入力用シート!$K$7:$K$61,0),5),"")} | P24: {=IFERROR(INDEX(入力用シート!$C$7:$N$61,MATCH(5,入力用シート!$K$7:$K$61,0),6),"")&""}
D25: {=IFERROR(INDEX(入力用シート!$C$7:$N$61,MATCH(5,入力用シート!$K$7:$K$61,0),3),"")} | I25: {=IFERROR(INDEX(入力用シート!$C$7:$N$61,MATCH(5,入力用シート!$K$7:$K$61,0),1),"")}
B27: ６ | D27: {=IFERROR(INDEX(入力用シート!$C$7:$N$61,MATCH(6,入力用シート!$K$7:$K$61,0),4),"")} | I27: {=IFERROR(INDEX(入力用シート!$C$7:$N$61,MATCH(6,入力用シート!$K$7:$K$61,0),2),"")} | N27: {=IFERROR(INDEX(入力用シート!$C$7:$N$61,MATCH(6,入力用シート!$K$7:$K$61,0),5),"")} | P27: {=IFERROR(INDEX(入力用シート!$C$7:$N$61,MATCH(6,入力用シート!$K$7:$K$61,0),6),"")&""}
D28: {=IFERROR(INDEX(入力用シート!$C$7:$N$61,MATCH(6,入力用シート!$K$7:$K$61,0),3),"")} | I28: {=IFERROR(INDEX(入力用シート!$C$7:$N$61,MATCH(6,入力用シート!$K$7:$K$61,0),1),"")}
B30: ７ | D30: {=IFERROR(INDEX(入力用シート!$C$7:$N$61,MATCH(7,入力用シート!$K$7:$K$61,0),4),"")} | I30: {=IFERROR(INDEX(入力用シート!$C$7:$N$61,MATCH(7,入力用シート!$K$7:$K$61,0),2),"")} | N30: {=IFERROR(INDEX(入力用シート!$C$7:$N$61,MATCH(7,入力用シート!$K$7:$K$61,0),5),"")} | P30: {=IFERROR(INDEX(入力用シート!$C$7:$N$61,MATCH(7,入力用シート!$K$7:$K$61,0),6),"")&""}
D31: {=IFERROR(INDEX(入力用シート!$C$7:$N$61,MATCH(7,入力用シート!$K$7:$K$61,0),3),"")} | I31: {=IFERROR(INDEX(入力用シート!$C$7:$N$61,MATCH(7,入力用シート!$K$7:$K$61,0),1),"")}
B33: ８ | D33: {=IFERROR(INDEX(入力用シート!$C$7:$N$61,MATCH(8,入力用シート!$K$7:$K$61,0),4),"")} | I33: {=IFERROR(INDEX(入力用シート!$C$7:$N$61,MATCH(8,入力用シート!$K$7:$K$61,0),2),"")} | N33: {=IFERROR(INDEX(入力用シート!$C$7:$N$61,MATCH(8,入力用シート!$K$7:$K$61,0),5),"")} | P33: {=IFERROR(INDEX(入力用シート!$C$7:$N$61,MATCH(8,入力用シート!$K$7:$K$61,0),6),"")&""}
D34: {=IFERROR(INDEX(入力用シート!$C$7:$N$61,MATCH(8,入力用シート!$K$7:$K$61,0),3),"")} | I34: {=IFERROR(INDEX(入力用シート!$C$7:$N$61,MATCH(8,入力用シート!$K$7:$K$61,0),1),"")}
B36: ９ | D36: {=IFERROR(INDEX(入力用シート!$C$7:$N$61,MATCH(9,入力用シート!$K$7:$K$61,0),4),"")} | I36: {=IFERROR(INDEX(入力用シート!$C$7:$N$61,MATCH(9,入力用シート!$K$7:$K$61,0),2),"")} | N36: {=IFERROR(INDEX(入力用シート!$C$7:$N$61,MATCH(9,入力用シート!$K$7:$K$61,0),5),"")} | P36: {=IFERROR(INDEX(入力用シート!$C$7:$N$61,MATCH(9,入力用シート!$K$7:$K$61,0),6),"")&""}
D37: {=IFERROR(INDEX(入力用シート!$C$7:$N$61,MATCH(9,入力用シート!$K$7:$K$61,0),3),"")} | I37: {=IFERROR(INDEX(入力用シート!$C$7:$N$61,MATCH(9,入力用シート!$K$7:$K$61,0),1),"")}
B39: １０ | D39: {=IFERROR(INDEX(入力用シート!$C$7:$N$61,MATCH(10,入力用シート!$K$7:$K$61,0),4),"")} | I39: {=IFERROR(INDEX(入力用シート!$C$7:$N$61,MATCH(10,入力用シート!$K$7:$K$61,0),2),"")} | N39: {=IFERROR(INDEX(入力用シート!$C$7:$N$61,MATCH(10,入力用シート!$K$7:$K$61,0),5),"")} | P39: {=IFERROR(INDEX(入力用シート!$C$7:$N$61,MATCH(10,入力用シート!$K$7:$K$61,0),6),"")&""}
D40: {=IFERROR(INDEX(入力用シート!$C$7:$N$61,MATCH(10,入力用シート!$K$7:$K$61,0),3),"")} | I40: {=IFERROR(INDEX(入力用シート!$C$7:$N$61,MATCH(10,入力用シート!$K$7:$K$61,0),1),"")}
B42: １１ | D42: {=IFERROR(INDEX(入力用シート!$C$7:$N$61,MATCH(11,入力用シート!$K$7:$K$61,0),4),"")} | I42: {=IFERROR(INDEX(入力用シート!$C$7:$N$61,MATCH(11,入力用シート!$K$7:$K$61,0),2),"")} | N42: {=IFERROR(INDEX(入力用シート!$C$7:$N$61,MATCH(11,入力用シート!$K$7:$K$61,0),5),"")} | P42: {=IFERROR(INDEX(入力用シート!$C$7:$N$61,MATCH(11,入力用シート!$K$7:$K$61,0),6),"")&""}
D43: {=IFERROR(INDEX(入力用シート!$C$7:$N$61,MATCH(11,入力用シート!$K$7:$K$61,0),3),"")} | I43: {=IFERROR(INDEX(入力用シート!$C$7:$N$61,MATCH(11,入力用シート!$K$7:$K$61,0),1),"")}
B45: １２ | D45: {=IFERROR(INDEX(入力用シート!$C$7:$N$61,MATCH(12,入力用シート!$K$7:$K$61,0),4),"")} | I45: {=IFERROR(INDEX(入力用シート!$C$7:$N$61,MATCH(12,入力用シート!$K$7:$K$61,0),2),"")} | N45: {=IFERROR(INDEX(入力用シート!$C$7:$N$61,MATCH(12,入力用シート!$K$7:$K$61,0),5),"")} | P45: {=IFERROR(INDEX(入力用シート!$C$7:$N$61,MATCH(12,入力用シート!$K$7:$K$61,0),6),"")&""}
D46: {=IFERROR(INDEX(入力用シート!$C$7:$N$61,MATCH(12,入力用シート!$K$7:$K$61,0),3),"")} | I46: {=IFERROR(INDEX(入力用シート!$C$7:$N$61,MATCH(12,入力用シート!$K$7:$K$61,0),1),"")}
B48: １３ | D48: {=IFERROR(INDEX(入力用シート!$C$7:$N$61,MATCH(13,入力用シート!$K$7:$K$61,0),4),"")} | I48: {=IFERROR(INDEX(入力用シート!$C$7:$N$61,MATCH(13,入力用シート!$K$7:$K$61,0),2),"")} | N48: {=IFERROR(INDEX(入力用シート!$C$7:$N$61,MATCH(13,入力用シート!$K$7:$K$61,0),5),"")} | P48: {=IFERROR(INDEX(入力用シート!$C$7:$N$61,MATCH(13,入力用シート!$K$7:$K$61,0),6),"")&""}
D49: {=IFERROR(INDEX(入力用シート!$C$7:$N$61,MATCH(13,入力用シート!$K$7:$K$61,0),3),"")} | I49: {=IFERROR(INDEX(入力用シート!$C$7:$N$61,MATCH(13,入力用シート!$K$7:$K$61,0),1),"")}
B51: １４ | D51: {=IFERROR(INDEX(入力用シート!$C$7:$N$61,MATCH(14,入力用シート!$K$7:$K$61,0),4),"")} | I51: {=IFERROR(INDEX(入力用シート!$C$7:$N$61,MATCH(14,入力用シート!$K$7:$K$61,0),2),"")} | N51: {=IFERROR(INDEX(入力用シート!$C$7:$N$61,MATCH(14,入力用シート!$K$7:$K$61,0),5),"")} | P51: {=IFERROR(INDEX(入力用シート!$C$7:$N$61,MATCH(14,入力用シート!$K$7:$K$61,0),6),"")&""}
D52: {=IFERROR(INDEX(入力用シート!$C$7:$N$61,MATCH(14,入力用シート!$K$7:$K$61,0),3),"")} | I52: {=IFERROR(INDEX(入力用シート!$C$7:$N$61,MATCH(14,入力用シート!$K$7:$K$61,0),1),"")}
B54: １５ | D54: {=IFERROR(INDEX(入力用シート!$C$7:$N$61,MATCH(15,入力用シート!$K$7:$K$61,0),4),"")} | I54: {=IFERROR(INDEX(入力用シート!$C$7:$N$61,MATCH(15,入力用シート!$K$7:$K$61,0),2),"")} | N54: {=IFERROR(INDEX(入力用シート!$C$7:$N$61,MATCH(15,入力用シート!$K$7:$K$61,0),5),"")} | P54: {=IFERROR(INDEX(入力用シート!$C$7:$N$61,MATCH(15,入力用シート!$K$7:$K$61,0),6),"")&""}
D55: {=IFERROR(INDEX(入力用シート!$C$7:$N$61,MATCH(15,入力用シート!$K$7:$K$61,0),3),"")} | I55: {=IFERROR(INDEX(入力用シート!$C$7:$N$61,MATCH(15,入力用シート!$K$7:$K$61,0),1),"")}
B57: ・必ずランク順に記入すること。
B58: ・男女別に記入すること。種目欄に○印を記入すること。
B59: ・アルペン競技出場選手でＳＡＪ競技者管理登録をしている選手は、競技者管理登録番号 （例03004894）を記入すること。

Sheet 男・GS④
U1: （様式４）
B2: =男・クラ④!B2 -> 令和８年度東北中学校体育大会 第６３回東北中学校スキー大会
B3: 種 目 別 出 場 選 手 一 覧 表
C5: 県 名 | E5: =入力用シート!D3 -> 0 | I5: 県 | L5: 男子 | N5: ○ | P5: 女子 | T5: 共通
B7: ＣＬ | J7: ＳＪ | R7: ＳＬ
B8: ＦＲ | J8: ＮＣ | R8: ＧＳ | T8: ○
B10: ランク | D10: フリガナ | I10: フリガナ | N10: 学年 | P10: ＳＡＪ競技者管理 | V10: 備考
D11: 所属名 | I11: 氏 名 | P11: 登録番号(アルペンのみ)
B12: １ | D12: {=IFERROR(INDEX(入力用シート!$C$7:$N$61,MATCH(1,入力用シート!$L$7:$L$61,0),4),"")} | I12: {=IFERROR(INDEX(入力用シート!$C$7:$N$61,MATCH(1,入力用シート!$L$7:$L$61,0),2),"")} | N12: {=IFERROR(INDEX(入力用シート!$C$7:$N$61,MATCH(1,入力用シート!$L$7:$L$61,0),5),"")} | P12: {=IFERROR(INDEX(入力用シート!$C$7:$N$61,MATCH(1,入力用シート!$L$7:$L$61,0),6),"")&""}
D13: {=IFERROR(INDEX(入力用シート!$C$7:$N$61,MATCH(1,入力用シート!$L$7:$L$61,0),3),"")} | I13: {=IFERROR(INDEX(入力用シート!$C$7:$N$61,MATCH(1,入力用シート!$L$7:$L$61,0),1),"")}
B15: ２ | D15: {=IFERROR(INDEX(入力用シート!$C$7:$N$61,MATCH(2,入力用シート!$L$7:$L$61,0),4),"")} | I15: {=IFERROR(INDEX(入力用シート!$C$7:$N$61,MATCH(2,入力用シート!$L$7:$L$61,0),2),"")} | N15: {=IFERROR(INDEX(入力用シート!$C$7:$N$61,MATCH(2,入力用シート!$L$7:$L$61,0),5),"")} | P15: {=IFERROR(INDEX(入力用シート!$C$7:$N$61,MATCH(2,入力用シート!$L$7:$L$61,0),6),"")&""}
D16: {=IFERROR(INDEX(入力用シート!$C$7:$N$61,MATCH(2,入力用シート!$L$7:$L$61,0),3),"")} | I16: {=IFERROR(INDEX(入力用シート!$C$7:$N$61,MATCH(2,入力用シート!$L$7:$L$61,0),1),"")}
B18: ３ | D18: {=IFERROR(INDEX(入力用シート!$C$7:$N$61,MATCH(3,入力用シート!$L$7:$L$61,0),4),"")} | I18: {=IFERROR(INDEX(入力用シート!$C$7:$N$61,MATCH(3,入力用シート!$L$7:$L$61,0),2),"")} | N18: {=IFERROR(INDEX(入力用シート!$C$7:$N$61,MATCH(3,入力用シート!$L$7:$L$61,0),5),"")} | P18: {=IFERROR(INDEX(入力用シート!$C$7:$N$61,MATCH(3,入力用シート!$L$7:$L$61,0),6),"")&""}
D19: {=IFERROR(INDEX(入力用シート!$C$7:$N$61,MATCH(3,入力用シート!$L$7:$L$61,0),3),"")} | I19: {=IFERROR(INDEX(入力用シート!$C$7:$N$61,MATCH(3,入力用シート!$L$7:$L$61,0),1),"")}
B21: ４ | D21: {=IFERROR(INDEX(入力用シート!$C$7:$N$61,MATCH(4,入力用シート!$L$7:$L$61,0),4),"")} | I21: {=IFERROR(INDEX(入力用シート!$C$7:$N$61,MATCH(4,入力用シート!$L$7:$L$61,0),2),"")} | N21: {=IFERROR(INDEX(入力用シート!$C$7:$N$61,MATCH(4,入力用シート!$L$7:$L$61,0),5),"")} | P21: {=IFERROR(INDEX(入力用シート!$C$7:$N$61,MATCH(4,入力用シート!$L$7:$L$61,0),6),"")&""}
D22: {=IFERROR(INDEX(入力用シート!$C$7:$N$61,MATCH(4,入力用シート!$L$7:$L$61,0),3),"")} | I22: {=IFERROR(INDEX(入力用シート!$C$7:$N$61,MATCH(4,入力用シート!$L$7:$L$61,0),1),"")}
B24: ５ | D24: {=IFERROR(INDEX(入力用シート!$C$7:$N$61,MATCH(5,入力用シート!$L$7:$L$61,0),4),"")} | I24: {=IFERROR(INDEX(入力用シート!$C$7:$N$61,MATCH(5,入力用シート!$L$7:$L$61,0),2),"")} | N24: {=IFERROR(INDEX(入力用シート!$C$7:$N$61,MATCH(5,入力用シート!$L$7:$L$61,0),5),"")} | P24: {=IFERROR(INDEX(入力用シート!$C$7:$N$61,MATCH(5,入力用シート!$L$7:$L$61,0),6),"")&""}
D25: {=IFERROR(INDEX(入力用シート!$C$7:$N$61,MATCH(5,入力用シート!$L$7:$L$61,0),3),"")} | I25: {=IFERROR(INDEX(入力用シート!$C$7:$N$61,MATCH(5,入力用シート!$L$7:$L$61,0),1),"")}
B27: ６ | D27: {=IFERROR(INDEX(入力用シート!$C$7:$N$61,MATCH(6,入力用シート!$L$7:$L$61,0),4),"")} | I27: {=IFERROR(INDEX(入力用シート!$C$7:$N$61,MATCH(6,入力用シート!$L$7:$L$61,0),2),"")} | N27: {=IFERROR(INDEX(入力用シート!$C$7:$N$61,MATCH(6,入力用シート!$L$7:$L$61,0),5),"")} | P27: {=IFERROR(INDEX(入力用シート!$C$7:$N$61,MATCH(6,入力用シート!$L$7:$L$61,0),6),"")&""}
D28: {=IFERROR(INDEX(入力用シート!$C$7:$N$61,MATCH(6,入力用シート!$L$7:$L$61,0),3),"")} | I28: {=IFERROR(INDEX(入力用シート!$C$7:$N$61,MATCH(6,入力用シート!$L$7:$L$61,0),1),"")}
B30: ７ | D30: {=IFERROR(INDEX(入力用シート!$C$7:$N$61,MATCH(7,入力用シート!$L$7:$L$61,0),4),"")} | I30: {=IFERROR(INDEX(入力用シート!$C$7:$N$61,MATCH(7,入力用シート!$L$7:$L$61,0),2),"")} | N30: {=IFERROR(INDEX(入力用シート!$C$7:$N$61,MATCH(7,入力用シート!$L$7:$L$61,0),5),"")} | P30: {=IFERROR(INDEX(入力用シート!$C$7:$N$61,MATCH(7,入力用シート!$L$7:$L$61,0),6),"")&""}
D31: {=IFERROR(INDEX(入力用シート!$C$7:$N$61,MATCH(7,入力用シート!$L$7:$L$61,0),3),"")} | I31: {=IFERROR(INDEX(入力用シート!$C$7:$N$61,MATCH(7,入力用シート!$L$7:$L$61,0),1),"")}
B33: ８ | D33: {=IFERROR(INDEX(入力用シート!$C$7:$N$61,MATCH(8,入力用シート!$L$7:$L$61,0),4),"")} | I33: {=IFERROR(INDEX(入力用シート!$C$7:$N$61,MATCH(8,入力用シート!$L$7:$L$61,0),2),"")} | N33: {=IFERROR(INDEX(入力用シート!$C$7:$N$61,MATCH(8,入力用シート!$L$7:$L$61,0),5),"")} | P33: {=IFERROR(INDEX(入力用シート!$C$7:$N$61,MATCH(8,入力用シート!$L$7:$L$61,0),6),"")&""}
D34: {=IFERROR(INDEX(入力用シート!$C$7:$N$61,MATCH(8,入力用シート!$L$7:$L$61,0),3),"")} | I34: {=IFERROR(INDEX(入力用シート!$C$7:$N$61,MATCH(8,入力用シート!$L$7:$L$61,0),1),"")}
B36: ９ | D36: {=IFERROR(INDEX(入力用シート!$C$7:$N$61,MATCH(9,入力用シート!$L$7:$L$61,0),4),"")} | I36: {=IFERROR(INDEX(入力用シート!$C$7:$N$61,MATCH(9,入力用シート!$L$7:$L$61,0),2),"")} | N36: {=IFERROR(INDEX(入力用シート!$C$7:$N$61,MATCH(9,入力用シート!$L$7:$L$61,0),5),"")} | P36: {=IFERROR(INDEX(入力用シート!$C$7:$N$61,MATCH(9,入力用シート!$L$7:$L$61,0),6),"")&""}
D37: {=IFERROR(INDEX(入力用シート!$C$7:$N$61,MATCH(9,入力用シート!$L$7:$L$61,0),3),"")} | I37: {=IFERROR(INDEX(入力用シート!$C$7:$N$61,MATCH(9,入力用シート!$L$7:$L$61,0),1),"")}
B39: １０ | D39: {=IFERROR(INDEX(入力用シート!$C$7:$N$61,MATCH(10,入力用シート!$L$7:$L$61,0),4),"")} | I39: {=IFERROR(INDEX(入力用シート!$C$7:$N$61,MATCH(10,入力用シート!$L$7:$L$61,0),2),"")} | N39: {=IFERROR(INDEX(入力用シート!$C$7:$N$61,MATCH(10,入力用シート!$L$7:$L$61,0),5),"")} | P39: {=IFERROR(INDEX(入力用シート!$C$7:$N$61,MATCH(10,入力用シート!$L$7:$L$61,0),6),"")&""}
D40: {=IFERROR(INDEX(入力用シート!$C$7:$N$61,MATCH(10,入力用シート!$L$7:$L$61,0),3),"")} | I40: {=IFERROR(INDEX(入力用シート!$C$7:$N$61,MATCH(10,入力用シート!$L$7:$L$61,0),1),"")}
B42: １１ | D42: {=IFERROR(INDEX(入力用シート!$C$7:$N$61,MATCH(11,入力用シート!$L$7:$L$61,0),4),"")} | I42: {=IFERROR(INDEX(入力用シート!$C$7:$N$61,MATCH(11,入力用シート!$L$7:$L$61,0),2),"")} | N42: {=IFERROR(INDEX(入力用シート!$C$7:$N$61,MATCH(11,入力用シート!$L$7:$L$61,0),5),"")} | P42: {=IFERROR(INDEX(入力用シート!$C$7:$N$61,MATCH(11,入力用シート!$L$7:$L$61,0),6),"")&""}
D43: {=IFERROR(INDEX(入力用シート!$C$7:$N$61,MATCH(11,入力用シート!$L$7:$L$61,0),3),"")} | I43: {=IFERROR(INDEX(入力用シート!$C$7:$N$61,MATCH(11,入力用シート!$L$7:$L$61,0),1),"")}
B45: １２ | D45: {=IFERROR(INDEX(入力用シート!$C$7:$N$61,MATCH(12,入力用シート!$L$7:$L$61,0),4),"")} | I45: {=IFERROR(INDEX(入力用シート!$C$7:$N$61,MATCH(12,入力用シート!$L$7:$L$61,0),2),"")} | N45: {=IFERROR(INDEX(入力用シート!$C$7:$N$61,MATCH(12,入力用シート!$L$7:$L$61,0),5),"")} | P45: {=IFERROR(INDEX(入力用シート!$C$7:$N$61,MATCH(12,入力用シート!$L$7:$L$61,0),6),"")&""}
D46: {=IFERROR(INDEX(入力用シート!$C$7:$N$61,MATCH(12,入力用シート!$L$7:$L$61,0),3),"")} | I46: {=IFERROR(INDEX(入力用シート!$C$7:$N$61,MATCH(12,入力用シート!$L$7:$L$61,0),1),"")}
B48: １３ | D48: {=IFERROR(INDEX(入力用シート!$C$7:$N$61,MATCH(13,入力用シート!$L$7:$L$61,0),4),"")} | I48: {=IFERROR(INDEX(入力用シート!$C$7:$N$61,MATCH(13,入力用シート!$L$7:$L$61,0),2),"")} | N48: {=IFERROR(INDEX(入力用シート!$C$7:$N$61,MATCH(13,入力用シート!$L$7:$L$61,0),5),"")} | P48: {=IFERROR(INDEX(入力用シート!$C$7:$N$61,MATCH(13,入力用シート!$L$7:$L$61,0),6),"")&""}
D49: {=IFERROR(INDEX(入力用シート!$C$7:$N$61,MATCH(13,入力用シート!$L$7:$L$61,0),3),"")} | I49: {=IFERROR(INDEX(入力用シート!$C$7:$N$61,MATCH(13,入力用シート!$L$7:$L$61,0),1),"")}
B51: １４ | D51: {=IFERROR(INDEX(入力用シート!$C$7:$N$61,MATCH(14,入力用シート!$L$7:$L$61,0),4),"")} | I51: {=IFERROR(INDEX(入力用シート!$C$7:$N$61,MATCH(14,入力用シート!$L$7:$L$61,0),2),"")} | N51: {=IFERROR(INDEX(入力用シート!$C$7:$N$61,MATCH(14,入力用シート!$L$7:$L$61,0),5),"")} | P51: {=IFERROR(INDEX(入力用シート!$C$7:$N$61,MATCH(14,入力用シート!$L$7:$L$61,0),6),"")&""}
D52: {=IFERROR(INDEX(入力用シート!$C$7:$N$61,MATCH(14,入力用シート!$L$7:$L$61,0),3),"")} | I52: {=IFERROR(INDEX(入力用シート!$C$7:$N$61,MATCH(14,入力用シート!$L$7:$L$61,0),1),"")}
B54: １５ | D54: {=IFERROR(INDEX(入力用シート!$C$7:$N$61,MATCH(15,入力用シート!$L$7:$L$61,0),4),"")} | I54: {=IFERROR(INDEX(入力用シート!$C$7:$N$61,MATCH(15,入力用シート!$L$7:$L$61,0),2),"")} | N54: {=IFERROR(INDEX(入力用シート!$C$7:$N$61,MATCH(15,入力用シート!$L$7:$L$61,0),5),"")} | P54: {=IFERROR(INDEX(入力用シート!$C$7:$N$61,MATCH(15,入力用シート!$L$7:$L$61,0),6),"")&""}
D55: {=IFERROR(INDEX(入力用シート!$C$7:$N$61,MATCH(15,入力用シート!$L$7:$L$61,0),3),"")} | I55: {=IFERROR(INDEX(入力用シート!$C$7:$N$61,MATCH(15,入力用シート!$L$7:$L$61,0),1),"")}
B57: ・必ずランク順に記入すること。
B58: ・男女別に記入すること。種目欄に○印を記入すること。
B59: ・アルペン競技出場選手でＳＡＪ競技者管理登録をしている選手は、競技者管理登録番号 （例03004894）を記入すること。

Sheet 女・SL④
U1: （様式４）
B2: =男・クラ④!B2 -> 令和８年度東北中学校体育大会 第６３回東北中学校スキー大会
B3: 種 目 別 出 場 選 手 一 覧 表
C5: 県 名 | E5: =入力用シート!D3 -> 0 | I5: 県 | L5: 男子 | P5: 女子 | R5: ○ | T5: 共通
B7: ＣＬ | J7: ＳＪ | R7: ＳＬ | T7: ○
B8: ＦＲ | J8: ＮＣ | R8: ＧＳ
B10: ランク | D10: フリガナ | I10: フリガナ | N10: 学年 | P10: ＳＡＪ競技者管理 | V10: 備考
D11: 所属名 | I11: 氏 名 | P11: 登録番号(アルペンのみ)
B12: １ | D12: {=IFERROR(INDEX(入力用シート!$C$66:$N$105,MATCH(1,入力用シート!$K$66:$K$105,0),4),"")} | I12: {=IFERROR(INDEX(入力用シート!$C$66:$N$105,MATCH(1,入力用シート!$K$66:$K$105,0),2),"")} | N12: {=IFERROR(INDEX(入力用シート!$C$66:$N$105,MATCH(1,入力用シート!$K$66:$K$105,0),5),"")} | P12: {=IFERROR(INDEX(入力用シート!$C$66:$N$105,MATCH(1,入力用シート!$K$66:$K$105,0),6),"")&""}
D13: {=IFERROR(INDEX(入力用シート!$C$66:$N$105,MATCH(1,入力用シート!$K$66:$K$105,0),3),"")} | I13: {=IFERROR(INDEX(入力用シート!$C$66:$N$105,MATCH(1,入力用シート!$K$66:$K$105,0),1),"")}
B15: ２ | D15: {=IFERROR(INDEX(入力用シート!$C$66:$N$105,MATCH(2,入力用シート!$K$66:$K$105,0),4),"")} | I15: {=IFERROR(INDEX(入力用シート!$C$66:$N$105,MATCH(2,入力用シート!$K$66:$K$105,0),2),"")} | N15: {=IFERROR(INDEX(入力用シート!$C$66:$N$105,MATCH(2,入力用シート!$K$66:$K$105,0),5),"")} | P15: {=IFERROR(INDEX(入力用シート!$C$66:$N$105,MATCH(2,入力用シート!$K$66:$K$105,0),6),"")&""}
D16: {=IFERROR(INDEX(入力用シート!$C$66:$N$105,MATCH(2,入力用シート!$K$66:$K$105,0),3),"")} | I16: {=IFERROR(INDEX(入力用シート!$C$66:$N$105,MATCH(2,入力用シート!$K$66:$K$105,0),1),"")}
B18: ３ | D18: {=IFERROR(INDEX(入力用シート!$C$66:$N$105,MATCH(3,入力用シート!$K$66:$K$105,0),4),"")} | I18: {=IFERROR(INDEX(入力用シート!$C$66:$N$105,MATCH(3,入力用シート!$K$66:$K$105,0),2),"")} | N18: {=IFERROR(INDEX(入力用シート!$C$66:$N$105,MATCH(3,入力用シート!$K$66:$K$105,0),5),"")} | P18: {=IFERROR(INDEX(入力用シート!$C$66:$N$105,MATCH(3,入力用シート!$K$66:$K$105,0),6),"")&""}
D19: {=IFERROR(INDEX(入力用シート!$C$66:$N$105,MATCH(3,入力用シート!$K$66:$K$105,0),3),"")} | I19: {=IFERROR(INDEX(入力用シート!$C$66:$N$105,MATCH(3,入力用シート!$K$66:$K$105,0),1),"")}
B21: ４ | D21: {=IFERROR(INDEX(入力用シート!$C$66:$N$105,MATCH(4,入力用シート!$K$66:$K$105,0),4),"")} | I21: {=IFERROR(INDEX(入力用シート!$C$66:$N$105,MATCH(4,入力用シート!$K$66:$K$105,0),2),"")} | N21: {=IFERROR(INDEX(入力用シート!$C$66:$N$105,MATCH(4,入力用シート!$K$66:$K$105,0),5),"")} | P21: {=IFERROR(INDEX(入力用シート!$C$66:$N$105,MATCH(4,入力用シート!$K$66:$K$105,0),6),"")&""}
D22: {=IFERROR(INDEX(入力用シート!$C$66:$N$105,MATCH(4,入力用シート!$K$66:$K$105,0),3),"")} | I22: {=IFERROR(INDEX(入力用シート!$C$66:$N$105,MATCH(4,入力用シート!$K$66:$K$105,0),1),"")}
B24: ５ | D24: {=IFERROR(INDEX(入力用シート!$C$66:$N$105,MATCH(5,入力用シート!$K$66:$K$105,0),4),"")} | I24: {=IFERROR(INDEX(入力用シート!$C$66:$N$105,MATCH(5,入力用シート!$K$66:$K$105,0),2),"")} | N24: {=IFERROR(INDEX(入力用シート!$C$66:$N$105,MATCH(5,入力用シート!$K$66:$K$105,0),5),"")} | P24: {=IFERROR(INDEX(入力用シート!$C$66:$N$105,MATCH(5,入力用シート!$K$66:$K$105,0),6),"")&""}
D25: {=IFERROR(INDEX(入力用シート!$C$66:$N$105,MATCH(5,入力用シート!$K$66:$K$105,0),3),"")} | I25: {=IFERROR(INDEX(入力用シート!$C$66:$N$105,MATCH(5,入力用シート!$K$66:$K$105,0),1),"")}
B27: ６ | D27: {=IFERROR(INDEX(入力用シート!$C$66:$N$105,MATCH(6,入力用シート!$K$66:$K$105,0),4),"")} | I27: {=IFERROR(INDEX(入力用シート!$C$66:$N$105,MATCH(6,入力用シート!$K$66:$K$105,0),2),"")} | N27: {=IFERROR(INDEX(入力用シート!$C$66:$N$105,MATCH(6,入力用シート!$K$66:$K$105,0),5),"")} | P27: {=IFERROR(INDEX(入力用シート!$C$66:$N$105,MATCH(6,入力用シート!$K$66:$K$105,0),6),"")&""}
D28: {=IFERROR(INDEX(入力用シート!$C$66:$N$105,MATCH(6,入力用シート!$K$66:$K$105,0),3),"")} | I28: {=IFERROR(INDEX(入力用シート!$C$66:$N$105,MATCH(6,入力用シート!$K$66:$K$105,0),1),"")}
B30: ７ | D30: {=IFERROR(INDEX(入力用シート!$C$66:$N$105,MATCH(7,入力用シート!$K$66:$K$105,0),4),"")} | I30: {=IFERROR(INDEX(入力用シート!$C$66:$N$105,MATCH(7,入力用シート!$K$66:$K$105,0),2),"")} | N30: {=IFERROR(INDEX(入力用シート!$C$66:$N$105,MATCH(7,入力用シート!$K$66:$K$105,0),5),"")} | P30: {=IFERROR(INDEX(入力用シート!$C$66:$N$105,MATCH(7,入力用シート!$K$66:$K$105,0),6),"")&""}
D31: {=IFERROR(INDEX(入力用シート!$C$66:$N$105,MATCH(7,入力用シート!$K$66:$K$105,0),3),"")} | I31: {=IFERROR(INDEX(入力用シート!$C$66:$N$105,MATCH(7,入力用シート!$K$66:$K$105,0),1),"")}
B33: ８ | D33: {=IFERROR(INDEX(入力用シート!$C$66:$N$105,MATCH(8,入力用シート!$K$66:$K$105,0),4),"")} | I33: {=IFERROR(INDEX(入力用シート!$C$66:$N$105,MATCH(8,入力用シート!$K$66:$K$105,0),2),"")} | N33: {=IFERROR(INDEX(入力用シート!$C$66:$N$105,MATCH(8,入力用シート!$K$66:$K$105,0),5),"")} | P33: {=IFERROR(INDEX(入力用シート!$C$66:$N$105,MATCH(8,入力用シート!$K$66:$K$105,0),6),"")&""}
D34: {=IFERROR(INDEX(入力用シート!$C$66:$N$105,MATCH(8,入力用シート!$K$66:$K$105,0),3),"")} | I34: {=IFERROR(INDEX(入力用シート!$C$66:$N$105,MATCH(8,入力用シート!$K$66:$K$105,0),1),"")}
B36: ９ | D36: {=IFERROR(INDEX(入力用シート!$C$66:$N$105,MATCH(9,入力用シート!$K$66:$K$105,0),4),"")} | I36: {=IFERROR(INDEX(入力用シート!$C$66:$N$105,MATCH(9,入力用シート!$K$66:$K$105,0),2),"")} | N36: {=IFERROR(INDEX(入力用シート!$C$66:$N$105,MATCH(9,入力用シート!$K$66:$K$105,0),5),"")} | P36: {=IFERROR(INDEX(入力用シート!$C$66:$N$105,MATCH(9,入力用シート!$K$66:$K$105,0),6),"")&""}
D37: {=IFERROR(INDEX(入力用シート!$C$66:$N$105,MATCH(9,入力用シート!$K$66:$K$105,0),3),"")} | I37: {=IFERROR(INDEX(入力用シート!$C$66:$N$105,MATCH(9,入力用シート!$K$66:$K$105,0),1),"")}
B39: １０ | D39: {=IFERROR(INDEX(入力用シート!$C$66:$N$105,MATCH(10,入力用シート!$K$66:$K$105,0),4),"")} | I39: {=IFERROR(INDEX(入力用シート!$C$66:$N$105,MATCH(10,入力用シート!$K$66:$K$105,0),2),"")} | N39: {=IFERROR(INDEX(入力用シート!$C$66:$N$105,MATCH(10,入力用シート!$K$66:$K$105,0),5),"")} | P39: {=IFERROR(INDEX(入力用シート!$C$66:$N$105,MATCH(10,入力用シート!$K$66:$K$105,0),6),"")&""}
D40: {=IFERROR(INDEX(入力用シート!$C$66:$N$105,MATCH(10,入力用シート!$K$66:$K$105,0),3),"")} | I40: {=IFERROR(INDEX(入力用シート!$C$66:$N$105,MATCH(10,入力用シート!$K$66:$K$105,0),1),"")}
B42: １１ | D42: {=IFERROR(INDEX(入力用シート!$C$66:$N$105,MATCH(11,入力用シート!$K$66:$K$105,0),4),"")} | I42: {=IFERROR(INDEX(入力用シート!$C$66:$N$105,MATCH(11,入力用シート!$K$66:$K$105,0),2),"")} | N42: {=IFERROR(INDEX(入力用シート!$C$66:$N$105,MATCH(11,入力用シート!$K$66:$K$105,0),5),"")} | P42: {=IFERROR(INDEX(入力用シート!$C$66:$N$105,MATCH(11,入力用シート!$K$66:$K$105,0),6),"")&""}
D43: {=IFERROR(INDEX(入力用シート!$C$66:$N$105,MATCH(11,入力用シート!$K$66:$K$105,0),3),"")} | I43: {=IFERROR(INDEX(入力用シート!$C$66:$N$105,MATCH(11,入力用シート!$K$66:$K$105,0),1),"")}
B45: １２ | D45: {=IFERROR(INDEX(入力用シート!$C$66:$N$105,MATCH(12,入力用シート!$K$66:$K$105,0),4),"")} | I45: {=IFERROR(INDEX(入力用シート!$C$66:$N$105,MATCH(12,入力用シート!$K$66:$K$105,0),2),"")} | N45: {=IFERROR(INDEX(入力用シート!$C$66:$N$105,MATCH(12,入力用シート!$K$66:$K$105,0),5),"")} | P45: {=IFERROR(INDEX(入力用シート!$C$66:$N$105,MATCH(12,入力用シート!$K$66:$K$105,0),6),"")&""}
D46: {=IFERROR(INDEX(入力用シート!$C$66:$N$105,MATCH(12,入力用シート!$K$66:$K$105,0),3),"")} | I46: {=IFERROR(INDEX(入力用シート!$C$66:$N$105,MATCH(12,入力用シート!$K$66:$K$105,0),1),"")}
B48: １３ | D48: {=IFERROR(INDEX(入力用シート!$C$66:$N$105,MATCH(13,入力用シート!$K$66:$K$105,0),4),"")} | I48: {=IFERROR(INDEX(入力用シート!$C$66:$N$105,MATCH(13,入力用シート!$K$66:$K$105,0),2),"")} | N48: {=IFERROR(INDEX(入力用シート!$C$66:$N$105,MATCH(13,入力用シート!$K$66:$K$105,0),5),"")} | P48: {=IFERROR(INDEX(入力用シート!$C$66:$N$105,MATCH(13,入力用シート!$K$66:$K$105,0),6),"")&""}
D49: {=IFERROR(INDEX(入力用シート!$C$66:$N$105,MATCH(13,入力用シート!$K$66:$K$105,0),3),"")} | I49: {=IFERROR(INDEX(入力用シート!$C$66:$N$105,MATCH(13,入力用シート!$K$66:$K$105,0),1),"")}
B51: １４ | D51: {=IFERROR(INDEX(入力用シート!$C$66:$N$105,MATCH(14,入力用シート!$K$66:$K$105,0),4),"")} | I51: {=IFERROR(INDEX(入力用シート!$C$66:$N$105,MATCH(14,入力用シート!$K$66:$K$105,0),2),"")} | N51: {=IFERROR(INDEX(入力用シート!$C$66:$N$105,MATCH(14,入力用シート!$K$66:$K$105,0),5),"")} | P51: {=IFERROR(INDEX(入力用シート!$C$66:$N$105,MATCH(14,入力用シート!$K$66:$K$105,0),6),"")&""}
D52: {=IFERROR(INDEX(入力用シート!$C$66:$N$105,MATCH(14,入力用シート!$K$66:$K$105,0),3),"")} | I52: {=IFERROR(INDEX(入力用シート!$C$66:$N$105,MATCH(14,入力用シート!$K$66:$K$105,0),1),"")}
B54: １５ | D54: {=IFERROR(INDEX(入力用シート!$C$66:$N$105,MATCH(15,入力用シート!$K$66:$K$105,0),4),"")} | I54: {=IFERROR(INDEX(入力用シート!$C$66:$N$105,MATCH(15,入力用シート!$K$66:$K$105,0),2),"")} | N54: {=IFERROR(INDEX(入力用シート!$C$66:$N$105,MATCH(15,入力用シート!$K$66:$K$105,0),5),"")} | P54: {=IFERROR(INDEX(入力用シート!$C$66:$N$105,MATCH(15,入力用シート!$K$66:$K$105,0),6),"")&""}
D55: {=IFERROR(INDEX(入力用シート!$C$66:$N$105,MATCH(15,入力用シート!$K$66:$K$105,0),3),"")} | I55: {=IFERROR(INDEX(入力用シート!$C$66:$N$105,MATCH(15,入力用シート!$K$66:$K$105,0),1),"")}
B57: ・必ずランク順に記入すること。
B58: ・男女別に記入すること。種目欄に○印を記入すること。
B59: ・アルペン競技出場選手でＳＡＪ競技者管理登録をしている選手は、競技者管理登録番号 （例03004894）を記入すること。

Sheet 女・GS④
U1: （様式４）
B2: =男・クラ④!B2 -> 令和８年度東北中学校体育大会 第６３回東北中学校スキー大会
B3: 種 目 別 出 場 選 手 一 覧 表
C5: 県 名 | E5: =入力用シート!D3 -> 0 | I5: 県 | L5: 男子 | P5: 女子 | R5: ○ | T5: 共通
B7: ＣＬ | J7: ＳＪ | R7: ＳＬ
B8: ＦＲ | J8: ＮＣ | R8: ＧＳ | T8: ○
B10: ランク | D10: フリガナ | I10: フリガナ | N10: 学年 | P10: ＳＡＪ競技者管理 | V10: 備考
D11: 所属名 | I11: 氏 名 | P11: 登録番号(アルペンのみ)
B12: １ | D12: {=IFERROR(INDEX(入力用シート!$C$66:$N$105,MATCH(1,入力用シート!$L$66:$L$105,0),4),"")} | I12: {=IFERROR(INDEX(入力用シート!$C$66:$N$105,MATCH(1,入力用シート!$L$66:$L$105,0),2),"")} | N12: {=IFERROR(INDEX(入力用シート!$C$66:$N$105,MATCH(1,入力用シート!$L$66:$L$105,0),5),"")} | P12: {=IFERROR(INDEX(入力用シート!$C$66:$N$105,MATCH(1,入力用シート!$L$66:$L$105,0),6),"")&""}
D13: {=IFERROR(INDEX(入力用シート!$C$66:$N$105,MATCH(1,入力用シート!$L$66:$L$105,0),3),"")} | I13: {=IFERROR(INDEX(入力用シート!$C$66:$N$105,MATCH(1,入力用シート!$L$66:$L$105,0),1),"")}
B15: ２ | D15: {=IFERROR(INDEX(入力用シート!$C$66:$N$105,MATCH(2,入力用シート!$L$66:$L$105,0),4),"")} | I15: {=IFERROR(INDEX(入力用シート!$C$66:$N$105,MATCH(2,入力用シート!$L$66:$L$105,0),2),"")} | N15: {=IFERROR(INDEX(入力用シート!$C$66:$N$105,MATCH(2,入力用シート!$L$66:$L$105,0),5),"")} | P15: {=IFERROR(INDEX(入力用シート!$C$66:$N$105,MATCH(2,入力用シート!$L$66:$L$105,0),6),"")&""}
D16: {=IFERROR(INDEX(入力用シート!$C$66:$N$105,MATCH(2,入力用シート!$L$66:$L$105,0),3),"")} | I16: {=IFERROR(INDEX(入力用シート!$C$66:$N$105,MATCH(2,入力用シート!$L$66:$L$105,0),1),"")}
B18: ３ | D18: {=IFERROR(INDEX(入力用シート!$C$66:$N$105,MATCH(3,入力用シート!$L$66:$L$105,0),4),"")} | I18: {=IFERROR(INDEX(入力用シート!$C$66:$N$105,MATCH(3,入力用シート!$L$66:$L$105,0),2),"")} | N18: {=IFERROR(INDEX(入力用シート!$C$66:$N$105,MATCH(3,入力用シート!$L$66:$L$105,0),5),"")} | P18: {=IFERROR(INDEX(入力用シート!$C$66:$N$105,MATCH(3,入力用シート!$L$66:$L$105,0),6),"")&""}
D19: {=IFERROR(INDEX(入力用シート!$C$66:$N$105,MATCH(3,入力用シート!$L$66:$L$105,0),3),"")} | I19: {=IFERROR(INDEX(入力用シート!$C$66:$N$105,MATCH(3,入力用シート!$L$66:$L$105,0),1),"")}
B21: ４ | D21: {=IFERROR(INDEX(入力用シート!$C$66:$N$105,MATCH(4,入力用シート!$L$66:$L$105,0),4),"")} | I21: {=IFERROR(INDEX(入力用シート!$C$66:$N$105,MATCH(4,入力用シート!$L$66:$L$105,0),2),"")} | N21: {=IFERROR(INDEX(入力用シート!$C$66:$N$105,MATCH(4,入力用シート!$L$66:$L$105,0),5),"")} | P21: {=IFERROR(INDEX(入力用シート!$C$66:$N$105,MATCH(4,入力用シート!$L$66:$L$105,0),6),"")&""}
D22: {=IFERROR(INDEX(入力用シート!$C$66:$N$105,MATCH(4,入力用シート!$L$66:$L$105,0),3),"")} | I22: {=IFERROR(INDEX(入力用シート!$C$66:$N$105,MATCH(4,入力用シート!$L$66:$L$105,0),1),"")}
B24: ５ | D24: {=IFERROR(INDEX(入力用シート!$C$66:$N$105,MATCH(5,入力用シート!$L$66:$L$105,0),4),"")} | I24: {=IFERROR(INDEX(入力用シート!$C$66:$N$105,MATCH(5,入力用シート!$L$66:$L$105,0),2),"")} | N24: {=IFERROR(INDEX(入力用シート!$C$66:$N$105,MATCH(5,入力用シート!$L$66:$L$105,0),5),"")} | P24: {=IFERROR(INDEX(入力用シート!$C$66:$N$105,MATCH(5,入力用シート!$L$66:$L$105,0),6),"")&""}
D25: {=IFERROR(INDEX(入力用シート!$C$66:$N$105,MATCH(5,入力用シート!$L$66:$L$105,0),3),"")} | I25: {=IFERROR(INDEX(入力用シート!$C$66:$N$105,MATCH(5,入力用シート!$L$66:$L$105,0),1),"")}
B27: ６ | D27: {=IFERROR(INDEX(入力用シート!$C$66:$N$105,MATCH(6,入力用シート!$L$66:$L$105,0),4),"")} | I27: {=IFERROR(INDEX(入力用シート!$C$66:$N$105,MATCH(6,入力用シート!$L$66:$L$105,0),2),"")} | N27: {=IFERROR(INDEX(入力用シート!$C$66:$N$105,MATCH(6,入力用シート!$L$66:$L$105,0),5),"")} | P27: {=IFERROR(INDEX(入力用シート!$C$66:$N$105,MATCH(6,入力用シート!$L$66:$L$105,0),6),"")&""}
D28: {=IFERROR(INDEX(入力用シート!$C$66:$N$105,MATCH(6,入力用シート!$L$66:$L$105,0),3),"")} | I28: {=IFERROR(INDEX(入力用シート!$C$66:$N$105,MATCH(6,入力用シート!$L$66:$L$105,0),1),"")}
B30: ７ | D30: {=IFERROR(INDEX(入力用シート!$C$66:$N$105,MATCH(7,入力用シート!$L$66:$L$105,0),4),"")} | I30: {=IFERROR(INDEX(入力用シート!$C$66:$N$105,MATCH(7,入力用シート!$L$66:$L$105,0),2),"")} | N30: {=IFERROR(INDEX(入力用シート!$C$66:$N$105,MATCH(7,入力用シート!$L$66:$L$105,0),5),"")} | P30: {=IFERROR(INDEX(入力用シート!$C$66:$N$105,MATCH(7,入力用シート!$L$66:$L$105,0),6),"")&""}
D31: {=IFERROR(INDEX(入力用シート!$C$66:$N$105,MATCH(7,入力用シート!$L$66:$L$105,0),3),"")} | I31: {=IFERROR(INDEX(入力用シート!$C$66:$N$105,MATCH(7,入力用シート!$L$66:$L$105,0),1),"")}
B33: ８ | D33: {=IFERROR(INDEX(入力用シート!$C$66:$N$105,MATCH(8,入力用シート!$L$66:$L$105,0),4),"")} | I33: {=IFERROR(INDEX(入力用シート!$C$66:$N$105,MATCH(8,入力用シート!$L$66:$L$105,0),2),"")} | N33: {=IFERROR(INDEX(入力用シート!$C$66:$N$105,MATCH(8,入力用シート!$L$66:$L$105,0),5),"")} | P33: {=IFERROR(INDEX(入力用シート!$C$66:$N$105,MATCH(8,入力用シート!$L$66:$L$105,0),6),"")&""}
D34: {=IFERROR(INDEX(入力用シート!$C$66:$N$105,MATCH(8,入力用シート!$L$66:$L$105,0),3),"")} | I34: {=IFERROR(INDEX(入力用シート!$C$66:$N$105,MATCH(8,入力用シート!$L$66:$L$105,0),1),"")}
B36: ９ | D36: {=IFERROR(INDEX(入力用シート!$C$66:$N$105,MATCH(9,入力用シート!$L$66:$L$105,0),4),"")} | I36: {=IFERROR(INDEX(入力用シート!$C$66:$N$105,MATCH(9,入力用シート!$L$66:$L$105,0),2),"")} | N36: {=IFERROR(INDEX(入力用シート!$C$66:$N$105,MATCH(9,入力用シート!$L$66:$L$105,0),5),"")} | P36: {=IFERROR(INDEX(入力用シート!$C$66:$N$105,MATCH(9,入力用シート!$L$66:$L$105,0),6),"")&""}
D37: {=IFERROR(INDEX(入力用シート!$C$66:$N$105,MATCH(9,入力用シート!$L$66:$L$105,0),3),"")} | I37: {=IFERROR(INDEX(入力用シート!$C$66:$N$105,MATCH(9,入力用シート!$L$66:$L$105,0),1),"")}
B39: １０ | D39: {=IFERROR(INDEX(入力用シート!$C$66:$N$105,MATCH(10,入力用シート!$L$66:$L$105,0),4),"")} | I39: {=IFERROR(INDEX(入力用シート!$C$66:$N$105,MATCH(10,入力用シート!$L$66:$L$105,0),2),"")} | N39: {=IFERROR(INDEX(入力用シート!$C$66:$N$105,MATCH(10,入力用シート!$L$66:$L$105,0),5),"")} | P39: {=IFERROR(INDEX(入力用シート!$C$66:$N$105,MATCH(10,入力用シート!$L$66:$L$105,0),6),"")&""}
D40: {=IFERROR(INDEX(入力用シート!$C$66:$N$105,MATCH(10,入力用シート!$L$66:$L$105,0),3),"")} | I40: {=IFERROR(INDEX(入力用シート!$C$66:$N$105,MATCH(10,入力用シート!$L$66:$L$105,0),1),"")}
B42: １１ | D42: {=IFERROR(INDEX(入力用シート!$C$66:$N$105,MATCH(11,入力用シート!$L$66:$L$105,0),4),"")} | I42: {=IFERROR(INDEX(入力用シート!$C$66:$N$105,MATCH(11,入力用シート!$L$66:$L$105,0),2),"")} | N42: {=IFERROR(INDEX(入力用シート!$C$66:$N$105,MATCH(11,入力用シート!$L$66:$L$105,0),5),"")} | P42: {=IFERROR(INDEX(入力用シート!$C$66:$N$105,MATCH(11,入力用シート!$L$66:$L$105,0),6),"")&""}
D43: {=IFERROR(INDEX(入力用シート!$C$66:$N$105,MATCH(11,入力用シート!$L$66:$L$105,0),3),"")} | I43: {=IFERROR(INDEX(入力用シート!$C$66:$N$105,MATCH(11,入力用シート!$L$66:$L$105,0),1),"")}
B45: １２ | D45: {=IFERROR(INDEX(入力用シート!$C$66:$N$105,MATCH(12,入力用シート!$L$66:$L$105,0),4),"")} | I45: {=IFERROR(INDEX(入力用シート!$C$66:$N$105,MATCH(12,入力用シート!$L$66:$L$105,0),2),"")} | N45: {=IFERROR(INDEX(入力用シート!$C$66:$N$105,MATCH(12,入力用シート!$L$66:$L$105,0),5),"")} | P45: {=IFERROR(INDEX(入力用シート!$C$66:$N$105,MATCH(12,入力用シート!$L$66:$L$105,0),6),"")&""}
D46: {=IFERROR(INDEX(入力用シート!$C$66:$N$105,MATCH(12,入力用シート!$L$66:$L$105,0),3),"")} | I46: {=IFERROR(INDEX(入力用シート!$C$66:$N$105,MATCH(12,入力用シート!$L$66:$L$105,0),1),"")}
B48: １３ | D48: {=IFERROR(INDEX(入力用シート!$C$66:$N$105,MATCH(13,入力用シート!$L$66:$L$105,0),4),"")} | I48: {=IFERROR(INDEX(入力用シート!$C$66:$N$105,MATCH(13,入力用シート!$L$66:$L$105,0),2),"")} | N48: {=IFERROR(INDEX(入力用シート!$C$66:$N$105,MATCH(13,入力用シート!$L$66:$L$105,0),5),"")} | P48: {=IFERROR(INDEX(入力用シート!$C$66:$N$105,MATCH(13,入力用シート!$L$66:$L$105,0),6),"")&""}
D49: {=IFERROR(INDEX(入力用シート!$C$66:$N$105,MATCH(13,入力用シート!$L$66:$L$105,0),3),"")} | I49: {=IFERROR(INDEX(入力用シート!$C$66:$N$105,MATCH(13,入力用シート!$L$66:$L$105,0),1),"")}
B51: １４ | D51: {=IFERROR(INDEX(入力用シート!$C$66:$N$105,MATCH(14,入力用シート!$L$66:$L$105,0),4),"")} | I51: {=IFERROR(INDEX(入力用シート!$C$66:$N$105,MATCH(14,入力用シート!$L$66:$L$105,0),2),"")} | N51: {=IFERROR(INDEX(入力用シート!$C$66:$N$105,MATCH(14,入力用シート!$L$66:$L$105,0),5),"")} | P51: {=IFERROR(INDEX(入力用シート!$C$66:$N$105,MATCH(14,入力用シート!$L$66:$L$105,0),6),"")&""}
D52: {=IFERROR(INDEX(入力用シート!$C$66:$N$105,MATCH(14,入力用シート!$L$66:$L$105,0),3),"")} | I52: {=IFERROR(INDEX(入力用シート!$C$66:$N$105,MATCH(14,入力用シート!$L$66:$L$105,0),1),"")}
B54: １５ | D54: {=IFERROR(INDEX(入力用シート!$C$66:$N$105,MATCH(15,入力用シート!$L$66:$L$105,0),4),"")} | I54: {=IFERROR(INDEX(入力用シート!$C$66:$N$105,MATCH(15,入力用シート!$L$66:$L$105,0),2),"")} | N54: {=IFERROR(INDEX(入力用シート!$C$66:$N$105,MATCH(15,入力用シート!$L$66:$L$105,0),5),"")} | P54: {=IFERROR(INDEX(入力用シート!$C$66:$N$105,MATCH(15,入力用シート!$L$66:$L$105,0),6),"")&""}
D55: {=IFERROR(INDEX(入力用シート!$C$66:$N$105,MATCH(15,入力用シート!$L$66:$L$105,0),3),"")} | I55: {=IFERROR(INDEX(入力用シート!$C$66:$N$105,MATCH(15,入力用シート!$L$66:$L$105,0),1),"")}
B57: ・必ずランク順に記入すること。
B58: ・男女別に記入すること。種目欄に○印を記入すること。
B59: ・アルペン競技出場選手でＳＡＪ競技者管理登録をしている選手は、競技者管理登録番号 （例03004894）を記入すること。

Sheet 男・スペシャル④
U1: （様式４）
B2: =男・クラ④!B2 -> 令和８年度東北中学校体育大会 第６３回東北中学校スキー大会
B3: 種 目 別 出 場 選 手 一 覧 表
C5: 県 名 | E5: =入力用シート!D3 -> 0 | I5: 県 | L5: 男子 | N5: ○ | P5: 女子 | T5: 共通
B7: ＣＬ | J7: ＳＪ | L7: ○ | R7: ＳＬ
B8: ＦＲ | J8: ＮＣ | R8: ＧＳ
B10: ランク | D10: フリガナ | I10: フリガナ | N10: 学年 | P10: ＳＡＪ競技者管理 | V10: 備考
D11: 所属名 | I11: 氏 名 | P11: 登録番号(アルペンのみ)
B12: １ | D12: {=IFERROR(INDEX(入力用シート!$C$7:$N$61,MATCH(1,入力用シート!$M$7:$M$61,0),4),"")} | I12: {=IFERROR(INDEX(入力用シート!$C$7:$N$61,MATCH(1,入力用シート!$M$7:$M$61,0),2),"")} | N12: {=IFERROR(INDEX(入力用シート!$C$7:$N$61,MATCH(1,入力用シート!$M$7:$M$61,0),5),"")} | P12: {=IFERROR(INDEX(入力用シート!$C$7:$N$61,MATCH(1,入力用シート!$M$7:$M$61,0),6),"")&""}
D13: {=IFERROR(INDEX(入力用シート!$C$7:$N$61,MATCH(1,入力用シート!$M$7:$M$61,0),3),"")} | I13: {=IFERROR(INDEX(入力用シート!$C$7:$N$61,MATCH(1,入力用シート!$M$7:$M$61,0),1),"")}
B15: ２ | D15: {=IFERROR(INDEX(入力用シート!$C$7:$N$61,MATCH(2,入力用シート!$M$7:$M$61,0),4),"")} | I15: {=IFERROR(INDEX(入力用シート!$C$7:$N$61,MATCH(2,入力用シート!$M$7:$M$61,0),2),"")} | N15: {=IFERROR(INDEX(入力用シート!$C$7:$N$61,MATCH(2,入力用シート!$M$7:$M$61,0),5),"")} | P15: {=IFERROR(INDEX(入力用シート!$C$7:$N$61,MATCH(2,入力用シート!$M$7:$M$61,0),6),"")&""}
D16: {=IFERROR(INDEX(入力用シート!$C$7:$N$61,MATCH(2,入力用シート!$M$7:$M$61,0),3),"")} | I16: {=IFERROR(INDEX(入力用シート!$C$7:$N$61,MATCH(2,入力用シート!$M$7:$M$61,0),1),"")}
B18: ３ | D18: {=IFERROR(INDEX(入力用シート!$C$7:$N$61,MATCH(3,入力用シート!$M$7:$M$61,0),4),"")} | I18: {=IFERROR(INDEX(入力用シート!$C$7:$N$61,MATCH(3,入力用シート!$M$7:$M$61,0),2),"")} | N18: {=IFERROR(INDEX(入力用シート!$C$7:$N$61,MATCH(3,入力用シート!$M$7:$M$61,0),5),"")} | P18: {=IFERROR(INDEX(入力用シート!$C$7:$N$61,MATCH(3,入力用シート!$M$7:$M$61,0),6),"")&""}
D19: {=IFERROR(INDEX(入力用シート!$C$7:$N$61,MATCH(3,入力用シート!$M$7:$M$61,0),3),"")} | I19: {=IFERROR(INDEX(入力用シート!$C$7:$N$61,MATCH(3,入力用シート!$M$7:$M$61,0),1),"")}
B21: ４ | D21: {=IFERROR(INDEX(入力用シート!$C$7:$N$61,MATCH(4,入力用シート!$M$7:$M$61,0),4),"")} | I21: {=IFERROR(INDEX(入力用シート!$C$7:$N$61,MATCH(4,入力用シート!$M$7:$M$61,0),2),"")} | N21: {=IFERROR(INDEX(入力用シート!$C$7:$N$61,MATCH(4,入力用シート!$M$7:$M$61,0),5),"")} | P21: {=IFERROR(INDEX(入力用シート!$C$7:$N$61,MATCH(4,入力用シート!$M$7:$M$61,0),6),"")&""}
D22: {=IFERROR(INDEX(入力用シート!$C$7:$N$61,MATCH(4,入力用シート!$M$7:$M$61,0),3),"")} | I22: {=IFERROR(INDEX(入力用シート!$C$7:$N$61,MATCH(4,入力用シート!$M$7:$M$61,0),1),"")}
B24: ５ | D24: {=IFERROR(INDEX(入力用シート!$C$7:$N$61,MATCH(5,入力用シート!$M$7:$M$61,0),4),"")} | I24: {=IFERROR(INDEX(入力用シート!$C$7:$N$61,MATCH(5,入力用シート!$M$7:$M$61,0),2),"")} | N24: {=IFERROR(INDEX(入力用シート!$C$7:$N$61,MATCH(5,入力用シート!$M$7:$M$61,0),5),"")} | P24: {=IFERROR(INDEX(入力用シート!$C$7:$N$61,MATCH(5,入力用シート!$M$7:$M$61,0),6),"")&""}
D25: {=IFERROR(INDEX(入力用シート!$C$7:$N$61,MATCH(5,入力用シート!$M$7:$M$61,0),3),"")} | I25: {=IFERROR(INDEX(入力用シート!$C$7:$N$61,MATCH(5,入力用シート!$M$7:$M$61,0),1),"")}
B27: ６ | D27: {=IFERROR(INDEX(入力用シート!$C$7:$N$61,MATCH(6,入力用シート!$M$7:$M$61,0),4),"")} | I27: {=IFERROR(INDEX(入力用シート!$C$7:$N$61,MATCH(6,入力用シート!$M$7:$M$61,0),2),"")} | N27: {=IFERROR(INDEX(入力用シート!$C$7:$N$61,MATCH(6,入力用シート!$M$7:$M$61,0),5),"")} | P27: {=IFERROR(INDEX(入力用シート!$C$7:$N$61,MATCH(6,入力用シート!$M$7:$M$61,0),6),"")&""}
D28: {=IFERROR(INDEX(入力用シート!$C$7:$N$61,MATCH(6,入力用シート!$M$7:$M$61,0),3),"")} | I28: {=IFERROR(INDEX(入力用シート!$C$7:$N$61,MATCH(6,入力用シート!$M$7:$M$61,0),1),"")}
B30: ７ | D30: {=IFERROR(INDEX(入力用シート!$C$7:$N$61,MATCH(7,入力用シート!$M$7:$M$61,0),4),"")} | I30: {=IFERROR(INDEX(入力用シート!$C$7:$N$61,MATCH(7,入力用シート!$M$7:$M$61,0),2),"")} | N30: {=IFERROR(INDEX(入力用シート!$C$7:$N$61,MATCH(7,入力用シート!$M$7:$M$61,0),5),"")} | P30: {=IFERROR(INDEX(入力用シート!$C$7:$N$61,MATCH(7,入力用シート!$M$7:$M$61,0),6),"")&""}
D31: {=IFERROR(INDEX(入力用シート!$C$7:$N$61,MATCH(7,入力用シート!$M$7:$M$61,0),3),"")} | I31: {=IFERROR(INDEX(入力用シート!$C$7:$N$61,MATCH(7,入力用シート!$M$7:$M$61,0),1),"")}
B33: ８ | D33: {=IFERROR(INDEX(入力用シート!$C$7:$N$61,MATCH(8,入力用シート!$M$7:$M$61,0),4),"")} | I33: {=IFERROR(INDEX(入力用シート!$C$7:$N$61,MATCH(8,入力用シート!$M$7:$M$61,0),2),"")} | N33: {=IFERROR(INDEX(入力用シート!$C$7:$N$61,MATCH(8,入力用シート!$M$7:$M$61,0),5),"")} | P33: {=IFERROR(INDEX(入力用シート!$C$7:$N$61,MATCH(8,入力用シート!$M$7:$M$61,0),6),"")&""}
D34: {=IFERROR(INDEX(入力用シート!$C$7:$N$61,MATCH(8,入力用シート!$M$7:$M$61,0),3),"")} | I34: {=IFERROR(INDEX(入力用シート!$C$7:$N$61,MATCH(8,入力用シート!$M$7:$M$61,0),1),"")}
B36: ９ | D36: {=IFERROR(INDEX(入力用シート!$C$7:$N$61,MATCH(9,入力用シート!$M$7:$M$61,0),4),"")} | I36: {=IFERROR(INDEX(入力用シート!$C$7:$N$61,MATCH(9,入力用シート!$M$7:$M$61,0),2),"")} | N36: {=IFERROR(INDEX(入力用シート!$C$7:$N$61,MATCH(9,入力用シート!$M$7:$M$61,0),5),"")} | P36: {=IFERROR(INDEX(入力用シート!$C$7:$N$61,MATCH(9,入力用シート!$M$7:$M$61,0),6),"")&""}
D37: {=IFERROR(INDEX(入力用シート!$C$7:$N$61,MATCH(9,入力用シート!$M$7:$M$61,0),3),"")} | I37: {=IFERROR(INDEX(入力用シート!$C$7:$N$61,MATCH(9,入力用シート!$M$7:$M$61,0),1),"")}
B39: １０ | D39: {=IFERROR(INDEX(入力用シート!$C$7:$N$61,MATCH(10,入力用シート!$M$7:$M$61,0),4),"")} | I39: {=IFERROR(INDEX(入力用シート!$C$7:$N$61,MATCH(10,入力用シート!$M$7:$M$61,0),2),"")} | N39: {=IFERROR(INDEX(入力用シート!$C$7:$N$61,MATCH(10,入力用シート!$M$7:$M$61,0),5),"")} | P39: {=IFERROR(INDEX(入力用シート!$C$7:$N$61,MATCH(10,入力用シート!$M$7:$M$61,0),6),"")&""}
D40: {=IFERROR(INDEX(入力用シート!$C$7:$N$61,MATCH(10,入力用シート!$M$7:$M$61,0),3),"")} | I40: {=IFERROR(INDEX(入力用シート!$C$7:$N$61,MATCH(10,入力用シート!$M$7:$M$61,0),1),"")}
B42: １１ | D42: {=IFERROR(INDEX(入力用シート!$C$7:$N$61,MATCH(11,入力用シート!$M$7:$M$61,0),4),"")} | I42: {=IFERROR(INDEX(入力用シート!$C$7:$N$61,MATCH(11,入力用シート!$M$7:$M$61,0),2),"")} | N42: {=IFERROR(INDEX(入力用シート!$C$7:$N$61,MATCH(11,入力用シート!$M$7:$M$61,0),5),"")} | P42: {=IFERROR(INDEX(入力用シート!$C$7:$N$61,MATCH(11,入力用シート!$M$7:$M$61,0),6),"")&""}
D43: {=IFERROR(INDEX(入力用シート!$C$7:$N$61,MATCH(11,入力用シート!$M$7:$M$61,0),3),"")} | I43: {=IFERROR(INDEX(入力用シート!$C$7:$N$61,MATCH(11,入力用シート!$M$7:$M$61,0),1),"")}
B45: １２ | D45: {=IFERROR(INDEX(入力用シート!$C$7:$N$61,MATCH(12,入力用シート!$M$7:$M$61,0),4),"")} | I45: {=IFERROR(INDEX(入力用シート!$C$7:$N$61,MATCH(12,入力用シート!$M$7:$M$61,0),2),"")} | N45: {=IFERROR(INDEX(入力用シート!$C$7:$N$61,MATCH(12,入力用シート!$M$7:$M$61,0),5),"")} | P45: {=IFERROR(INDEX(入力用シート!$C$7:$N$61,MATCH(12,入力用シート!$M$7:$M$61,0),6),"")&""}
D46: {=IFERROR(INDEX(入力用シート!$C$7:$N$61,MATCH(12,入力用シート!$M$7:$M$61,0),3),"")} | I46: {=IFERROR(INDEX(入力用シート!$C$7:$N$61,MATCH(12,入力用シート!$M$7:$M$61,0),1),"")}
B48: １３ | D48: {=IFERROR(INDEX(入力用シート!$C$7:$N$61,MATCH(13,入力用シート!$M$7:$M$61,0),4),"")} | I48: {=IFERROR(INDEX(入力用シート!$C$7:$N$61,MATCH(13,入力用シート!$M$7:$M$61,0),2),"")} | N48: {=IFERROR(INDEX(入力用シート!$C$7:$N$61,MATCH(13,入力用シート!$M$7:$M$61,0),5),"")} | P48: {=IFERROR(INDEX(入力用シート!$C$7:$N$61,MATCH(13,入力用シート!$M$7:$M$61,0),6),"")&""}
D49: {=IFERROR(INDEX(入力用シート!$C$7:$N$61,MATCH(13,入力用シート!$M$7:$M$61,0),3),"")} | I49: {=IFERROR(INDEX(入力用シート!$C$7:$N$61,MATCH(13,入力用シート!$M$7:$M$61,0),1),"")}
B51: １４ | D51: {=IFERROR(INDEX(入力用シート!$C$7:$N$61,MATCH(14,入力用シート!$M$7:$M$61,0),4),"")} | I51: {=IFERROR(INDEX(入力用シート!$C$7:$N$61,MATCH(14,入力用シート!$M$7:$M$61,0),2),"")} | N51: {=IFERROR(INDEX(入力用シート!$C$7:$N$61,MATCH(14,入力用シート!$M$7:$M$61,0),5),"")} | P51: {=IFERROR(INDEX(入力用シート!$C$7:$N$61,MATCH(14,入力用シート!$M$7:$M$61,0),6),"")&""}
D52: {=IFERROR(INDEX(入力用シート!$C$7:$N$61,MATCH(14,入力用シート!$M$7:$M$61,0),3),"")} | I52: {=IFERROR(INDEX(入力用シート!$C$7:$N$61,MATCH(14,入力用シート!$M$7:$M$61,0),1),"")}
B54: １５ | D54: {=IFERROR(INDEX(入力用シート!$C$7:$N$61,MATCH(15,入力用シート!$M$7:$M$61,0),4),"")} | I54: {=IFERROR(INDEX(入力用シート!$C$7:$N$61,MATCH(15,入力用シート!$M$7:$M$61,0),2),"")} | N54: {=IFERROR(INDEX(入力用シート!$C$7:$N$61,MATCH(15,入力用シート!$M$7:$M$61,0),5),"")} | P54: {=IFERROR(INDEX(入力用シート!$C$7:$N$61,MATCH(15,入力用シート!$M$7:$M$61,0),6),"")&""}
D55: {=IFERROR(INDEX(入力用シート!$C$7:$N$61,MATCH(15,入力用シート!$M$7:$M$61,0),3),"")} | I55: {=IFERROR(INDEX(入力用シート!$C$7:$N$61,MATCH(15,入力用シート!$M$7:$M$61,0),1),"")}
B57: ・必ずランク順に記入すること。
B58: ・男女別に記入すること。種目欄に○印を記入すること。
B59: ・アルペン競技出場選手でＳＡＪ競技者管理登録をしている選手は、競技者管理登録番号 （例03004894）を記入すること。

Sheet 女・スペシャル④
U1: （様式４）
B2: =男・クラ④!B2 -> 令和８年度東北中学校体育大会 第６３回東北中学校スキー大会
B3: 種 目 別 出 場 選 手 一 覧 表
C5: 県 名 | E5: =入力用シート!D3 -> 0 | I5: 県 | L5: 男子 | P5: 女子 | R5: ○ | T5: 共通
B7: ＣＬ | J7: ＳＪ | L7: ○ | R7: ＳＬ
B8: ＦＲ | J8: ＮＣ | R8: ＧＳ
B10: ランク | D10: フリガナ | I10: フリガナ | N10: 学年 | P10: ＳＡＪ競技者管理 | V10: 備考
D11: 所属名 | I11: 氏 名 | P11: 登録番号(アルペンのみ)
B12: １ | D12: {=IFERROR(INDEX(入力用シート!$C$66:$N$105,MATCH(1,入力用シート!$M$66:$M$105,0),4),"")} | I12: {=IFERROR(INDEX(入力用シート!$C$66:$N$105,MATCH(1,入力用シート!$M$66:$M$105,0),2),"")} | N12: {=IFERROR(INDEX(入力用シート!$C$66:$N$105,MATCH(1,入力用シート!$M$66:$M$105,0),5),"")} | P12: {=IFERROR(INDEX(入力用シート!$C$66:$N$105,MATCH(1,入力用シート!$M$66:$M$105,0),6),"")&""}
D13: {=IFERROR(INDEX(入力用シート!$C$66:$N$105,MATCH(1,入力用シート!$M$66:$M$105,0),3),"")} | I13: {=IFERROR(INDEX(入力用シート!$C$66:$N$105,MATCH(1,入力用シート!$M$66:$M$105,0),1),"")}
B15: ２ | D15: {=IFERROR(INDEX(入力用シート!$C$66:$N$105,MATCH(2,入力用シート!$M$66:$M$105,0),4),"")} | I15: {=IFERROR(INDEX(入力用シート!$C$66:$N$105,MATCH(2,入力用シート!$M$66:$M$105,0),2),"")} | N15: {=IFERROR(INDEX(入力用シート!$C$66:$N$105,MATCH(2,入力用シート!$M$66:$M$105,0),5),"")} | P15: {=IFERROR(INDEX(入力用シート!$C$66:$N$105,MATCH(2,入力用シート!$M$66:$M$105,0),6),"")&""}
D16: {=IFERROR(INDEX(入力用シート!$C$66:$N$105,MATCH(2,入力用シート!$M$66:$M$105,0),3),"")} | I16: {=IFERROR(INDEX(入力用シート!$C$66:$N$105,MATCH(2,入力用シート!$M$66:$M$105,0),1),"")}
B18: ３ | D18: {=IFERROR(INDEX(入力用シート!$C$66:$N$105,MATCH(3,入力用シート!$M$66:$M$105,0),4),"")} | I18: {=IFERROR(INDEX(入力用シート!$C$66:$N$105,MATCH(3,入力用シート!$M$66:$M$105,0),2),"")} | N18: {=IFERROR(INDEX(入力用シート!$C$66:$N$105,MATCH(3,入力用シート!$M$66:$M$105,0),5),"")} | P18: {=IFERROR(INDEX(入力用シート!$C$66:$N$105,MATCH(3,入力用シート!$M$66:$M$105,0),6),"")&""}
D19: {=IFERROR(INDEX(入力用シート!$C$66:$N$105,MATCH(3,入力用シート!$M$66:$M$105,0),3),"")} | I19: {=IFERROR(INDEX(入力用シート!$C$66:$N$105,MATCH(3,入力用シート!$M$66:$M$105,0),1),"")}
B21: ４ | D21: {=IFERROR(INDEX(入力用シート!$C$66:$N$105,MATCH(4,入力用シート!$M$66:$M$105,0),4),"")} | I21: {=IFERROR(INDEX(入力用シート!$C$66:$N$105,MATCH(4,入力用シート!$M$66:$M$105,0),2),"")} | N21: {=IFERROR(INDEX(入力用シート!$C$66:$N$105,MATCH(4,入力用シート!$M$66:$M$105,0),5),"")} | P21: {=IFERROR(INDEX(入力用シート!$C$66:$N$105,MATCH(4,入力用シート!$M$66:$M$105,0),6),"")&""}
D22: {=IFERROR(INDEX(入力用シート!$C$66:$N$105,MATCH(4,入力用シート!$M$66:$M$105,0),3),"")} | I22: {=IFERROR(INDEX(入力用シート!$C$66:$N$105,MATCH(4,入力用シート!$M$66:$M$105,0),1),"")}
B24: ５ | D24: {=IFERROR(INDEX(入力用シート!$C$66:$N$105,MATCH(5,入力用シート!$M$66:$M$105,0),4),"")} | I24: {=IFERROR(INDEX(入力用シート!$C$66:$N$105,MATCH(5,入力用シート!$M$66:$M$105,0),2),"")} | N24: {=IFERROR(INDEX(入力用シート!$C$66:$N$105,MATCH(5,入力用シート!$M$66:$M$105,0),5),"")} | P24: {=IFERROR(INDEX(入力用シート!$C$66:$N$105,MATCH(5,入力用シート!$M$66:$M$105,0),6),"")&""}
D25: {=IFERROR(INDEX(入力用シート!$C$66:$N$105,MATCH(5,入力用シート!$M$66:$M$105,0),3),"")} | I25: {=IFERROR(INDEX(入力用シート!$C$66:$N$105,MATCH(5,入力用シート!$M$66:$M$105,0),1),"")}
B27: ６ | D27: {=IFERROR(INDEX(入力用シート!$C$66:$N$105,MATCH(6,入力用シート!$M$66:$M$105,0),4),"")} | I27: {=IFERROR(INDEX(入力用シート!$C$66:$N$105,MATCH(6,入力用シート!$M$66:$M$105,0),2),"")} | N27: {=IFERROR(INDEX(入力用シート!$C$66:$N$105,MATCH(6,入力用シート!$M$66:$M$105,0),5),"")} | P27: {=IFERROR(INDEX(入力用シート!$C$66:$N$105,MATCH(6,入力用シート!$M$66:$M$105,0),6),"")&""}
D28: {=IFERROR(INDEX(入力用シート!$C$66:$N$105,MATCH(6,入力用シート!$M$66:$M$105,0),3),"")} | I28: {=IFERROR(INDEX(入力用シート!$C$66:$N$105,MATCH(6,入力用シート!$M$66:$M$105,0),1),"")}
B30: ７ | D30: {=IFERROR(INDEX(入力用シート!$C$66:$N$105,MATCH(7,入力用シート!$M$66:$M$105,0),4),"")} | I30: {=IFERROR(INDEX(入力用シート!$C$66:$N$105,MATCH(7,入力用シート!$M$66:$M$105,0),2),"")} | N30: {=IFERROR(INDEX(入力用シート!$C$66:$N$105,MATCH(7,入力用シート!$M$66:$M$105,0),5),"")} | P30: {=IFERROR(INDEX(入力用シート!$C$66:$N$105,MATCH(7,入力用シート!$M$66:$M$105,0),6),"")&""}
D31: {=IFERROR(INDEX(入力用シート!$C$66:$N$105,MATCH(7,入力用シート!$M$66:$M$105,0),3),"")} | I31: {=IFERROR(INDEX(入力用シート!$C$66:$N$105,MATCH(7,入力用シート!$M$66:$M$105,0),1),"")}
B33: ８ | D33: {=IFERROR(INDEX(入力用シート!$C$66:$N$105,MATCH(8,入力用シート!$M$66:$M$105,0),4),"")} | I33: {=IFERROR(INDEX(入力用シート!$C$66:$N$105,MATCH(8,入力用シート!$M$66:$M$105,0),2),"")} | N33: {=IFERROR(INDEX(入力用シート!$C$66:$N$105,MATCH(8,入力用シート!$M$66:$M$105,0),5),"")} | P33: {=IFERROR(INDEX(入力用シート!$C$66:$N$105,MATCH(8,入力用シート!$M$66:$M$105,0),6),"")&""}
D34: {=IFERROR(INDEX(入力用シート!$C$66:$N$105,MATCH(8,入力用シート!$M$66:$M$105,0),3),"")} | I34: {=IFERROR(INDEX(入力用シート!$C$66:$N$105,MATCH(8,入力用シート!$M$66:$M$105,0),1),"")}
B36: ９ | D36: {=IFERROR(INDEX(入力用シート!$C$66:$N$105,MATCH(9,入力用シート!$M$66:$M$105,0),4),"")} | I36: {=IFERROR(INDEX(入力用シート!$C$66:$N$105,MATCH(9,入力用シート!$M$66:$M$105,0),2),"")} | N36: {=IFERROR(INDEX(入力用シート!$C$66:$N$105,MATCH(9,入力用シート!$M$66:$M$105,0),5),"")} | P36: {=IFERROR(INDEX(入力用シート!$C$66:$N$105,MATCH(9,入力用シート!$M$66:$M$105,0),6),"")&""}
D37: {=IFERROR(INDEX(入力用シート!$C$66:$N$105,MATCH(9,入力用シート!$M$66:$M$105,0),3),"")} | I37: {=IFERROR(INDEX(入力用シート!$C$66:$N$105,MATCH(9,入力用シート!$M$66:$M$105,0),1),"")}
B39: １０ | D39: {=IFERROR(INDEX(入力用シート!$C$66:$N$105,MATCH(10,入力用シート!$M$66:$M$105,0),4),"")} | I39: {=IFERROR(INDEX(入力用シート!$C$66:$N$105,MATCH(10,入力用シート!$M$66:$M$105,0),2),"")} | N39: {=IFERROR(INDEX(入力用シート!$C$66:$N$105,MATCH(10,入力用シート!$M$66:$M$105,0),5),"")} | P39: {=IFERROR(INDEX(入力用シート!$C$66:$N$105,MATCH(10,入力用シート!$M$66:$M$105,0),6),"")&""}
D40: {=IFERROR(INDEX(入力用シート!$C$66:$N$105,MATCH(10,入力用シート!$M$66:$M$105,0),3),"")} | I40: {=IFERROR(INDEX(入力用シート!$C$66:$N$105,MATCH(10,入力用シート!$M$66:$M$105,0),1),"")}
B42: １１ | D42: {=IFERROR(INDEX(入力用シート!$C$66:$N$105,MATCH(11,入力用シート!$M$66:$M$105,0),4),"")} | I42: {=IFERROR(INDEX(入力用シート!$C$66:$N$105,MATCH(11,入力用シート!$M$66:$M$105,0),2),"")} | N42: {=IFERROR(INDEX(入力用シート!$C$66:$N$105,MATCH(11,入力用シート!$M$66:$M$105,0),5),"")} | P42: {=IFERROR(INDEX(入力用シート!$C$66:$N$105,MATCH(11,入力用シート!$M$66:$M$105,0),6),"")&""}
D43: {=IFERROR(INDEX(入力用シート!$C$66:$N$105,MATCH(11,入力用シート!$M$66:$M$105,0),3),"")} | I43: {=IFERROR(INDEX(入力用シート!$C$66:$N$105,MATCH(11,入力用シート!$M$66:$M$105,0),1),"")}
B45: １２ | D45: {=IFERROR(INDEX(入力用シート!$C$66:$N$105,MATCH(12,入力用シート!$M$66:$M$105,0),4),"")} | I45: {=IFERROR(INDEX(入力用シート!$C$66:$N$105,MATCH(12,入力用シート!$M$66:$M$105,0),2),"")} | N45: {=IFERROR(INDEX(入力用シート!$C$66:$N$105,MATCH(12,入力用シート!$M$66:$M$105,0),5),"")} | P45: {=IFERROR(INDEX(入力用シート!$C$66:$N$105,MATCH(12,入力用シート!$M$66:$M$105,0),6),"")&""}
D46: {=IFERROR(INDEX(入力用シート!$C$66:$N$105,MATCH(12,入力用シート!$M$66:$M$105,0),3),"")} | I46: {=IFERROR(INDEX(入力用シート!$C$66:$N$105,MATCH(12,入力用シート!$M$66:$M$105,0),1),"")}
B48: １３ | D48: {=IFERROR(INDEX(入力用シート!$C$66:$N$105,MATCH(13,入力用シート!$M$66:$M$105,0),4),"")} | I48: {=IFERROR(INDEX(入力用シート!$C$66:$N$105,MATCH(13,入力用シート!$M$66:$M$105,0),2),"")} | N48: {=IFERROR(INDEX(入力用シート!$C$66:$N$105,MATCH(13,入力用シート!$M$66:$M$105,0),5),"")} | P48: {=IFERROR(INDEX(入力用シート!$C$66:$N$105,MATCH(13,入力用シート!$M$66:$M$105,0),6),"")&""}
D49: {=IFERROR(INDEX(入力用シート!$C$66:$N$105,MATCH(13,入力用シート!$M$66:$M$105,0),3),"")} | I49: {=IFERROR(INDEX(入力用シート!$C$66:$N$105,MATCH(13,入力用シート!$M$66:$M$105,0),1),"")}
B51: １４ | D51: {=IFERROR(INDEX(入力用シート!$C$66:$N$105,MATCH(14,入力用シート!$M$66:$M$105,0),4),"")} | I51: {=IFERROR(INDEX(入力用シート!$C$66:$N$105,MATCH(14,入力用シート!$M$66:$M$105,0),2),"")} | N51: {=IFERROR(INDEX(入力用シート!$C$66:$N$105,MATCH(14,入力用シート!$M$66:$M$105,0),5),"")} | P51: {=IFERROR(INDEX(入力用シート!$C$66:$N$105,MATCH(14,入力用シート!$M$66:$M$105,0),6),"")&""}
D52: {=IFERROR(INDEX(入力用シート!$C$66:$N$105,MATCH(14,入力用シート!$M$66:$M$105,0),3),"")} | I52: {=IFERROR(INDEX(入力用シート!$C$66:$N$105,MATCH(14,入力用シート!$M$66:$M$105,0),1),"")}
B54: １５ | D54: {=IFERROR(INDEX(入力用シート!$C$66:$N$105,MATCH(15,入力用シート!$M$66:$M$105,0),4),"")} | I54: {=IFERROR(INDEX(入力用シート!$C$66:$N$105,MATCH(15,入力用シート!$M$66:$M$105,0),2),"")} | N54: {=IFERROR(INDEX(入力用シート!$C$66:$N$105,MATCH(15,入力用シート!$M$66:$M$105,0),5),"")} | P54: {=IFERROR(INDEX(入力用シート!$C$66:$N$105,MATCH(15,入力用シート!$M$66:$M$105,0),6),"")&""}
D55: {=IFERROR(INDEX(入力用シート!$C$66:$N$105,MATCH(15,入力用シート!$M$66:$M$105,0),3),"")} | I55: {=IFERROR(INDEX(入力用シート!$C$66:$N$105,MATCH(15,入力用シート!$M$66:$M$105,0),1),"")}
B57: ・必ずランク順に記入すること。
B58: ・男女別に記入すること。種目欄に○印を記入すること。
B59: ・アルペン競技出場選手でＳＡＪ競技者管理登録をしている選手は、競技者管理登録番号 （例03004894）を記入すること。

Sheet 男・ｺﾝﾊﾞ④
U1: （様式４）
B2: =男・クラ④!B2 -> 令和８年度東北中学校体育大会 第６３回東北中学校スキー大会
B3: 種 目 別 出 場 選 手 一 覧 表
C5: 県 名 | E5: =入力用シート!D3 -> 0 | I5: 県 | L5: 男子 | N5: ○ | P5: 女子 | T5: 共通
B7: ＣＬ | J7: ＳＪ | R7: ＳＬ
B8: ＦＲ | J8: ＮＣ | L8: ○ | R8: ＧＳ
B10: ランク | D10: フリガナ | I10: フリガナ | N10: 学年 | P10: ＳＡＪ競技者管理 | V10: 備考
D11: 所属名 | I11: 氏 名 | P11: 登録番号(アルペンのみ)
B12: １ | D12: {=IFERROR(INDEX(入力用シート!$C$7:$N$105,MATCH(1,入力用シート!$N$7:$N$105,0),4),"")} | I12: {=IFERROR(INDEX(入力用シート!$C$7:$N$105,MATCH(1,入力用シート!$N$7:$N$105,0),2),"")} | N12: {=IFERROR(INDEX(入力用シート!$C$7:$N$105,MATCH(1,入力用シート!$N$7:$N$105,0),5),"")} | P12: {=IFERROR(INDEX(入力用シート!$C$7:$N$105,MATCH(1,入力用シート!$N$7:$N$105,0),6),"")&""}
D13: {=IFERROR(INDEX(入力用シート!$C$7:$N$105,MATCH(1,入力用シート!$N$7:$N$105,0),3),"")} | I13: {=IFERROR(INDEX(入力用シート!$C$7:$N$105,MATCH(1,入力用シート!$N$7:$N$105,0),1),"")}
B15: ２ | D15: {=IFERROR(INDEX(入力用シート!$C$7:$N$105,MATCH(2,入力用シート!$N$7:$N$105,0),4),"")} | I15: {=IFERROR(INDEX(入力用シート!$C$7:$N$105,MATCH(2,入力用シート!$N$7:$N$105,0),2),"")} | N15: {=IFERROR(INDEX(入力用シート!$C$7:$N$105,MATCH(2,入力用シート!$N$7:$N$105,0),5),"")} | P15: {=IFERROR(INDEX(入力用シート!$C$7:$N$105,MATCH(2,入力用シート!$N$7:$N$105,0),6),"")&""}
D16: {=IFERROR(INDEX(入力用シート!$C$7:$N$105,MATCH(2,入力用シート!$N$7:$N$105,0),3),"")} | I16: {=IFERROR(INDEX(入力用シート!$C$7:$N$105,MATCH(2,入力用シート!$N$7:$N$105,0),1),"")}
B18: ３ | D18: {=IFERROR(INDEX(入力用シート!$C$7:$N$105,MATCH(3,入力用シート!$N$7:$N$105,0),4),"")} | I18: {=IFERROR(INDEX(入力用シート!$C$7:$N$105,MATCH(3,入力用シート!$N$7:$N$105,0),2),"")} | N18: {=IFERROR(INDEX(入力用シート!$C$7:$N$105,MATCH(3,入力用シート!$N$7:$N$105,0),5),"")} | P18: {=IFERROR(INDEX(入力用シート!$C$7:$N$105,MATCH(3,入力用シート!$N$7:$N$105,0),6),"")&""}
D19: {=IFERROR(INDEX(入力用シート!$C$7:$N$105,MATCH(3,入力用シート!$N$7:$N$105,0),3),"")} | I19: {=IFERROR(INDEX(入力用シート!$C$7:$N$105,MATCH(3,入力用シート!$N$7:$N$105,0),1),"")}
B21: ４ | D21: {=IFERROR(INDEX(入力用シート!$C$7:$N$105,MATCH(4,入力用シート!$N$7:$N$105,0),4),"")} | I21: {=IFERROR(INDEX(入力用シート!$C$7:$N$105,MATCH(4,入力用シート!$N$7:$N$105,0),2),"")} | N21: {=IFERROR(INDEX(入力用シート!$C$7:$N$105,MATCH(4,入力用シート!$N$7:$N$105,0),5),"")} | P21: {=IFERROR(INDEX(入力用シート!$C$7:$N$105,MATCH(4,入力用シート!$N$7:$N$105,0),6),"")&""}
D22: {=IFERROR(INDEX(入力用シート!$C$7:$N$105,MATCH(4,入力用シート!$N$7:$N$105,0),3),"")} | I22: {=IFERROR(INDEX(入力用シート!$C$7:$N$105,MATCH(4,入力用シート!$N$7:$N$105,0),1),"")}
B24: ５ | D24: {=IFERROR(INDEX(入力用シート!$C$7:$N$105,MATCH(5,入力用シート!$N$7:$N$105,0),4),"")} | I24: {=IFERROR(INDEX(入力用シート!$C$7:$N$105,MATCH(5,入力用シート!$N$7:$N$105,0),2),"")} | N24: {=IFERROR(INDEX(入力用シート!$C$7:$N$105,MATCH(5,入力用シート!$N$7:$N$105,0),5),"")} | P24: {=IFERROR(INDEX(入力用シート!$C$7:$N$105,MATCH(5,入力用シート!$N$7:$N$105,0),6),"")&""}
D25: {=IFERROR(INDEX(入力用シート!$C$7:$N$105,MATCH(5,入力用シート!$N$7:$N$105,0),3),"")} | I25: {=IFERROR(INDEX(入力用シート!$C$7:$N$105,MATCH(5,入力用シート!$N$7:$N$105,0),1),"")}
B27: ６ | D27: {=IFERROR(INDEX(入力用シート!$C$7:$N$105,MATCH(6,入力用シート!$N$7:$N$105,0),4),"")} | I27: {=IFERROR(INDEX(入力用シート!$C$7:$N$105,MATCH(6,入力用シート!$N$7:$N$105,0),2),"")} | N27: {=IFERROR(INDEX(入力用シート!$C$7:$N$105,MATCH(6,入力用シート!$N$7:$N$105,0),5),"")} | P27: {=IFERROR(INDEX(入力用シート!$C$7:$N$105,MATCH(6,入力用シート!$N$7:$N$105,0),6),"")&""}
D28: {=IFERROR(INDEX(入力用シート!$C$7:$N$105,MATCH(6,入力用シート!$N$7:$N$105,0),3),"")} | I28: {=IFERROR(INDEX(入力用シート!$C$7:$N$105,MATCH(6,入力用シート!$N$7:$N$105,0),1),"")}
B30: ７ | D30: {=IFERROR(INDEX(入力用シート!$C$7:$N$105,MATCH(7,入力用シート!$N$7:$N$105,0),4),"")} | I30: {=IFERROR(INDEX(入力用シート!$C$7:$N$105,MATCH(7,入力用シート!$N$7:$N$105,0),2),"")} | N30: {=IFERROR(INDEX(入力用シート!$C$7:$N$105,MATCH(7,入力用シート!$N$7:$N$105,0),5),"")} | P30: {=IFERROR(INDEX(入力用シート!$C$7:$N$105,MATCH(7,入力用シート!$N$7:$N$105,0),6),"")&""}
D31: {=IFERROR(INDEX(入力用シート!$C$7:$N$105,MATCH(7,入力用シート!$N$7:$N$105,0),3),"")} | I31: {=IFERROR(INDEX(入力用シート!$C$7:$N$105,MATCH(7,入力用シート!$N$7:$N$105,0),1),"")}
B33: ８ | D33: {=IFERROR(INDEX(入力用シート!$C$7:$N$105,MATCH(8,入力用シート!$N$7:$N$105,0),4),"")} | I33: {=IFERROR(INDEX(入力用シート!$C$7:$N$105,MATCH(8,入力用シート!$N$7:$N$105,0),2),"")} | N33: {=IFERROR(INDEX(入力用シート!$C$7:$N$105,MATCH(8,入力用シート!$N$7:$N$105,0),5),"")} | P33: {=IFERROR(INDEX(入力用シート!$C$7:$N$105,MATCH(8,入力用シート!$N$7:$N$105,0),6),"")&""}
D34: {=IFERROR(INDEX(入力用シート!$C$7:$N$105,MATCH(8,入力用シート!$N$7:$N$105,0),3),"")} | I34: {=IFERROR(INDEX(入力用シート!$C$7:$N$105,MATCH(8,入力用シート!$N$7:$N$105,0),1),"")}
B36: ９ | D36: {=IFERROR(INDEX(入力用シート!$C$7:$N$105,MATCH(9,入力用シート!$N$7:$N$105,0),4),"")} | I36: {=IFERROR(INDEX(入力用シート!$C$7:$N$105,MATCH(9,入力用シート!$N$7:$N$105,0),2),"")} | N36: {=IFERROR(INDEX(入力用シート!$C$7:$N$105,MATCH(9,入力用シート!$N$7:$N$105,0),5),"")} | P36: {=IFERROR(INDEX(入力用シート!$C$7:$N$105,MATCH(9,入力用シート!$N$7:$N$105,0),6),"")&""}
D37: {=IFERROR(INDEX(入力用シート!$C$7:$N$105,MATCH(9,入力用シート!$N$7:$N$105,0),3),"")} | I37: {=IFERROR(INDEX(入力用シート!$C$7:$N$105,MATCH(9,入力用シート!$N$7:$N$105,0),1),"")}
B39: １０ | D39: {=IFERROR(INDEX(入力用シート!$C$7:$N$105,MATCH(10,入力用シート!$N$7:$N$105,0),4),"")} | I39: {=IFERROR(INDEX(入力用シート!$C$7:$N$105,MATCH(10,入力用シート!$N$7:$N$105,0),2),"")} | N39: {=IFERROR(INDEX(入力用シート!$C$7:$N$105,MATCH(10,入力用シート!$N$7:$N$105,0),5),"")} | P39: {=IFERROR(INDEX(入力用シート!$C$7:$N$105,MATCH(10,入力用シート!$N$7:$N$105,0),6),"")&""}
D40: {=IFERROR(INDEX(入力用シート!$C$7:$N$105,MATCH(10,入力用シート!$N$7:$N$105,0),3),"")} | I40: {=IFERROR(INDEX(入力用シート!$C$7:$N$105,MATCH(10,入力用シート!$N$7:$N$105,0),1),"")}
B42: １１ | D42: {=IFERROR(INDEX(入力用シート!$C$7:$N$105,MATCH(11,入力用シート!$N$7:$N$105,0),4),"")} | I42: {=IFERROR(INDEX(入力用シート!$C$7:$N$105,MATCH(11,入力用シート!$N$7:$N$105,0),2),"")} | N42: {=IFERROR(INDEX(入力用シート!$C$7:$N$105,MATCH(11,入力用シート!$N$7:$N$105,0),5),"")} | P42: {=IFERROR(INDEX(入力用シート!$C$7:$N$105,MATCH(11,入力用シート!$N$7:$N$105,0),6),"")&""}
D43: {=IFERROR(INDEX(入力用シート!$C$7:$N$105,MATCH(11,入力用シート!$N$7:$N$105,0),3),"")} | I43: {=IFERROR(INDEX(入力用シート!$C$7:$N$105,MATCH(11,入力用シート!$N$7:$N$105,0),1),"")}
B45: １２ | D45: {=IFERROR(INDEX(入力用シート!$C$7:$N$105,MATCH(12,入力用シート!$N$7:$N$105,0),4),"")} | I45: {=IFERROR(INDEX(入力用シート!$C$7:$N$105,MATCH(12,入力用シート!$N$7:$N$105,0),2),"")} | N45: {=IFERROR(INDEX(入力用シート!$C$7:$N$105,MATCH(12,入力用シート!$N$7:$N$105,0),5),"")} | P45: {=IFERROR(INDEX(入力用シート!$C$7:$N$105,MATCH(12,入力用シート!$N$7:$N$105,0),6),"")&""}
D46: {=IFERROR(INDEX(入力用シート!$C$7:$N$105,MATCH(12,入力用シート!$N$7:$N$105,0),3),"")} | I46: {=IFERROR(INDEX(入力用シート!$C$7:$N$105,MATCH(12,入力用シート!$N$7:$N$105,0),1),"")}
B48: １３ | D48: {=IFERROR(INDEX(入力用シート!$C$7:$N$105,MATCH(13,入力用シート!$N$7:$N$105,0),4),"")} | I48: {=IFERROR(INDEX(入力用シート!$C$7:$N$105,MATCH(13,入力用シート!$N$7:$N$105,0),2),"")} | N48: {=IFERROR(INDEX(入力用シート!$C$7:$N$105,MATCH(13,入力用シート!$N$7:$N$105,0),5),"")} | P48: {=IFERROR(INDEX(入力用シート!$C$7:$N$105,MATCH(13,入力用シート!$N$7:$N$105,0),6),"")&""}
D49: {=IFERROR(INDEX(入力用シート!$C$7:$N$105,MATCH(13,入力用シート!$N$7:$N$105,0),3),"")} | I49: {=IFERROR(INDEX(入力用シート!$C$7:$N$105,MATCH(13,入力用シート!$N$7:$N$105,0),1),"")}
B51: １４ | D51: {=IFERROR(INDEX(入力用シート!$C$7:$N$105,MATCH(14,入力用シート!$N$7:$N$105,0),4),"")} | I51: {=IFERROR(INDEX(入力用シート!$C$7:$N$105,MATCH(14,入力用シート!$N$7:$N$105,0),2),"")} | N51: {=IFERROR(INDEX(入力用シート!$C$7:$N$105,MATCH(14,入力用シート!$N$7:$N$105,0),5),"")} | P51: {=IFERROR(INDEX(入力用シート!$C$7:$N$105,MATCH(14,入力用シート!$N$7:$N$105,0),6),"")&""}
D52: {=IFERROR(INDEX(入力用シート!$C$7:$N$105,MATCH(14,入力用シート!$N$7:$N$105,0),3),"")} | I52: {=IFERROR(INDEX(入力用シート!$C$7:$N$105,MATCH(14,入力用シート!$N$7:$N$105,0),1),"")}
B54: １５ | D54: {=IFERROR(INDEX(入力用シート!$C$7:$N$105,MATCH(15,入力用シート!$N$7:$N$105,0),4),"")} | I54: {=IFERROR(INDEX(入力用シート!$C$7:$N$105,MATCH(15,入力用シート!$N$7:$N$105,0),2),"")} | N54: {=IFERROR(INDEX(入力用シート!$C$7:$N$105,MATCH(15,入力用シート!$N$7:$N$105,0),5),"")} | P54: {=IFERROR(INDEX(入力用シート!$C$7:$N$105,MATCH(15,入力用シート!$N$7:$N$105,0),6),"")&""}
D55: {=IFERROR(INDEX(入力用シート!$C$7:$N$105,MATCH(15,入力用シート!$N$7:$N$105,0),3),"")} | I55: {=IFERROR(INDEX(入力用シート!$C$7:$N$105,MATCH(15,入力用シート!$N$7:$N$105,0),1),"")}
B57: ・必ずランク順に記入すること。
B58: ・男女別に記入すること。種目欄に○印を記入すること。
B59: ・アルペン競技出場選手でＳＡＪ競技者管理登録をしている選手は、競技者管理登録番号 （例03004894）を記入すること。

Sheet 女・ｺﾝﾊﾞ④
U1: （様式４）
B2: =男・クラ④!B2 -> 令和８年度東北中学校体育大会 第６３回東北中学校スキー大会
B3: 種 目 別 出 場 選 手 一 覧 表
C5: 県 名 | E5: =入力用シート!D3 -> 0 | I5: 県 | L5: 男子 | P5: 女子 | R5: ○ | T5: 共通
B7: ＣＬ | J7: ＳＪ | R7: ＳＬ
B8: ＦＲ | J8: ＮＣ | L8: ○ | R8: ＧＳ
B10: ランク | D10: フリガナ | I10: フリガナ | N10: 学年 | P10: ＳＡＪ競技者管理 | V10: 備考
D11: 所属名 | I11: 氏 名 | P11: 登録番号(アルペンのみ)
B12: １ | D12: {=IFERROR(INDEX(入力用シート!$C$66:$N$105,MATCH(1,入力用シート!$N$7:$N$105,0),4),"")} | I12: {=IFERROR(INDEX(入力用シート!$C$66:$N$105,MATCH(1,入力用シート!$N$7:$N$105,0),2),"")} | N12: {=IFERROR(INDEX(入力用シート!$C$66:$N$105,MATCH(1,入力用シート!$N$7:$N$105,0),5),"")} | P12: {=IFERROR(INDEX(入力用シート!$C$66:$N$105,MATCH(1,入力用シート!$N$7:$N$105,0),6),"")&""}
D13: {=IFERROR(INDEX(入力用シート!$C$66:$N$105,MATCH(1,入力用シート!$N$7:$N$105,0),3),"")} | I13: {=IFERROR(INDEX(入力用シート!$C$66:$N$105,MATCH(1,入力用シート!$N$7:$N$105,0),1),"")}
B15: ２ | D15: {=IFERROR(INDEX(入力用シート!$C$66:$N$105,MATCH(2,入力用シート!$N$7:$N$105,0),4),"")} | I15: {=IFERROR(INDEX(入力用シート!$C$66:$N$105,MATCH(2,入力用シート!$N$7:$N$105,0),2),"")} | N15: {=IFERROR(INDEX(入力用シート!$C$66:$N$105,MATCH(2,入力用シート!$N$7:$N$105,0),5),"")} | P15: {=IFERROR(INDEX(入力用シート!$C$66:$N$105,MATCH(2,入力用シート!$N$7:$N$105,0),6),"")&""}
D16: {=IFERROR(INDEX(入力用シート!$C$66:$N$105,MATCH(2,入力用シート!$N$7:$N$105,0),3),"")} | I16: {=IFERROR(INDEX(入力用シート!$C$66:$N$105,MATCH(2,入力用シート!$N$7:$N$105,0),1),"")}
B18: ３ | D18: {=IFERROR(INDEX(入力用シート!$C$66:$N$105,MATCH(3,入力用シート!$N$7:$N$105,0),4),"")} | I18: {=IFERROR(INDEX(入力用シート!$C$66:$N$105,MATCH(3,入力用シート!$N$7:$N$105,0),2),"")} | N18: {=IFERROR(INDEX(入力用シート!$C$66:$N$105,MATCH(3,入力用シート!$N$7:$N$105,0),5),"")} | P18: {=IFERROR(INDEX(入力用シート!$C$66:$N$105,MATCH(3,入力用シート!$N$7:$N$105,0),6),"")&""}
D19: {=IFERROR(INDEX(入力用シート!$C$66:$N$105,MATCH(3,入力用シート!$N$7:$N$105,0),3),"")} | I19: {=IFERROR(INDEX(入力用シート!$C$66:$N$105,MATCH(3,入力用シート!$N$7:$N$105,0),1),"")}
B21: ４ | D21: {=IFERROR(INDEX(入力用シート!$C$66:$N$105,MATCH(4,入力用シート!$N$7:$N$105,0),4),"")} | I21: {=IFERROR(INDEX(入力用シート!$C$66:$N$105,MATCH(4,入力用シート!$N$7:$N$105,0),2),"")} | N21: {=IFERROR(INDEX(入力用シート!$C$66:$N$105,MATCH(4,入力用シート!$N$7:$N$105,0),5),"")} | P21: {=IFERROR(INDEX(入力用シート!$C$66:$N$105,MATCH(4,入力用シート!$N$7:$N$105,0),6),"")&""}
D22: {=IFERROR(INDEX(入力用シート!$C$66:$N$105,MATCH(4,入力用シート!$N$7:$N$105,0),3),"")} | I22: {=IFERROR(INDEX(入力用シート!$C$66:$N$105,MATCH(4,入力用シート!$N$7:$N$105,0),1),"")}
B24: ５ | D24: {=IFERROR(INDEX(入力用シート!$C$66:$N$105,MATCH(5,入力用シート!$N$7:$N$105,0),4),"")} | I24: {=IFERROR(INDEX(入力用シート!$C$66:$N$105,MATCH(5,入力用シート!$N$7:$N$105,0),2),"")} | N24: {=IFERROR(INDEX(入力用シート!$C$66:$N$105,MATCH(5,入力用シート!$N$7:$N$105,0),5),"")} | P24: {=IFERROR(INDEX(入力用シート!$C$66:$N$105,MATCH(5,入力用シート!$N$7:$N$105,0),6),"")&""}
D25: {=IFERROR(INDEX(入力用シート!$C$66:$N$105,MATCH(5,入力用シート!$N$7:$N$105,0),3),"")} | I25: {=IFERROR(INDEX(入力用シート!$C$66:$N$105,MATCH(5,入力用シート!$N$7:$N$105,0),1),"")}
B27: ６ | D27: {=IFERROR(INDEX(入力用シート!$C$66:$N$105,MATCH(6,入力用シート!$N$7:$N$105,0),4),"")} | I27: {=IFERROR(INDEX(入力用シート!$C$66:$N$105,MATCH(6,入力用シート!$N$7:$N$105,0),2),"")} | N27: {=IFERROR(INDEX(入力用シート!$C$66:$N$105,MATCH(6,入力用シート!$N$7:$N$105,0),5),"")} | P27: {=IFERROR(INDEX(入力用シート!$C$66:$N$105,MATCH(6,入力用シート!$N$7:$N$105,0),6),"")&""}
D28: {=IFERROR(INDEX(入力用シート!$C$66:$N$105,MATCH(6,入力用シート!$N$7:$N$105,0),3),"")} | I28: {=IFERROR(INDEX(入力用シート!$C$66:$N$105,MATCH(6,入力用シート!$N$7:$N$105,0),1),"")}
B30: ７ | D30: {=IFERROR(INDEX(入力用シート!$C$66:$N$105,MATCH(7,入力用シート!$N$7:$N$105,0),4),"")} | I30: {=IFERROR(INDEX(入力用シート!$C$66:$N$105,MATCH(7,入力用シート!$N$7:$N$105,0),2),"")} | N30: {=IFERROR(INDEX(入力用シート!$C$66:$N$105,MATCH(7,入力用シート!$N$7:$N$105,0),5),"")} | P30: {=IFERROR(INDEX(入力用シート!$C$66:$N$105,MATCH(7,入力用シート!$N$7:$N$105,0),6),"")&""}
D31: {=IFERROR(INDEX(入力用シート!$C$66:$N$105,MATCH(7,入力用シート!$N$7:$N$105,0),3),"")} | I31: {=IFERROR(INDEX(入力用シート!$C$66:$N$105,MATCH(7,入力用シート!$N$7:$N$105,0),1),"")}
B33: ８ | D33: {=IFERROR(INDEX(入力用シート!$C$66:$N$105,MATCH(8,入力用シート!$N$7:$N$105,0),4),"")} | I33: {=IFERROR(INDEX(入力用シート!$C$66:$N$105,MATCH(8,入力用シート!$N$7:$N$105,0),2),"")} | N33: {=IFERROR(INDEX(入力用シート!$C$66:$N$105,MATCH(8,入力用シート!$N$7:$N$105,0),5),"")} | P33: {=IFERROR(INDEX(入力用シート!$C$66:$N$105,MATCH(8,入力用シート!$N$7:$N$105,0),6),"")&""}
D34: {=IFERROR(INDEX(入力用シート!$C$66:$N$105,MATCH(8,入力用シート!$N$7:$N$105,0),3),"")} | I34: {=IFERROR(INDEX(入力用シート!$C$66:$N$105,MATCH(8,入力用シート!$N$7:$N$105,0),1),"")}
B36: ９ | D36: {=IFERROR(INDEX(入力用シート!$C$66:$N$105,MATCH(9,入力用シート!$N$7:$N$105,0),4),"")} | I36: {=IFERROR(INDEX(入力用シート!$C$66:$N$105,MATCH(9,入力用シート!$N$7:$N$105,0),2),"")} | N36: {=IFERROR(INDEX(入力用シート!$C$66:$N$105,MATCH(9,入力用シート!$N$7:$N$105,0),5),"")} | P36: {=IFERROR(INDEX(入力用シート!$C$66:$N$105,MATCH(9,入力用シート!$N$7:$N$105,0),6),"")&""}
D37: {=IFERROR(INDEX(入力用シート!$C$66:$N$105,MATCH(9,入力用シート!$N$7:$N$105,0),3),"")} | I37: {=IFERROR(INDEX(入力用シート!$C$66:$N$105,MATCH(9,入力用シート!$N$7:$N$105,0),1),"")}
B39: １０ | D39: {=IFERROR(INDEX(入力用シート!$C$66:$N$105,MATCH(10,入力用シート!$N$7:$N$105,0),4),"")} | I39: {=IFERROR(INDEX(入力用シート!$C$66:$N$105,MATCH(10,入力用シート!$N$7:$N$105,0),2),"")} | N39: {=IFERROR(INDEX(入力用シート!$C$66:$N$105,MATCH(10,入力用シート!$N$7:$N$105,0),5),"")} | P39: {=IFERROR(INDEX(入力用シート!$C$66:$N$105,MATCH(10,入力用シート!$N$7:$N$105,0),6),"")&""}
D40: {=IFERROR(INDEX(入力用シート!$C$66:$N$105,MATCH(10,入力用シート!$N$7:$N$105,0),3),"")} | I40: {=IFERROR(INDEX(入力用シート!$C$66:$N$105,MATCH(10,入力用シート!$N$7:$N$105,0),1),"")}
B42: １１ | D42: {=IFERROR(INDEX(入力用シート!$C$66:$N$105,MATCH(11,入力用シート!$N$7:$N$105,0),4),"")} | I42: {=IFERROR(INDEX(入力用シート!$C$66:$N$105,MATCH(11,入力用シート!$N$7:$N$105,0),2),"")} | N42: {=IFERROR(INDEX(入力用シート!$C$66:$N$105,MATCH(11,入力用シート!$N$7:$N$105,0),5),"")} | P42: {=IFERROR(INDEX(入力用シート!$C$66:$N$105,MATCH(11,入力用シート!$N$7:$N$105,0),6),"")&""}
D43: {=IFERROR(INDEX(入力用シート!$C$66:$N$105,MATCH(11,入力用シート!$N$7:$N$105,0),3),"")} | I43: {=IFERROR(INDEX(入力用シート!$C$66:$N$105,MATCH(11,入力用シート!$N$7:$N$105,0),1),"")}
B45: １２ | D45: {=IFERROR(INDEX(入力用シート!$C$66:$N$105,MATCH(12,入力用シート!$N$7:$N$105,0),4),"")} | I45: {=IFERROR(INDEX(入力用シート!$C$66:$N$105,MATCH(12,入力用シート!$N$7:$N$105,0),2),"")} | N45: {=IFERROR(INDEX(入力用シート!$C$66:$N$105,MATCH(12,入力用シート!$N$7:$N$105,0),5),"")} | P45: {=IFERROR(INDEX(入力用シート!$C$66:$N$105,MATCH(12,入力用シート!$N$7:$N$105,0),6),"")&""}
D46: {=IFERROR(INDEX(入力用シート!$C$66:$N$105,MATCH(12,入力用シート!$N$7:$N$105,0),3),"")} | I46: {=IFERROR(INDEX(入力用シート!$C$66:$N$105,MATCH(12,入力用シート!$N$7:$N$105,0),1),"")}
B48: １３ | D48: {=IFERROR(INDEX(入力用シート!$C$66:$N$105,MATCH(13,入力用シート!$N$7:$N$105,0),4),"")} | I48: {=IFERROR(INDEX(入力用シート!$C$66:$N$105,MATCH(13,入力用シート!$N$7:$N$105,0),2),"")} | N48: {=IFERROR(INDEX(入力用シート!$C$66:$N$105,MATCH(13,入力用シート!$N$7:$N$105,0),5),"")} | P48: {=IFERROR(INDEX(入力用シート!$C$66:$N$105,MATCH(13,入力用シート!$N$7:$N$105,0),6),"")&""}
D49: {=IFERROR(INDEX(入力用シート!$C$66:$N$105,MATCH(13,入力用シート!$N$7:$N$105,0),3),"")} | I49: {=IFERROR(INDEX(入力用シート!$C$66:$N$105,MATCH(13,入力用シート!$N$7:$N$105,0),1),"")}
B51: １４ | D51: {=IFERROR(INDEX(入力用シート!$C$66:$N$105,MATCH(14,入力用シート!$N$7:$N$105,0),4),"")} | I51: {=IFERROR(INDEX(入力用シート!$C$66:$N$105,MATCH(14,入力用シート!$N$7:$N$105,0),2),"")} | N51: {=IFERROR(INDEX(入力用シート!$C$66:$N$105,MATCH(14,入力用シート!$N$7:$N$105,0),5),"")} | P51: {=IFERROR(INDEX(入力用シート!$C$66:$N$105,MATCH(14,入力用シート!$N$7:$N$105,0),6),"")&""}
D52: {=IFERROR(INDEX(入力用シート!$C$66:$N$105,MATCH(14,入力用シート!$N$7:$N$105,0),3),"")} | I52: {=IFERROR(INDEX(入力用シート!$C$66:$N$105,MATCH(14,入力用シート!$N$7:$N$105,0),1),"")}
B54: １５ | D54: {=IFERROR(INDEX(入力用シート!$C$66:$N$105,MATCH(15,入力用シート!$N$7:$N$105,0),4),"")} | I54: {=IFERROR(INDEX(入力用シート!$C$66:$N$105,MATCH(15,入力用シート!$N$7:$N$105,0),2),"")} | N54: {=IFERROR(INDEX(入力用シート!$C$66:$N$105,MATCH(15,入力用シート!$N$7:$N$105,0),5),"")} | P54: {=IFERROR(INDEX(入力用シート!$C$66:$N$105,MATCH(15,入力用シート!$N$7:$N$105,0),6),"")&""}
D55: {=IFERROR(INDEX(入力用シート!$C$66:$N$105,MATCH(15,入力用シート!$N$7:$N$105,0),3),"")} | I55: {=IFERROR(INDEX(入力用シート!$C$66:$N$105,MATCH(15,入力用シート!$N$7:$N$105,0),1),"")}
B57: ・必ずランク順に記入すること。
B58: ・男女別に記入すること。種目欄に○印を記入すること。
B59: ・アルペン競技出場選手でＳＡＪ競技者管理登録をしている選手は、競技者管理登録番号 （例03004894）を記入すること。

Sheet リレー⑤
T1: （様式５） | AO1: （様式５）
B2: =男・クラ④!B2 -> 令和８年度東北中学校体育大会 第６３回東北中学校スキー大会 | W2: 令和８年度東北中学校体育大会 第６３回東北中学校スキー大会
B3: 種 目 別 出 場 選 手 一 覧 表（リレー） | W3: 種 目 別 出 場 選 手 一 覧 表（リレー）
C5: 県 名 | E5: =入力用シート!D3 -> 0 | I5: 県 | T5: Ｎｏ．１ | X5: 県 名 | Z5: =入力用シート!D3 -> 0 | AD5: 県 | AO5: Ｎｏ．２
C6: 【男子クロスカントリーリレー】 | N6: 【女子クロスカントリーリレー】 | X6: 【男子クロスカントリーリレー】 | AI6: 【女子クロスカントリーリレー】
B7: ランク | C7: フリガナ | F7: フリガナ | K7: 学年 | M7: ランク | N7: フリガナ | Q7: フリガナ | V7: 学年 | W7: ランク | X7: フリガナ | AA7: フリガナ | AF7: 学年 | AH7: ランク | AI7: フリガナ | AL7: フリガナ | AQ7: 学年
C8: 所属名 | F8: 氏 名 | N8: 所属名 | Q8: 氏 名 | X8: 所属名 | AA8: 氏 名 | AI8: 所属名 | AL8: 氏 名
B10: 1 | C10: {=IFERROR(INDEX(入力用シート!$C$7:$N$61,MATCH(11,入力用シート!$O$7:$O$61,0),3),"")} | F10: {=IFERROR(INDEX(入力用シート!$C$7:$N$61,MATCH(11,入力用シート!$O$7:$O$61,0),2),"")} | K10: {=IFERROR(INDEX(入力用シート!$C$7:$N$61,MATCH(11,入力用シート!$O$7:$O$61,0),5),"")} | M10: 1 | N10: {=IFERROR(INDEX(入力用シート!$C$66:$N$105,MATCH(11,入力用シート!$O$66:$O$105,0),3),"")} | Q10: {=IFERROR(INDEX(入力用シート!$C$66:$N$105,MATCH(11,入力用シート!$O$66:$O$105,0),2),"")} | V10: {=IFERROR(INDEX(入力用シート!$C$66:$N$105,MATCH(11,入力用シート!$O$66:$O$105,0),5),"")} | W10: 3 | X10: {=IFERROR(INDEX(入力用シート!$C$7:$N$61,MATCH(31,入力用シート!$O$7:$O$61,0),3),"")} | AA10: {=IFERROR(INDEX(入力用シート!$C$7:$N$61,MATCH(31,入力用シート!$O$7:$O$61,0),2),"")} | AF10: {=IFERROR(INDEX(入力用シート!$C$7:$N$61,MATCH(31,入力用シート!$O$7:$O$61,0),5),"")} | AH10: 3 | AI10: {=IFERROR(INDEX(入力用シート!$C$66:$N$105,MATCH(31,入力用シート!$O$66:$O$105,0),3),"")} | AL10: {=IFERROR(INDEX(入力用シート!$C$66:$N$105,MATCH(31,入力用シート!$O$66:$O$105,0),2),"")} | AQ10: {=IFERROR(INDEX(入力用シート!$C$66:$N$105,MATCH(31,入力用シート!$O$66:$O$105,0),5),"")}
F11: {=IFERROR(INDEX(入力用シート!$C$7:$N$61,MATCH(11,入力用シート!$O$7:$O$61,0),1),"")} | Q11: {=IFERROR(INDEX(入力用シート!$C$66:$N$105,MATCH(11,入力用シート!$O$66:$O$105,0),1),"")} | AA11: {=IFERROR(INDEX(入力用シート!$C$7:$N$61,MATCH(31,入力用シート!$O$7:$O$61,0),1),"")} | AL11: {=IFERROR(INDEX(入力用シート!$C$66:$N$105,MATCH(31,入力用シート!$O$66:$O$105,0),1),"")}
F13: {=IFERROR(INDEX(入力用シート!$C$7:$N$61,MATCH(12,入力用シート!$O$7:$O$61,0),2),"")} | K13: {=IFERROR(INDEX(入力用シート!$C$7:$N$61,MATCH(12,入力用シート!$O$7:$O$61,0),5),"")} | Q13: {=IFERROR(INDEX(入力用シート!$C$66:$N$105,MATCH(12,入力用シート!$O$66:$O$105,0),2),"")} | V13: {=IFERROR(INDEX(入力用シート!$C$66:$N$105,MATCH(12,入力用シート!$O$66:$O$105,0),5),"")} | AA13: {=IFERROR(INDEX(入力用シート!$C$7:$N$61,MATCH(32,入力用シート!$O$7:$O$61,0),2),"")} | AF13: {=IFERROR(INDEX(入力用シート!$C$7:$N$61,MATCH(32,入力用シート!$O$7:$O$61,0),5),"")} | AL13: {=IFERROR(INDEX(入力用シート!$C$66:$N$105,MATCH(32,入力用シート!$O$66:$O$105,0),2),"")} | AQ13: {=IFERROR(INDEX(入力用シート!$C$66:$N$105,MATCH(32,入力用シート!$O$66:$O$105,0),5),"")}
F14: {=IFERROR(INDEX(入力用シート!$C$7:$N$61,MATCH(12,入力用シート!$O$7:$O$61,0),1),"")} | Q14: {=IFERROR(INDEX(入力用シート!$C$66:$N$105,MATCH(12,入力用シート!$O$66:$O$105,0),1),"")} | AA14: {=IFERROR(INDEX(入力用シート!$C$7:$N$61,MATCH(32,入力用シート!$O$7:$O$61,0),1),"")} | AL14: {=IFERROR(INDEX(入力用シート!$C$66:$N$105,MATCH(32,入力用シート!$O$66:$O$105,0),1),"")}
F16: {=IFERROR(INDEX(入力用シート!$C$7:$N$61,MATCH(13,入力用シート!$O$7:$O$61,0),2),"")} | K16: {=IFERROR(INDEX(入力用シート!$C$7:$N$61,MATCH(13,入力用シート!$O$7:$O$61,0),5),"")} | Q16: {=IFERROR(INDEX(入力用シート!$C$66:$N$105,MATCH(13,入力用シート!$O$66:$O$105,0),2),"")} | V16: {=IFERROR(INDEX(入力用シート!$C$66:$N$105,MATCH(13,入力用シート!$O$66:$O$105,0),5),"")} | AA16: {=IFERROR(INDEX(入力用シート!$C$7:$N$61,MATCH(33,入力用シート!$O$7:$O$61,0),2),"")} | AF16: {=IFERROR(INDEX(入力用シート!$C$7:$N$61,MATCH(33,入力用シート!$O$7:$O$61,0),5),"")} | AL16: {=IFERROR(INDEX(入力用シート!$C$66:$N$105,MATCH(33,入力用シート!$O$66:$O$105,0),2),"")} | AQ16: {=IFERROR(INDEX(入力用シート!$C$66:$N$105,MATCH(33,入力用シート!$O$66:$O$105,0),5),"")}
F17: {=IFERROR(INDEX(入力用シート!$C$7:$N$61,MATCH(13,入力用シート!$O$7:$O$61,0),1),"")} | Q17: {=IFERROR(INDEX(入力用シート!$C$66:$N$105,MATCH(13,入力用シート!$O$66:$O$105,0),1),"")} | AA17: {=IFERROR(INDEX(入力用シート!$C$7:$N$61,MATCH(33,入力用シート!$O$7:$O$61,0),1),"")} | AL17: {=IFERROR(INDEX(入力用シート!$C$66:$N$105,MATCH(33,入力用シート!$O$66:$O$105,0),1),"")}
F19: {=IFERROR(INDEX(入力用シート!$C$7:$N$61,MATCH(14,入力用シート!$O$7:$O$61,0),2),"")} | K19: {=IFERROR(INDEX(入力用シート!$C$7:$N$61,MATCH(14,入力用シート!$O$7:$O$61,0),5),"")} | Q19: {=IFERROR(INDEX(入力用シート!$C$66:$N$105,MATCH(14,入力用シート!$O$66:$O$105,0),2),"")} | V19: {=IFERROR(INDEX(入力用シート!$C$66:$N$105,MATCH(14,入力用シート!$O$66:$O$105,0),5),"")} | AA19: {=IFERROR(INDEX(入力用シート!$C$7:$N$61,MATCH(34,入力用シート!$O$7:$O$61,0),2),"")} | AF19: {=IFERROR(INDEX(入力用シート!$C$7:$N$61,MATCH(34,入力用シート!$O$7:$O$61,0),5),"")} | AL19: {=IFERROR(INDEX(入力用シート!$C$66:$N$105,MATCH(34,入力用シート!$O$66:$O$105,0),2),"")} | AQ19: {=IFERROR(INDEX(入力用シート!$C$66:$N$105,MATCH(34,入力用シート!$O$66:$O$105,0),5),"")}
F20: {=IFERROR(INDEX(入力用シート!$C$7:$N$61,MATCH(14,入力用シート!$O$7:$O$61,0),1),"")} | Q20: {=IFERROR(INDEX(入力用シート!$C$66:$N$105,MATCH(14,入力用シート!$O$66:$O$105,0),1),"")} | AA20: {=IFERROR(INDEX(入力用シート!$C$7:$N$61,MATCH(34,入力用シート!$O$7:$O$61,0),1),"")} | AL20: {=IFERROR(INDEX(入力用シート!$C$66:$N$105,MATCH(34,入力用シート!$O$66:$O$105,0),1),"")}
F22: {=IFERROR(INDEX(入力用シート!$C$7:$N$61,MATCH(15,入力用シート!$O$7:$O$61,0),2),"")} | K22: {=IFERROR(INDEX(入力用シート!$C$7:$N$61,MATCH(15,入力用シート!$O$7:$O$61,0),5),"")} | Q22: {=IFERROR(INDEX(入力用シート!$C$66:$N$105,MATCH(15,入力用シート!$O$66:$O$105,0),2),"")} | V22: {=IFERROR(INDEX(入力用シート!$C$66:$N$105,MATCH(15,入力用シート!$O$66:$O$105,0),5),"")} | AA22: {=IFERROR(INDEX(入力用シート!$C$7:$N$61,MATCH(35,入力用シート!$O$7:$O$61,0),2),"")} | AF22: {=IFERROR(INDEX(入力用シート!$C$7:$N$61,MATCH(35,入力用シート!$O$7:$O$61,0),5),"")} | AL22: {=IFERROR(INDEX(入力用シート!$C$66:$N$105,MATCH(35,入力用シート!$O$66:$O$105,0),2),"")} | AQ22: {=IFERROR(INDEX(入力用シート!$C$66:$N$105,MATCH(35,入力用シート!$O$66:$O$105,0),5),"")}
F23: {=IFERROR(INDEX(入力用シート!$C$7:$N$61,MATCH(15,入力用シート!$O$7:$O$61,0),1),"")} | Q23: {=IFERROR(INDEX(入力用シート!$C$66:$N$105,MATCH(15,入力用シート!$O$66:$O$105,0),1),"")} | AA23: {=IFERROR(INDEX(入力用シート!$C$7:$N$61,MATCH(35,入力用シート!$O$7:$O$61,0),1),"")} | AL23: {=IFERROR(INDEX(入力用シート!$C$66:$N$105,MATCH(35,入力用シート!$O$66:$O$105,0),1),"")}
F25: {=IFERROR(INDEX(入力用シート!$C$7:$N$61,MATCH(16,入力用シート!$O$7:$O$61,0),2),"")} | K25: {=IFERROR(INDEX(入力用シート!$C$7:$N$61,MATCH(16,入力用シート!$O$7:$O$61,0),5),"")} | Q25: {=IFERROR(INDEX(入力用シート!$C$66:$N$105,MATCH(16,入力用シート!$O$66:$O$105,0),2),"")} | V25: {=IFERROR(INDEX(入力用シート!$C$66:$N$105,MATCH(16,入力用シート!$O$66:$O$105,0),5),"")} | AA25: {=IFERROR(INDEX(入力用シート!$C$7:$N$61,MATCH(36,入力用シート!$O$7:$O$61,0),2),"")} | AF25: {=IFERROR(INDEX(入力用シート!$C$7:$N$61,MATCH(36,入力用シート!$O$7:$O$61,0),5),"")} | AL25: {=IFERROR(INDEX(入力用シート!$C$66:$N$105,MATCH(36,入力用シート!$O$66:$O$105,0),2),"")} | AQ25: {=IFERROR(INDEX(入力用シート!$C$66:$N$105,MATCH(36,入力用シート!$O$66:$O$105,0),5),"")}
F26: {=IFERROR(INDEX(入力用シート!$C$7:$N$61,MATCH(16,入力用シート!$O$7:$O$61,0),1),"")} | Q26: {=IFERROR(INDEX(入力用シート!$C$66:$N$105,MATCH(16,入力用シート!$O$66:$O$105,0),1),"")} | AA26: {=IFERROR(INDEX(入力用シート!$C$7:$N$61,MATCH(36,入力用シート!$O$7:$O$61,0),1),"")} | AL26: {=IFERROR(INDEX(入力用シート!$C$66:$N$105,MATCH(36,入力用シート!$O$66:$O$105,0),1),"")}
F28: {=IFERROR(INDEX(入力用シート!$C$7:$N$61,MATCH(17,入力用シート!$O$7:$O$61,0),2),"")} | K28: {=IFERROR(INDEX(入力用シート!$C$7:$N$61,MATCH(17,入力用シート!$O$7:$O$61,0),5),"")} | AA28: {=IFERROR(INDEX(入力用シート!$C$7:$N$61,MATCH(37,入力用シート!$O$7:$O$61,0),2),"")} | AF28: {=IFERROR(INDEX(入力用シート!$C$7:$N$61,MATCH(37,入力用シート!$O$7:$O$61,0),5),"")}
F29: {=IFERROR(INDEX(入力用シート!$C$7:$N$61,MATCH(17,入力用シート!$O$7:$O$61,0),1),"")} | AA29: {=IFERROR(INDEX(入力用シート!$C$7:$N$61,MATCH(37,入力用シート!$O$7:$O$61,0),1),"")}
C32: 監督名 | N32: 監督名 | X32: 監督名 | AI32: 監督名
B34: ランク | C34: フリガナ | F34: フリガナ | K34: 学年 | M34: ランク | N34: フリガナ | Q34: フリガナ | V34: 学年
C35: 所属名 | F35: 氏 名 | N35: 所属名 | Q35: 氏 名
B37: 2 | C37: {=IFERROR(INDEX(入力用シート!$C$7:$N$61,MATCH(21,入力用シート!$O$7:$O$61,0),3),"")} | F37: {=IFERROR(INDEX(入力用シート!$C$7:$N$61,MATCH(21,入力用シート!$O$7:$O$61,0),2),"")} | K37: {=IFERROR(INDEX(入力用シート!$C$7:$N$61,MATCH(21,入力用シート!$O$7:$O$61,0),5),"")} | M37: 2 | N37: {=IFERROR(INDEX(入力用シート!$C$66:$N$105,MATCH(21,入力用シート!$O$66:$O$105,0),3),"")} | Q37: {=IFERROR(INDEX(入力用シート!$C$66:$N$105,MATCH(21,入力用シート!$O$66:$O$105,0),2),"")} | V37: {=IFERROR(INDEX(入力用シート!$C$66:$N$105,MATCH(21,入力用シート!$O$66:$O$105,0),5),"")}
F38: {=IFERROR(INDEX(入力用シート!$C$7:$N$61,MATCH(21,入力用シート!$O$7:$O$61,0),1),"")} | Q38: {=IFERROR(INDEX(入力用シート!$C$66:$N$105,MATCH(21,入力用シート!$O$66:$O$105,0),1),"")}
F40: {=IFERROR(INDEX(入力用シート!$C$7:$N$61,MATCH(22,入力用シート!$O$7:$O$61,0),2),"")} | K40: {=IFERROR(INDEX(入力用シート!$C$7:$N$61,MATCH(22,入力用シート!$O$7:$O$61,0),5),"")} | Q40: {=IFERROR(INDEX(入力用シート!$C$66:$N$105,MATCH(22,入力用シート!$O$66:$O$105,0),2),"")} | V40: {=IFERROR(INDEX(入力用シート!$C$66:$N$105,MATCH(22,入力用シート!$O$66:$O$105,0),5),"")}
F41: {=IFERROR(INDEX(入力用シート!$C$7:$N$61,MATCH(22,入力用シート!$O$7:$O$61,0),1),"")} | Q41: {=IFERROR(INDEX(入力用シート!$C$66:$N$105,MATCH(22,入力用シート!$O$66:$O$105,0),1),"")}
F43: {=IFERROR(INDEX(入力用シート!$C$7:$N$61,MATCH(23,入力用シート!$O$7:$O$61,0),2),"")} | K43: {=IFERROR(INDEX(入力用シート!$C$7:$N$61,MATCH(23,入力用シート!$O$7:$O$61,0),5),"")} | Q43: {=IFERROR(INDEX(入力用シート!$C$66:$N$105,MATCH(23,入力用シート!$O$66:$O$105,0),2),"")} | V43: {=IFERROR(INDEX(入力用シート!$C$66:$N$105,MATCH(23,入力用シート!$O$66:$O$105,0),5),"")}
F44: {=IFERROR(INDEX(入力用シート!$C$7:$N$61,MATCH(23,入力用シート!$O$7:$O$61,0),1),"")} | Q44: {=IFERROR(INDEX(入力用シート!$C$66:$N$105,MATCH(23,入力用シート!$O$66:$O$105,0),1),"")}
F46: {=IFERROR(INDEX(入力用シート!$C$7:$N$61,MATCH(24,入力用シート!$O$7:$O$61,0),2),"")} | K46: {=IFERROR(INDEX(入力用シート!$C$7:$N$61,MATCH(24,入力用シート!$O$7:$O$61,0),5),"")} | Q46: {=IFERROR(INDEX(入力用シート!$C$66:$N$105,MATCH(24,入力用シート!$O$66:$O$105,0),2),"")} | V46: {=IFERROR(INDEX(入力用シート!$C$66:$N$105,MATCH(24,入力用シート!$O$66:$O$105,0),5),"")}
F47: {=IFERROR(INDEX(入力用シート!$C$7:$N$61,MATCH(24,入力用シート!$O$7:$O$61,0),1),"")} | Q47: {=IFERROR(INDEX(入力用シート!$C$66:$N$105,MATCH(24,入力用シート!$O$66:$O$105,0),1),"")}
F49: {=IFERROR(INDEX(入力用シート!$C$7:$N$61,MATCH(25,入力用シート!$O$7:$O$61,0),2),"")} | K49: {=IFERROR(INDEX(入力用シート!$C$7:$N$61,MATCH(25,入力用シート!$O$7:$O$61,0),5),"")} | Q49: {=IFERROR(INDEX(入力用シート!$C$66:$N$105,MATCH(25,入力用シート!$O$66:$O$105,0),2),"")} | V49: {=IFERROR(INDEX(入力用シート!$C$66:$N$105,MATCH(25,入力用シート!$O$66:$O$105,0),5),"")}
F50: {=IFERROR(INDEX(入力用シート!$C$7:$N$61,MATCH(25,入力用シート!$O$7:$O$61,0),1),"")} | Q50: {=IFERROR(INDEX(入力用シート!$C$66:$N$105,MATCH(25,入力用シート!$O$66:$O$105,0),1),"")}
F52: {=IFERROR(INDEX(入力用シート!$C$7:$N$61,MATCH(26,入力用シート!$O$7:$O$61,0),2),"")} | K52: {=IFERROR(INDEX(入力用シート!$C$7:$N$61,MATCH(26,入力用シート!$O$7:$O$61,0),5),"")} | Q52: {=IFERROR(INDEX(入力用シート!$C$66:$N$105,MATCH(26,入力用シート!$O$66:$O$105,0),2),"")} | V52: {=IFERROR(INDEX(入力用シート!$C$66:$N$105,MATCH(26,入力用シート!$O$66:$O$105,0),5),"")}
F53: {=IFERROR(INDEX(入力用シート!$C$7:$N$61,MATCH(26,入力用シート!$O$7:$O$61,0),1),"")} | Q53: {=IFERROR(INDEX(入力用シート!$C$66:$N$105,MATCH(26,入力用シート!$O$66:$O$105,0),1),"")}
F55: {=IFERROR(INDEX(入力用シート!$C$7:$N$61,MATCH(27,入力用シート!$O$7:$O$61,0),2),"")} | K55: {=IFERROR(INDEX(入力用シート!$C$7:$N$61,MATCH(27,入力用シート!$O$7:$O$61,0),5),"")}
F56: {=IFERROR(INDEX(入力用シート!$C$7:$N$61,MATCH(27,入力用シート!$O$7:$O$61,0),1),"")}
C59: 監督名 | N59: 監督名

Sheet 参加申込集計表（県用）⑤
M1: （様式５）
B2: =男・クラ④!B2 -> 令和８年度東北中学校体育大会 第６３回東北中学校スキー大会 | M2: 参加申込集計表
B4: 県名 | C4: =入力用シート!D3&"" | F4: 専門部委員長名 | H4: =入力用シート!G3&"" | K4: 印 | M4: （№ １ ）
B6: № | C6: 所属名 | D6: 大会参加料 | H6: コース整備費 | J6: 合計金額
D7: 人数 | G7: 金額 | H7: 人数 | I7: 金額
D8: 男子 | E8: 女子 | F8: 合計
B9: 1 | D9: =COUNTIF(入力用シート!$E$7:$E$61,C9) -> 0 | E9: =COUNTIF(入力用シート!$E$66:$E$105,C9) -> 0 | F9: =IF(COUNTIF(D9:E9,"")=2,"",SUM(D9:E9)) -> 0 | G9: =IF(COUNTIF(F9,"")=1,"",F9*2000) -> 0 | I9: =IF(COUNTIF(H9,"")=1,"",H9*500) | J9: =IFERROR(IF(COUNTIF(G9,"")=1,"",I9+G9),"") | O9: =IF(COUNTIF(K9:M9,"")=3,"",N9-H9-1)
B10: 2 | D10: =COUNTIF(入力用シート!$E$7:$E$61,C10) -> 0 | E10: =COUNTIF(入力用シート!$E$66:$E$105,C10) -> 0 | F10: =IF(COUNTIF(D10:E10,"")=2,"",SUM(D10:E10)) -> 0 | G10: =IF(COUNTIF(F10,"")=1,"",F10*2000) -> 0 | I10: =IF(COUNTIF(H10,"")=1,"",H10*500) | J10: =IFERROR(IF(COUNTIF(G10,"")=1,"",I10+G10),"") | O10: =IF(COUNTIF(K10:M10,"")=3,"",N10-H10-1)
B11: 3 | D11: =COUNTIF(入力用シート!$E$7:$E$61,C11) -> 0 | E11: =COUNTIF(入力用シート!$E$66:$E$105,C11) -> 0 | F11: =IF(COUNTIF(D11:E11,"")=2,"",SUM(D11:E11)) -> 0 | G11: =IF(COUNTIF(F11,"")=1,"",F11*2000) -> 0 | I11: =IF(COUNTIF(H11,"")=1,"",H11*500) | J11: =IFERROR(IF(COUNTIF(G11,"")=1,"",I11+G11),"") | O11: =IF(COUNTIF(K11:M11,"")=3,"",N11-H11-1)
B12: 4 | D12: =COUNTIF(入力用シート!$E$7:$E$61,C12) -> 0 | E12: =COUNTIF(入力用シート!$E$66:$E$105,C12) -> 0 | F12: =IF(COUNTIF(D12:E12,"")=2,"",SUM(D12:E12)) -> 0 | G12: =IF(COUNTIF(F12,"")=1,"",F12*2000) -> 0 | I12: =IF(COUNTIF(H12,"")=1,"",H12*500) | J12: =IFERROR(IF(COUNTIF(G12,"")=1,"",I12+G12),"") | O12: =IF(COUNTIF(K12:M12,"")=3,"",N12-H12-1)
B13: 5 | D13: =COUNTIF(入力用シート!$E$7:$E$61,C13) -> 0 | E13: =COUNTIF(入力用シート!$E$66:$E$105,C13) -> 0 | F13: =IF(COUNTIF(D13:E13,"")=2,"",SUM(D13:E13)) -> 0 | G13: =IF(COUNTIF(F13,"")=1,"",F13*2000) -> 0 | I13: =IF(COUNTIF(H13,"")=1,"",H13*500) | J13: =IFERROR(IF(COUNTIF(G13,"")=1,"",I13+G13),"") | O13: =IF(COUNTIF(K13:M13,"")=3,"",N13-H13-1)
B14: 6 | D14: =COUNTIF(入力用シート!$E$7:$E$61,C14) -> 0 | E14: =COUNTIF(入力用シート!$E$66:$E$105,C14) -> 0 | F14: =IF(COUNTIF(D14:E14,"")=2,"",SUM(D14:E14)) -> 0 | G14: =IF(COUNTIF(F14,"")=1,"",F14*2000) -> 0 | I14: =IF(COUNTIF(H14,"")=1,"",H14*500) | J14: =IFERROR(IF(COUNTIF(G14,"")=1,"",I14+G14),"") | O14: =IF(COUNTIF(K14:M14,"")=3,"",N14-H14-1)
B15: 7 | D15: =COUNTIF(入力用シート!$E$7:$E$61,C15) -> 0 | E15: =COUNTIF(入力用シート!$E$66:$E$105,C15) -> 0 | F15: =IF(COUNTIF(D15:E15,"")=2,"",SUM(D15:E15)) -> 0 | G15: =IF(COUNTIF(F15,"")=1,"",F15*2000) -> 0 | I15: =IF(COUNTIF(H15,"")=1,"",H15*500) | J15: =IFERROR(IF(COUNTIF(G15,"")=1,"",I15+G15),"") | O15: =IF(COUNTIF(K15:M15,"")=3,"",N15-H15-1)
B16: 8 | D16: =COUNTIF(入力用シート!$E$7:$E$61,C16) -> 0 | E16: =COUNTIF(入力用シート!$E$66:$E$105,C16) -> 0 | F16: =IF(COUNTIF(D16:E16,"")=2,"",SUM(D16:E16)) -> 0 | G16: =IF(COUNTIF(F16,"")=1,"",F16*2000) -> 0 | I16: =IF(COUNTIF(H16,"")=1,"",H16*500) | J16: =IFERROR(IF(COUNTIF(G16,"")=1,"",I16+G16),"") | O16: =IF(COUNTIF(K16:M16,"")=3,"",N16-H16-1)
B17: 9 | D17: =COUNTIF(入力用シート!$E$7:$E$61,C17) -> 0 | E17: =COUNTIF(入力用シート!$E$66:$E$105,C17) -> 0 | F17: =IF(COUNTIF(D17:E17,"")=2,"",SUM(D17:E17)) -> 0 | G17: =IF(COUNTIF(F17,"")=1,"",F17*2000) -> 0 | I17: =IF(COUNTIF(H17,"")=1,"",H17*500) | J17: =IFERROR(IF(COUNTIF(G17,"")=1,"",I17+G17),"") | O17: =IF(COUNTIF(K17:M17,"")=3,"",N17-H17-1)
B18: 10 | D18: =COUNTIF(入力用シート!$E$7:$E$61,C18) -> 0 | E18: =COUNTIF(入力用シート!$E$66:$E$105,C18) -> 0 | F18: =IF(COUNTIF(D18:E18,"")=2,"",SUM(D18:E18)) -> 0 | G18: =IF(COUNTIF(F18,"")=1,"",F18*2000) -> 0 | I18: =IF(COUNTIF(H18,"")=1,"",H18*500) | J18: =IFERROR(IF(COUNTIF(G18,"")=1,"",I18+G18),"") | O18: =IF(COUNTIF(K18:M18,"")=3,"",N18-H18-1)
B19: 11 | D19: =COUNTIF(入力用シート!$E$7:$E$61,C19) -> 0 | E19: =COUNTIF(入力用シート!$E$66:$E$105,C19) -> 0 | F19: =IF(COUNTIF(D19:E19,"")=2,"",SUM(D19:E19)) -> 0 | G19: =IF(COUNTIF(F19,"")=1,"",F19*2000) -> 0 | I19: =IF(COUNTIF(H19,"")=1,"",H19*500) | J19: =IFERROR(IF(COUNTIF(G19,"")=1,"",I19+G19),"") | O19: =IF(COUNTIF(K19:M19,"")=3,"",N19-H19-1)
B20: 12 | D20: =COUNTIF(入力用シート!$E$7:$E$61,C20) -> 0 | E20: =COUNTIF(入力用シート!$E$66:$E$105,C20) -> 0 | F20: =IF(COUNTIF(D20:E20,"")=2,"",SUM(D20:E20)) -> 0 | G20: =IF(COUNTIF(F20,"")=1,"",F20*2000) -> 0 | I20: =IF(COUNTIF(H20,"")=1,"",H20*500) | J20: =IFERROR(IF(COUNTIF(G20,"")=1,"",I20+G20),"") | O20: =IF(COUNTIF(K20:M20,"")=3,"",N20-H20-1)
... B48: 40 | D48: =COUNTIF(入力用シート!$E$7:$E$61,C48) -> 0 | E48: =COUNTIF(入力用シート!$E$66:$E$105,C48) -> 0 | F48: =IF(COUNTIF(D48:E48,"")=2,"",SUM(D48:E48)) -> 0 | G48: =IF(COUNTIF(F48,"")=1,"",F48*2000) -> 0 | I48: =IF(COUNTIF(H48,"")=1,"",H48*500) | J48: =IFERROR(IF(COUNTIF(G48,"")=1,"",I48+G48),"") | O48: =IF(COUNTIF(K48:M48,"")=3,"",N48-H48-1)
C49: 合計 | D49: =SUM(D9:D48) -> 0 | E49: =SUM(E9:E48) -> 0 | F49: =SUM(F9:F48) -> 0 | G49: =SUM(G9:G48) -> 0 | H49: =SUM(H9:H48) -> 0 | I49: =SUM(I9:I48) -> 0 | J49: =IFERROR(IF(COUNTIF(G49,"")=1,"",I49+G49),"") -> 0

Sheet 選手名簿男子
H1: （様式６）
B2: =男・クラ④!B2 -> 令和８年度東北中学校体育大会 第６３回東北中学校スキー大会
B3: 選 手 団 名 簿
C4: 県 名 | D4: =入力用シート!D3&"" | E4: （男子）
H5: （№ １ ）
B6: № | C6: 所属名 | D6: 氏 名 | E6: 出場種目 | H6: 備 考
E7: アルペン | F7: クロカン | G7: ジャンプ
B8: 1 | C8: =入力用シート!E7&"" | D8: =入力用シート!C7&"" | E8: =IF(入力用シート!K7<>"","○",IF(入力用シート!L7<>"","○","")) | F8: =IF(入力用シート!I7<>"","○",IF(入力用シート!J7<>"","○",IF(入力用シート!O7<>"","〇",""))) | G8: =IF(入力用シート!M7<>"","○",IF(入力用シート!N7<>"","○",""))
B9: 2 | C9: =入力用シート!E8&"" | D9: =入力用シート!C8&"" | E9: =IF(入力用シート!K8<>"","○",IF(入力用シート!L8<>"","○","")) | F9: =IF(入力用シート!I8<>"","○",IF(入力用シート!J8<>"","○",IF(入力用シート!O8<>"","〇",""))) | G9: =IF(入力用シート!M8<>"","○",IF(入力用シート!N8<>"","○",""))
B10: 3 | C10: =入力用シート!E9&"" | D10: =入力用シート!C9&"" | E10: =IF(入力用シート!K9<>"","○",IF(入力用シート!L9<>"","○","")) | F10: =IF(入力用シート!I9<>"","○",IF(入力用シート!J9<>"","○",IF(入力用シート!O9<>"","〇",""))) | G10: =IF(入力用シート!M9<>"","○",IF(入力用シート!N9<>"","○",""))
B11: 4 | C11: =入力用シート!E10&"" | D11: =入力用シート!C10&"" | E11: =IF(入力用シート!K10<>"","○",IF(入力用シート!L10<>"","○","")) | F11: =IF(入力用シート!I10<>"","○",IF(入力用シート!J10<>"","○",IF(入力用シート!O10<>"","〇",""))) | G11: =IF(入力用シート!M10<>"","○",IF(入力用シート!N10<>"","○",""))
B12: 5 | C12: =入力用シート!E11&"" | D12: =入力用シート!C11&"" | E12: =IF(入力用シート!K11<>"","○",IF(入力用シート!L11<>"","○","")) | F12: =IF(入力用シート!I11<>"","○",IF(入力用シート!J11<>"","○",IF(入力用シート!O11<>"","〇",""))) | G12: =IF(入力用シート!M11<>"","○",IF(入力用シート!N11<>"","○",""))
B13: 6 | C13: =入力用シート!E12&"" | D13: =入力用シート!C12&"" | E13: =IF(入力用シート!K12<>"","○",IF(入力用シート!L12<>"","○","")) | F13: =IF(入力用シート!I12<>"","○",IF(入力用シート!J12<>"","○",IF(入力用シート!O12<>"","〇",""))) | G13: =IF(入力用シート!M12<>"","○",IF(入力用シート!N12<>"","○",""))
B14: 7 | C14: =入力用シート!E13&"" | D14: =入力用シート!C13&"" | E14: =IF(入力用シート!K13<>"","○",IF(入力用シート!L13<>"","○","")) | F14: =IF(入力用シート!I13<>"","○",IF(入力用シート!J13<>"","○",IF(入力用シート!O13<>"","〇",""))) | G14: =IF(入力用シート!M13<>"","○",IF(入力用シート!N13<>"","○",""))
B15: 8 | C15: =入力用シート!E14&"" | D15: =入力用シート!C14&"" | E15: =IF(入力用シート!K14<>"","○",IF(入力用シート!L14<>"","○","")) | F15: =IF(入力用シート!I14<>"","○",IF(入力用シート!J14<>"","○",IF(入力用シート!O14<>"","〇",""))) | G15: =IF(入力用シート!M14<>"","○",IF(入力用シート!N14<>"","○",""))
B16: 9 | C16: =入力用シート!E15&"" | D16: =入力用シート!C15&"" | E16: =IF(入力用シート!K15<>"","○",IF(入力用シート!L15<>"","○","")) | F16: =IF(入力用シート!I15<>"","○",IF(入力用シート!J15<>"","○",IF(入力用シート!O15<>"","〇",""))) | G16: =IF(入力用シート!M15<>"","○",IF(入力用シート!N15<>"","○",""))
B17: 10 | C17: =入力用シート!E16&"" | D17: =入力用シート!C16&"" | E17: =IF(入力用シート!K16<>"","○",IF(入力用シート!L16<>"","○","")) | F17: =IF(入力用シート!I16<>"","○",IF(入力用シート!J16<>"","○",IF(入力用シート!O16<>"","〇",""))) | G17: =IF(入力用シート!M16<>"","○",IF(入力用シート!N16<>"","○",""))
B18: 11 | C18: =入力用シート!E17&"" | D18: =入力用シート!C17&"" | E18: =IF(入力用シート!K17<>"","○",IF(入力用シート!L17<>"","○","")) | F18: =IF(入力用シート!I17<>"","○",IF(入力用シート!J17<>"","○",IF(入力用シート!O17<>"","〇",""))) | G18: =IF(入力用シート!M17<>"","○",IF(入力用シート!N17<>"","○",""))
B19: 12 | C19: =入力用シート!E18&"" | D19: =入力用シート!C18&"" | E19: =IF(入力用シート!K18<>"","○",IF(入力用シート!L18<>"","○","")) | F19: =IF(入力用シート!I18<>"","○",IF(入力用シート!J18<>"","○",IF(入力用シート!O18<>"","〇",""))) | G19: =IF(入力用シート!M18<>"","○",IF(入力用シート!N18<>"","○",""))
... B32: 25 | C32: =入力用シート!E31&"" | D32: =入力用シート!C31&"" | E32: =IF(入力用シート!K31<>"","○",IF(入力用シート!L31<>"","○","")) | F32: =IF(入力用シート!I31<>"","○",IF(入力用シート!J31<>"","○",IF(入力用シート!O31<>"","〇",""))) | G32: =IF(入力用シート!M31<>"","○",IF(入力用シート!N31<>"","○",""))
B33: ※出場種目の〇印を確認して下さい。
H34: （様式６）
B35: =B2 -> 令和８年度東北中学校体育大会 第６３回東北中学校スキー大会
B36: 選 手 団 名 簿
C37: 県 名 | D37: =入力用シート!D3&"" | E37: （男子）
H38: （№ ２ ）
B39: № | C39: 所属名 | D39: 氏 名 | E39: 出場種目 | H39: 備 考
E40: アルペン | F40: クロカン | G40: ジャンプ
B41: 26 | C41: =入力用シート!E32&"" | D41: =入力用シート!C32&"" | E41: =IF(入力用シート!K32<>"","○",IF(入力用シート!L32<>"","○","")) | F41: =IF(入力用シート!I32<>"","○",IF(入力用シート!J32<>"","○",IF(入力用シート!O32<>"","〇",""))) | G41: =IF(入力用シート!M32<>"","○",IF(入力用シート!N32<>"","○",""))
B42: 27 | C42: =入力用シート!E33&"" | D42: =入力用シート!C33&"" | E42: =IF(入力用シート!K33<>"","○",IF(入力用シート!L33<>"","○","")) | F42: =IF(入力用シート!I33<>"","○",IF(入力用シート!J33<>"","○",IF(入力用シート!O33<>"","〇",""))) | G42: =IF(入力用シート!M33<>"","○",IF(入力用シート!N33<>"","○",""))
B43: 28 | C43: =入力用シート!E34&"" | D43: =入力用シート!C34&"" | E43: =IF(入力用シート!K34<>"","○",IF(入力用シート!L34<>"","○","")) | F43: =IF(入力用シート!I34<>"","○",IF(入力用シート!J34<>"","○",IF(入力用シート!O34<>"","〇",""))) | G43: =IF(入力用シート!M34<>"","○",IF(入力用シート!N34<>"","○",""))
B44: 29 | C44: =入力用シート!E35&"" | D44: =入力用シート!C35&"" | E44: =IF(入力用シート!K35<>"","○",IF(入力用シート!L35<>"","○","")) | F44: =IF(入力用シート!I35<>"","○",IF(入力用シート!J35<>"","○",IF(入力用シート!O35<>"","〇",""))) | G44: =IF(入力用シート!M35<>"","○",IF(入力用シート!N35<>"","○",""))
B45: 30 | C45: =入力用シート!E36&"" | D45: =入力用シート!C36&"" | E45: =IF(入力用シート!K36<>"","○",IF(入力用シート!L36<>"","○","")) | F45: =IF(入力用シート!I36<>"","○",IF(入力用シート!J36<>"","○",IF(入力用シート!O36<>"","〇",""))) | G45: =IF(入力用シート!M36<>"","○",IF(入力用シート!N36<>"","○",""))
B46: 31 | C46: =入力用シート!E37&"" | D46: =入力用シート!C37&"" | E46: =IF(入力用シート!K37<>"","○",IF(入力用シート!L37<>"","○","")) | F46: =IF(入力用シート!I37<>"","○",IF(入力用シート!J37<>"","○",IF(入力用シート!O37<>"","〇",""))) | G46: =IF(入力用シート!M37<>"","○",IF(入力用シート!N37<>"","○",""))
B47: 32 | C47: =入力用シート!E38&"" | D47: =入力用シート!C38&"" | E47: =IF(入力用シート!K38<>"","○",IF(入力用シート!L38<>"","○","")) | F47: =IF(入力用シート!I38<>"","○",IF(入力用シート!J38<>"","○",IF(入力用シート!O38<>"","〇",""))) | G47: =IF(入力用シート!M38<>"","○",IF(入力用シート!N38<>"","○",""))
B48: 33 | C48: =入力用シート!E39&"" | D48: =入力用シート!C39&"" | E48: =IF(入力用シート!K39<>"","○",IF(入力用シート!L39<>"","○","")) | F48: =IF(入力用シート!I39<>"","○",IF(入力用シート!J39<>"","○",IF(入力用シート!O39<>"","〇",""))) | G48: =IF(入力用シート!M39<>"","○",IF(入力用シート!N39<>"","○",""))
B49: 34 | C49: =入力用シート!E40&"" | D49: =入力用シート!C40&"" | E49: =IF(入力用シート!K40<>"","○",IF(入力用シート!L40<>"","○","")) | F49: =IF(入力用シート!I40<>"","○",IF(入力用シート!J40<>"","○",IF(入力用シート!O40<>"","〇",""))) | G49: =IF(入力用シート!M40<>"","○",IF(入力用シート!N40<>"","○",""))
B50: 35 | C50: =入力用シート!E41&"" | D50: =入力用シート!C41&"" | E50: =IF(入力用シート!K41<>"","○",IF(入力用シート!L41<>"","○","")) | F50: =IF(入力用シート!I41<>"","○",IF(入力用シート!J41<>"","○",IF(入力用シート!O41<>"","〇",""))) | G50: =IF(入力用シート!M41<>"","○",IF(入力用シート!N41<>"","○",""))
B51: 36 | C51: =入力用シート!E42&"" | D51: =入力用シート!C42&"" | E51: =IF(入力用シート!K42<>"","○",IF(入力用シート!L42<>"","○","")) | F51: =IF(入力用シート!I42<>"","○",IF(入力用シート!J42<>"","○",IF(入力用シート!O42<>"","〇",""))) | G51: =IF(入力用シート!M42<>"","○",IF(入力用シート!N42<>"","○",""))
B52: 37 | C52: =入力用シート!E43&"" | D52: =入力用シート!C43&"" | E52: =IF(入力用シート!K43<>"","○",IF(入力用シート!L43<>"","○","")) | F52: =IF(入力用シート!I43<>"","○",IF(入力用シート!J43<>"","○",IF(入力用シート!O43<>"","〇",""))) | G52: =IF(入力用シート!M43<>"","○",IF(入力用シート!N43<>"","○",""))
... B65: 50 | C65: =入力用シート!E56&"" | D65: =入力用シート!C56&"" | E65: =IF(入力用シート!K56<>"","○",IF(入力用シート!L56<>"","○","")) | F65: =IF(入力用シート!I56<>"","○",IF(入力用シート!J56<>"","○",IF(入力用シート!O56<>"","〇",""))) | G65: =IF(入力用シート!M56<>"","○",IF(入力用シート!N56<>"","○",""))
B66: ※出場種目の〇印を確認して下さい。
H67: （様式６）
B68: =B2 -> 令和８年度東北中学校体育大会 第６３回東北中学校スキー大会
B69: 選 手 団 名 簿
C70: 県 名 | D70: =入力用シート!D3&"" | E70: （男子）
H71: （№ ３ ）
B72: № | C72: 所属名 | D72: 氏 名 | E72: 出場種目 | H72: 備 考
E73: アルペン | F73: クロカン | G73: ジャンプ
B74: 51 | C74: =入力用シート!E57&"" | D74: =入力用シート!C57&"" | E74: =IF(入力用シート!K57<>"","○",IF(入力用シート!L57<>"","○","")) | F74: =IF(入力用シート!I57<>"","○",IF(入力用シート!J57<>"","○",IF(入力用シート!O57<>"","〇",""))) | G74: =IF(入力用シート!M57<>"","○",IF(入力用シート!N57<>"","○",""))
B75: 52 | C75: =入力用シート!E58&"" | D75: =入力用シート!C58&"" | E75: =IF(入力用シート!K58<>"","○",IF(入力用シート!L58<>"","○","")) | F75: =IF(入力用シート!I58<>"","○",IF(入力用シート!J58<>"","○",IF(入力用シート!O58<>"","〇",""))) | G75: =IF(入力用シート!M58<>"","○",IF(入力用シート!N58<>"","○",""))
B76: 53 | C76: =入力用シート!E59&"" | D76: =入力用シート!C59&"" | E76: =IF(入力用シート!K59<>"","○",IF(入力用シート!L59<>"","○","")) | F76: =IF(入力用シート!I59<>"","○",IF(入力用シート!J59<>"","○",IF(入力用シート!O59<>"","〇",""))) | G76: =IF(入力用シート!M59<>"","○",IF(入力用シート!N59<>"","○",""))
B77: 54 | C77: =入力用シート!E60&"" | D77: =入力用シート!C60&"" | E77: =IF(入力用シート!K60<>"","○",IF(入力用シート!L60<>"","○","")) | F77: =IF(入力用シート!I60<>"","○",IF(入力用シート!J60<>"","○",IF(入力用シート!O60<>"","〇",""))) | G77: =IF(入力用シート!M60<>"","○",IF(入力用シート!N60<>"","○",""))
B78: 55 | C78: =入力用シート!E61&"" | D78: =入力用シート!C61&"" | E78: =IF(入力用シート!K61<>"","○",IF(入力用シート!L61<>"","○","")) | F78: =IF(入力用シート!I61<>"","○",IF(入力用シート!J61<>"","○",IF(入力用シート!O61<>"","〇",""))) | G78: =IF(入力用シート!M61<>"","○",IF(入力用シート!N61<>"","○",""))
B79: 56
B80: 57
B81: 58
B82: 59
B83: 60
B84: 61
B85: 62
B86: 63
B87: 64
B88: 65
B89: 66
B90: 67
... B98: 75
B99: ※出場種目の〇印を確認して下さい。

Sheet 選手名簿女子
H1: （様式６）
B2: =男・クラ④!B2 -> 令和８年度東北中学校体育大会 第６３回東北中学校スキー大会
B3: 選 手 団 名 簿
C4: 県 名 | D4: =入力用シート!D3&"" | E4: （女子）
H5: （№ １ ）
B6: № | C6: 所属名 | D6: 氏 名 | E6: 出場種目 | H6: 備 考
E7: アルペン | F7: クロカン | G7: ジャンプ
B8: 1 | C8: =入力用シート!E66&"" | D8: =入力用シート!C66&"" | E8: =IF(入力用シート!K66<>"","○",IF(入力用シート!L66<>"","○","")) | F8: =IF(入力用シート!I66<>"","○",IF(入力用シート!J66<>"","○",IF(入力用シート!O66<>"","〇",""))) | G8: =IF(入力用シート!M66<>"","○",IF(入力用シート!N66<>"","○",""))
B9: 2 | C9: =入力用シート!E67&"" | D9: =入力用シート!C67&"" | E9: =IF(入力用シート!K67<>"","○",IF(入力用シート!L67<>"","○","")) | F9: =IF(入力用シート!I67<>"","○",IF(入力用シート!J67<>"","○",IF(入力用シート!O67<>"","〇",""))) | G9: =IF(入力用シート!M67<>"","○",IF(入力用シート!N67<>"","○",""))
B10: 3 | C10: =入力用シート!E68&"" | D10: =入力用シート!C68&"" | E10: =IF(入力用シート!K68<>"","○",IF(入力用シート!L68<>"","○","")) | F10: =IF(入力用シート!I68<>"","○",IF(入力用シート!J68<>"","○",IF(入力用シート!O68<>"","〇",""))) | G10: =IF(入力用シート!M68<>"","○",IF(入力用シート!N68<>"","○",""))
B11: 4 | C11: =入力用シート!E69&"" | D11: =入力用シート!C69&"" | E11: =IF(入力用シート!K69<>"","○",IF(入力用シート!L69<>"","○","")) | F11: =IF(入力用シート!I69<>"","○",IF(入力用シート!J69<>"","○",IF(入力用シート!O69<>"","〇",""))) | G11: =IF(入力用シート!M69<>"","○",IF(入力用シート!N69<>"","○",""))
B12: 5 | C12: =入力用シート!E70&"" | D12: =入力用シート!C70&"" | E12: =IF(入力用シート!K70<>"","○",IF(入力用シート!L70<>"","○","")) | F12: =IF(入力用シート!I70<>"","○",IF(入力用シート!J70<>"","○",IF(入力用シート!O70<>"","〇",""))) | G12: =IF(入力用シート!M70<>"","○",IF(入力用シート!N70<>"","○",""))
B13: 6 | C13: =入力用シート!E71&"" | D13: =入力用シート!C71&"" | E13: =IF(入力用シート!K71<>"","○",IF(入力用シート!L71<>"","○","")) | F13: =IF(入力用シート!I71<>"","○",IF(入力用シート!J71<>"","○",IF(入力用シート!O71<>"","〇",""))) | G13: =IF(入力用シート!M71<>"","○",IF(入力用シート!N71<>"","○",""))
B14: 7 | C14: =入力用シート!E72&"" | D14: =入力用シート!C72&"" | E14: =IF(入力用シート!K72<>"","○",IF(入力用シート!L72<>"","○","")) | F14: =IF(入力用シート!I72<>"","○",IF(入力用シート!J72<>"","○",IF(入力用シート!O72<>"","〇",""))) | G14: =IF(入力用シート!M72<>"","○",IF(入力用シート!N72<>"","○",""))
B15: 8 | C15: =入力用シート!E73&"" | D15: =入力用シート!C73&"" | E15: =IF(入力用シート!K73<>"","○",IF(入力用シート!L73<>"","○","")) | F15: =IF(入力用シート!I73<>"","○",IF(入力用シート!J73<>"","○",IF(入力用シート!O73<>"","〇",""))) | G15: =IF(入力用シート!M73<>"","○",IF(入力用シート!N73<>"","○",""))
B16: 9 | C16: =入力用シート!E74&"" | D16: =入力用シート!C74&"" | E16: =IF(入力用シート!K74<>"","○",IF(入力用シート!L74<>"","○","")) | F16: =IF(入力用シート!I74<>"","○",IF(入力用シート!J74<>"","○",IF(入力用シート!O74<>"","〇",""))) | G16: =IF(入力用シート!M74<>"","○",IF(入力用シート!N74<>"","○",""))
B17: 10 | C17: =入力用シート!E75&"" | D17: =入力用シート!C75&"" | E17: =IF(入力用シート!K75<>"","○",IF(入力用シート!L75<>"","○","")) | F17: =IF(入力用シート!I75<>"","○",IF(入力用シート!J75<>"","○",IF(入力用シート!O75<>"","〇",""))) | G17: =IF(入力用シート!M75<>"","○",IF(入力用シート!N75<>"","○",""))
B18: 11 | C18: =入力用シート!E76&"" | D18: =入力用シート!C76&"" | E18: =IF(入力用シート!K76<>"","○",IF(入力用シート!L76<>"","○","")) | F18: =IF(入力用シート!I76<>"","○",IF(入力用シート!J76<>"","○",IF(入力用シート!O76<>"","〇",""))) | G18: =IF(入力用シート!M76<>"","○",IF(入力用シート!N76<>"","○",""))
B19: 12 | C19: =入力用シート!E77&"" | D19: =入力用シート!C77&"" | E19: =IF(入力用シート!K77<>"","○",IF(入力用シート!L77<>"","○","")) | F19: =IF(入力用シート!I77<>"","○",IF(入力用シート!J77<>"","○",IF(入力用シート!O77<>"","〇",""))) | G19: =IF(入力用シート!M77<>"","○",IF(入力用シート!N77<>"","○",""))
... B32: 25 | C32: =入力用シート!E90&"" | D32: =入力用シート!C90&"" | E32: =IF(入力用シート!K90<>"","○",IF(入力用シート!L90<>"","○","")) | F32: =IF(入力用シート!I90<>"","○",IF(入力用シート!J90<>"","○",IF(入力用シート!O90<>"","〇",""))) | G32: =IF(入力用シート!M90<>"","○",IF(入力用シート!N90<>"","○",""))
B33: ※出場種目の〇印を確認して下さい。
H34: （様式６）
B35: =B2 -> 令和８年度東北中学校体育大会 第６３回東北中学校スキー大会
B36: 選 手 団 名 簿
C37: 県 名 | D37: =入力用シート!D3&"" | E37: （女子）
H38: （№ ２ ）
B39: № | C39: 所属名 | D39: 氏 名 | E39: 出場種目 | H39: 備 考
E40: アルペン | F40: クロカン | G40: ジャンプ
B41: 26 | C41: =入力用シート!E91&"" | D41: =入力用シート!C91&"" | E41: =IF(入力用シート!K91<>"","○",IF(入力用シート!L91<>"","○","")) | F41: =IF(入力用シート!I91<>"","○",IF(入力用シート!J91<>"","○",IF(入力用シート!O91<>"","〇",""))) | G41: =IF(入力用シート!M91<>"","○",IF(入力用シート!N91<>"","○",""))
B42: 27 | C42: =入力用シート!E92&"" | D42: =入力用シート!C92&"" | E42: =IF(入力用シート!K92<>"","○",IF(入力用シート!L92<>"","○","")) | F42: =IF(入力用シート!I92<>"","○",IF(入力用シート!J92<>"","○",IF(入力用シート!O92<>"","〇",""))) | G42: =IF(入力用シート!M92<>"","○",IF(入力用シート!N92<>"","○",""))
B43: 28 | C43: =入力用シート!E93&"" | D43: =入力用シート!C93&"" | E43: =IF(入力用シート!K93<>"","○",IF(入力用シート!L93<>"","○","")) | F43: =IF(入力用シート!I93<>"","○",IF(入力用シート!J93<>"","○",IF(入力用シート!O93<>"","〇",""))) | G43: =IF(入力用シート!M93<>"","○",IF(入力用シート!N93<>"","○",""))
B44: 29 | C44: =入力用シート!E94&"" | D44: =入力用シート!C94&"" | E44: =IF(入力用シート!K94<>"","○",IF(入力用シート!L94<>"","○","")) | F44: =IF(入力用シート!I94<>"","○",IF(入力用シート!J94<>"","○",IF(入力用シート!O94<>"","〇",""))) | G44: =IF(入力用シート!M94<>"","○",IF(入力用シート!N94<>"","○",""))
B45: 30 | C45: =入力用シート!E95&"" | D45: =入力用シート!C95&"" | E45: =IF(入力用シート!K95<>"","○",IF(入力用シート!L95<>"","○","")) | F45: =IF(入力用シート!I95<>"","○",IF(入力用シート!J95<>"","○",IF(入力用シート!O95<>"","〇",""))) | G45: =IF(入力用シート!M95<>"","○",IF(入力用シート!N95<>"","○",""))
B46: 31 | C46: =入力用シート!E96&"" | D46: =入力用シート!C96&"" | E46: =IF(入力用シート!K96<>"","○",IF(入力用シート!L96<>"","○","")) | F46: =IF(入力用シート!I96<>"","○",IF(入力用シート!J96<>"","○",IF(入力用シート!O96<>"","〇",""))) | G46: =IF(入力用シート!M96<>"","○",IF(入力用シート!N96<>"","○",""))
B47: 32 | C47: =入力用シート!E97&"" | D47: =入力用シート!C97&"" | E47: =IF(入力用シート!K97<>"","○",IF(入力用シート!L97<>"","○","")) | F47: =IF(入力用シート!I97<>"","○",IF(入力用シート!J97<>"","○",IF(入力用シート!O97<>"","〇",""))) | G47: =IF(入力用シート!M97<>"","○",IF(入力用シート!N97<>"","○",""))
B48: 33 | C48: =入力用シート!E98&"" | D48: =入力用シート!C98&"" | E48: =IF(入力用シート!K98<>"","○",IF(入力用シート!L98<>"","○","")) | F48: =IF(入力用シート!I98<>"","○",IF(入力用シート!J98<>"","○",IF(入力用シート!O98<>"","〇",""))) | G48: =IF(入力用シート!M98<>"","○",IF(入力用シート!N98<>"","○",""))
B49: 34 | C49: =入力用シート!E99&"" | D49: =入力用シート!C99&"" | E49: =IF(入力用シート!K99<>"","○",IF(入力用シート!L99<>"","○","")) | F49: =IF(入力用シート!I99<>"","○",IF(入力用シート!J99<>"","○",IF(入力用シート!O99<>"","〇",""))) | G49: =IF(入力用シート!M99<>"","○",IF(入力用シート!N99<>"","○",""))
B50: 35 | C50: =入力用シート!E100&"" | D50: =入力用シート!C100&"" | E50: =IF(入力用シート!K100<>"","○",IF(入力用シート!L100<>"","○","")) | F50: =IF(入力用シート!I100<>"","○",IF(入力用シート!J100<>"","○",IF(入力用シート!O100<>"","〇",""))) | G50: =IF(入力用シート!M100<>"","○",IF(入力用シート!N100<>"","○",""))
B51: 36 | C51: =入力用シート!E101&"" | D51: =入力用シート!C101&"" | E51: =IF(入力用シート!K101<>"","○",IF(入力用シート!L101<>"","○","")) | F51: =IF(入力用シート!I101<>"","○",IF(入力用シート!J101<>"","○",IF(入力用シート!O101<>"","〇",""))) | G51: =IF(入力用シート!M101<>"","○",IF(入力用シート!N101<>"","○",""))
B52: 37 | C52: =入力用シート!E102&"" | D52: =入力用シート!C102&"" | E52: =IF(入力用シート!K102<>"","○",IF(入力用シート!L102<>"","○","")) | F52: =IF(入力用シート!I102<>"","○",IF(入力用シート!J102<>"","○",IF(入力用シート!O102<>"","〇",""))) | G52: =IF(入力用シート!M102<>"","○",IF(入力用シート!N102<>"","○",""))
... B55: 40 | C55: =入力用シート!E105&"" | D55: =入力用シート!C105&"" | E55: =IF(入力用シート!K105<>"","○",IF(入力用シート!L105<>"","○","")) | F55: =IF(入力用シート!I105<>"","○",IF(入力用シート!J105<>"","○",IF(入力用シート!O105<>"","〇",""))) | G55: =IF(入力用シート!M105<>"","○",IF(入力用シート!N105<>"","○",""))
B56: 41
B57: 42
B58: 43
B59: 44
B60: 45
B61: 46
B62: 47
B63: 48
B64: 49
B65: 50
B66: ※出場種目の〇印を確認して下さい。
